Workbook
Name Annat_område: 'Gårdens info'!$G$57
Name HÄRIFRÅN_KOMMER_DU_TILL_KALKYLERNA: INLEDNING!$B$62

Sheet INLEDNING
B62: HÄRIFRÅN_KOMMER_DU_TILL_KALKYLERNA

Sheet Gårdens info
B2: AREALER
B4: Du kan fylla i din egen gårds arealer och medelskördar i de ljusblåa rutorna i tabellen nedan. De övriga rutorna innehåller formler, ifall du byter ut innehåller i dessa rutor fungerar kalkylbladet inte som det skall.
B6: Genom att klicka på växtens namn kan du förflytta dig till det växtspecifika kalkylbladet.
B8: POTATIS | D8: AREAL | G8: SÅLD SKÖRD
B9: POTATIS | D9: 10 | E9: ha | G9: 30000 | H9: kg/ha | K9: =IF(AND(D9=0, G9>0),"HUOM! Ei voi olla satoa, jos ei ole viljelyalaa!", " ") | P9: =IF(AND(F9=0, I9>0),"HUOM! Satoa ei voi tulla, mikäli kokonaisala on 0 ha. Korjaathan sadon nollaksi!"," ")
B11: FRILANDSGRÖNSAKER | D11: AREAL | G11: SÅLD SKÖRD
B12: MOROT | D12: 10 | E12: ha | G12: 60000 | H12: kg/ha | K12: =IF(AND(D12=0, G12>0),"HUOM! Ei voi olla satoa, jos ei ole viljelyalaa!", " ") | P12: =IF(AND(F12=0, I12>0),"HUOM! Satoa ei voi tulla, mikäli kokonaisala on 0 ha. Korjaathan sadon nollaksi!"," ")
B13: KÅL | D13: 10 | E13: ha | G13: 50000 | H13: kg/ha | K13: =IF(AND(D13=0, G13>0),"HUOM! Ei voi olla satoa, jos ei ole viljelyalaa!", " ")
B14: LÖK | D14: 2 | E14: ha | G14: 40000 | H14: kg/ha | K14: =IF(AND(D14=0, G14>0),"HUOM! Ei voi olla satoa, jos ei ole viljelyalaa!", " ")
B15: SÄTTLÖK | D15: 5 | E15: ha | G15: 35000 | H15: kg/ha | K15: =IF(AND(D15=0, G15>0),"HUOM! Ei voi olla satoa, jos ei ole viljelyalaa!", " ")
B16: TRÄDGÅRSÄRT | D16: 2 | E16: ha | G16: 4000 | H16: kg/ha | K16: =IF(AND(D16=0, G16>0),"HUOM! Ei voi olla satoa, jos ei ole viljelyalaa!", " ")
B17: GRÖNSAK FRÅN FRÖ 1 | D17: 0 | E17: ha | G17: 0 | H17: kg/ha | K17: =IF(AND(D17=0, G17>0),"HUOM! Ei voi olla satoa, jos ei ole viljelyalaa!", " ")
B18: GRÖNSAK FRÅN FRÖ 2 | D18: 0 | E18: ha | G18: 0 | H18: kg/ha | K18: =IF(AND(D18=0, G18>0),"HUOM! Ei voi olla satoa, jos ei ole viljelyalaa!", " ")
B19: GRÖNSAK PLANTERAD 1 | D19: 0 | E19: ha | G19: 0 | H19: kg/ha | K19: =IF(AND(D19=0, G19>0),"HUOM! Ei voi olla satoa, jos ei ole viljelyalaa!", " ") | R19: BÄR OCH FRUKT | S19: Hela arealen | U19: Etableringsareal | W19: Förkultiveringsareal | Y19: Skördeareal | AA19: Avslutande areal
B20: GRÖNSAK PLANTERAD 2 | D20: 0 | E20: ha | G20: 0 | H20: kg/ha | K20: =IF(AND(D20=0, G20>0),"HUOM! Ei voi olla satoa, jos ei ole viljelyalaa!", " ") | R20: JORDGUBBE FRILAND | S20: =U20+W20+Y20+AA20 -> 5 | T20: ha | U20: 1 | V20: ha | X20: ha | Y20: 4 | Z20: ha | AB20: ha
B21: GRÖNSAK PLANTERAD 3 | D21: 0 | E21: ha | G21: 0 | H21: kg/ha | K21: =IF(AND(D21=0, G21>0),"HUOM! Ei voi olla satoa, jos ei ole viljelyalaa!", " ") | R21: Skörd | S21: =(U21*U20+W21*W20+Y21*Y20+AA21*AA20)/S20 -> 3400 | T21: kg/ha | U21: 3000 | V21: kg/ha | X21: kg/ha | Y21: 3500 | Z21: kg/ha | AB21: kg/ha
B23: FÖRKULTIVERING AV KÅL | D23: 0 | E23: m2 | G23: 46000 | H23: kpl
B24: ANVÄNDNING AV INSÄKTSNÄT | D24: Separat kalkyl, kål som exempelgröda
B26: BÄR OCH FRUKT | D26: AREAL | G26: SÅLD SKÖRD | I26: SKÖRDEÅR | K26: FÖRKULTIVERINGSÅR | R26: JORDGUBBE TUNNEL | S26: =U26+W26+Y26+AA26 -> 1 | T26: ha | V26: ha | X26: ha | Y26: 1 | Z26: ha | AB26: ha
B27: Fleråriga växters helhetsareal består av växter i olika växtskeden: planteringsareal, etableringsareal och skördeareal. Varje växtskede har sin egen skördenivå. Genom att klicka på stjärnan före växtnamnet kan du redigera arealer och skördar. I punkten för såld skörd finns ett vägt medeltal för medelskörden för de olika växtskedena. Denna medelskörd används i beräkningarna som skörd. | R27: Skörd | S27: =(U27*U26+W27*W26+Y27*Y26+AA27*AA26)/S26 -> 8000 | T27: kg/ha | V27: kg/ha | X27: kg/ha | Y27: 8000 | Z27: kg/ha | AB27: kg/ha
A28: ☆ | B28: JORDGUBBE FRILAND | D28: 3 | E28: ha | G28: =IF(S20>0,S21,0) -> 3400 | H28: kg/ha | I28: 3 | J28: år
A29: ☆ | B29: JORDGUBBE TUNNEL | D29: 0 | E29: ha | G29: =IF(S26>0,S27,0) -> 8000 | H29: kg/ha | I29: 1 | J29: år | R29: HALLON FRILAND | S29: =U29+W29+Y29+AA29 -> 4 | T29: ha | U29: 0.5 | V29: ha | W29: 0.5 | X29: ha | Y29: 3 | Z29: ha | AB29: ha
A30: ☆ | B30: HALLON FRILAND | D30: 0 | E30: ha | G30: =IF(S29>S273,S30,0) -> 2375 | H30: kg/ha | I30: 8 | J30: år | R30: Skörd | S30: =(U30*U29+W30*W29+Y30*Y29+AA30*AA29)/S29 -> 2375 | T30: kg/ha | V30: kg/ha | W30: 1000 | X30: kg/ha | Y30: 3000 | Z30: kg/ha | AB30: kg/ha
A31: ☆ | B31: HALLON TUNNEL | D31: 0 | E31: ha | G31: =IF(S32>S274,S33,0) -> 4500 | H31: kg/ha | I31: 1 | J31: år
A32: ☆ | B32: SVARTA VINBÄR | D32: 0 | E32: ha | G32: =IF(S35>0,S36,0) -> 5800 | H32: kg/ha | I32: 10 | J32: år | K32: 2 | L32: år | R32: HALLON TUNNEL | S32: =U32+W32+Y32+AA32 -> 1 | T32: ha | V32: ha | X32: ha | Y32: 1 | Z32: ha | AB32: ha
A33: ☆ | B33: BUSKBLÅBÄR | D33: 0 | E33: ha | G33: =IF(S38>0,S39,0) -> 4500 | H33: kg/ha | I33: 10 | J33: år | K33: 2 | L33: år | R33: Skörd | S33: =(U33*U32+W33*W32+Y33*Y32+AA33*AA32)/S32 -> 4500 | T33: kg/ha | V33: kg/ha | X33: kg/ha | Y33: 4500 | Z33: kg/ha | AB33: kg/ha
A34: ☆ | B34: ÄPPLE | D34: 5 | E34: ha | G34: =IF(S41>0,S42,0) -> 13666.667 | H34: kg/ha | I34: 15 | J34: år | K34: 3 | L34: år
R35: SVARTA VINBÄR | S35: =U35+W35+Y35+AA35 -> 5 | T35: ha | V35: ha | W35: 1 | X35: ha | Y35: 4 | Z35: ha | AB35: ha
B36: ÅKERVÄXTER | D36: AREAL | G36: SÅLD SKÖRD | R36: Skörd | S36: =(U36*U35+W36*W35+Y36*Y35+AA36*AA35)/S35 -> 5800 | T36: kg/ha | V36: kg/ha | W36: 3000 | X36: kg/ha | Y36: 6500 | Z36: kg/ha | AB36: kg/ha
B37: HAVRE | D37: 0 | E37: ha | G37: 0 | H37: kg/ha | K37: =IF(AND(D37=0, G37>0),"HUOM! Ei voi olla satoa, jos ei ole viljelyalaa!", " ")
B38: KORN | D38: 0 | E38: ha | G38: 0 | H38: kg/ha | K38: =IF(AND(D38=0, G38>0),"HUOM! Ei voi olla satoa, jos ei ole viljelyalaa!", " ") | R38: BUSKEBLÅBÄR | S38: =U38+W38+Y38+AA38 -> 1 | T38: ha | V38: ha | X38: ha | Y38: 1 | Z38: ha | AB38: ha
B39: VETE | D39: 0 | E39: ha | G39: 0 | H39: kg/ha | K39: =IF(AND(D39=0, G39>0),"HUOM! Ei voi olla satoa, jos ei ole viljelyalaa!", " ") | R39: Skörd | S39: =(U39*U38+W39*W38+Y39*Y38+AA39*AA38)/S38 -> 4500 | T39: kg/ha | V39: kg/ha | X39: kg/ha | Y39: 4500 | Z39: kg/ha | AB39: kg/ha
B40: HÖSTRÅG | D40: 0 | E40: ha | G40: 0 | H40: kg/ha | K40: =IF(AND(D40=0, G40>0),"HUOM! Ei voi olla satoa, jos ei ole viljelyalaa!", " ")
B41: NATURVÅRDSÅKER | D41: 0 | E41: ha | G41: 0 | H41: kg/ha | K41: =IF(AND(D41=0, G41>0),"HUOM! Ei voi olla satoa, jos ei ole viljelyalaa!", " ") | R41: ÄPPLE | S41: =U41+W41+Y41+AA41 -> 3 | T41: ha | U41: 0.5 | V41: ha | W41: 0.5 | X41: ha | Y41: 2 | Z41: ha | AB41: ha
B42: VALL | D42: 0 | E42: ha | G42: 0 | H42: kg/ha | K42: =IF(AND(D42=0, G42>0),"HUOM! Ei voi olla satoa, jos ei ole viljelyalaa!", " ") | R42: Skörd | S42: =(U42*U41+W42*W41+Y42*Y41+AA42*AA41)/S41 -> 13666.667 | T42: kg/ha | V42: kg/ha | W42: 2000 | X42: kg/ha | Y42: 20000 | Z42: kg/ha | AB42: kg/ha
B43: SUMMA | D43: =SUM(D9,D12:D21,D23,D28:D34,D37:D42) -> 47 | E43: ha
B47: EGEN ÅKER | D47: 25 | E47: ha
B48: ARRENDERAD ÅKER | D48: 22 | E48: ha | G48: 400 | H48: €/ha | K48: =IF(D43=D49," ","HUOM! Viljelykasvien alojen summa ja oman sekä vuokrapellon summa eivät täsmää.")
B49: TOTALT | D49: =SUM(D47:D48) -> 47 | E49: ha
B51: STÖD
B53: Stödsystemet har flera stödformer och under stödformerna olika åtgärder. En detaljerad stödnivåtabell hittar du genom att trycka på texten STÖD. Den vägen kan du välja de miljöstödsåtgärder som finns på din gård.
G55: VÄLJ DIN STÖDINFORMATION
B56: Stödområde | G56: AB
B57: Gården är belägen på område som berättigar miljöstöd | G57: Målområde
B60: GÅRDENS EGENDOM
B62: Nedan är uppräknat gårdens byggnader, maskiner och långvariga produktionsmedel. Du kan uppdatera alla värden i de blå rutorna t.ex. införskaffningspriser och årsmodeller. Du kan vid behov även ändra namnet på egendomsföremålen.
B64: Kostnader som uppstår på förvärvad egendom är avskrivning, ränta, underhåll och försäkringar. Uträkningarna görs med inköpspriset som grund, men även t.ex. maskinens ålder inverkar på avskrivningskostnaden. Byggnader, maskiner, utrustning och långvariga produktionsmedel används ofta för flera växter, kalkylerna utgår från att kostnaderna fördelas enligt arealen. Med på listan finns även produktionsmedel som används endast på endast på en del växter, såsom växttunnlar som endast används för bär som odlas i tunnlar. Du kan göra ändringar i hur kostnaderna fördelas i fliken Egendom. De noggrannare uträkningarna hittar du också i fliken Egendom, du kommer även till dessa respektive ägendomsdelar genom att klicka på texten 'Byggnader', 'Maskiner och utrustning' eller 'Långvariga produktionsmedel'. Från denna mera noggranna uträkning kan du om du så önskar även ändra på fördelningen av kostnaderna.
B66: BYGGNADER
B67: Till Byggnader räknas alla byggnader som har en grund. Alltså lätta växttunnlar räknas inte som byggnader utan klassificeras som långvariga produktonsmedel. Med byggnadernas införskaffningspris menar man materialkostnader samt arbetskostnader, dvs alla kostnader som krävs för uppförandet av byggnaden. En del byggnader används endast för trädgårdsproduktionen såsom inkvarteringsutrmmen och packerier. Dessa byggnaders kostnader riktas endast till de växter som förutsätter dem. Byggnader som endast används inom trädgårdsproduktionen är markerade med grön färg. Byggnader som är markerade med svart färg används för alla grödor. Byggnadernas användingstid kan redigeras på Egendoms-bladet.
D69: INKÖPSPRIS | J69: ÅRSMODELL
C70: Inkvarteringsutrymme, 200 m2 | D70: 111000 | E70: €/st | J70: 2000
C71: Packeri/ lådlager, 100 m2 | D71: 44000 | E71: €/st | J71: 2008
C72: Maskinhall, 250 m2 | D72: 75000 | E72: €/st | J72: 2008
C73: Kylutrymme, 20 m2 | D73: 80000 | E73: €/st | J73: 2010
C74: Lökförråd/ Tork | D74: 100000 | E74: €/st | J74: 2020
C75: Potatislager | D75: 35000 | E75: €/st | J75: 2018
C76: Iordningsställningsutrymme, potatis | D76: 66000 | E76: €/st | J76: 2018
C77: trädgårdsproduktionens byggnad X | E77: €/st
C78: trädgårdsproduktionens byggnad X | E78: €/st
C79: byggnad X | E79: €/st
C80: byggnad X | E80: €/st
B82: MASKINER OCH UTRUSTNING
B83: Till maskiner och utrustning hör olika motordriva maskiner samt utrustning som drivs av en traktor. Istället för utrustning kan termen redskap användas. En del av maskinerna och utrustningen används för gårdens alla odlingsväxter, dessa är märkta med svart färg. Endel av utrustningen används endast för vissa grödor och den här utrustningens kostnader riktas endast till dessa växter. Utrustning som är märkt med grön färg används bara på vissa grödor. Hur maskinernas kostnader fördelas hittar du på mellanbladet 'Egendom'. Var och en av maskinernas uppskattade användsingstid kan redigeras i Egendom-fliken.
D85: INKÖPSPRIS | J85: ÅRSMODELL
C86: traktor 60 hk | D86: 35000 | E86: €/st | J86: 2024
C87: traktor 100 hk | D87: 45000 | E87: €/st | J87: 2024
C88: plog, 3 skär | D88: 5000 | E88: €/st | J88: 2024
C89: harv 3m | D89: 600 | E89: €/st | J89: 2024
C90: Kivi Pekka | D90: 6000 | E90: €/st | J90: 2024
C91: jordgubbsspruta 600 l | D91: 1700 | E91: €/st | J91: 2024
C92: jordgubbsbom | D92: 500 | E92: €/st | J92: 2024
C93: borstmaskin | D93: 1000 | E93: €/st | J93: 2024
C94: precisionssåmaskin | D94: 30000 | E94: €/st | J94: 2024
C95: planteringsmaskin | D95: 25000 | E95: €/st | J95: 2024
C96: morotsupptagare | D96: 50000 | E96: €/st | J96: 2024
C97: lökupptagare | D97: 60000 | E97: €/st | J97: 2024
... C109: jordfräs med myllningsfunktion | D109: 17000 | E109: €/st | J109: 2020
C110: trädgårdsproduktion maskin X | E110: €/st
C111: trädgårdsproduktion maskin X | E111: €/st
C112: maskin X | E112: €/st
C113: maskin X | E113: €/st
B115: LÅNGVARIGA PRODUKTIONSMEDEL
B116: Med långvariga produktionsmedel menas ägenomsföremål som håller flera år i använding men inte är maskiner eller byggnader. Dessa produktionsmedels uppskattade användningstid kan redigeras i Egendom-fliken.
D118: ENHETSPRIS | G118: ANTAL | J118: ÅRSMODELL | L118: INKÖPSPRIS
C119: Plockningskorg | D119: 4.6 | E119: €/st | G119: 50 | H119: st | J119: 2010 | L119: =D119*G119 -> 230 | M119: €
C120: Bärställning för lådor | D120: 10 | E120: €/st | G120: 50 | H120: st | J120: 2010 | L120: =D120*G120 -> 500 | M120: €
C121: Fin-lava | D121: 8 | E121: €/st | G121: 40 | H121: st | J121: 2010 | L121: =D121*G121 -> 320 | M121: €
C122: Våg | D122: 200 | E122: €/st | G122: 4 | H122: st | J122: 2010 | L122: =D122*G122 -> 800 | M122: €
C123: Frostbekämpningsutrustning | D123: 5000 | E123: €/st | G123: 1 | H123: st | J123: 2010 | L123: =D123*G123 -> 5000 | M123: €
C124: Droppbevattningsutrustning | D124: 3000 | E124: €/st | G124: 1 | H124: st | J124: 2010 | L124: =D124*G124 -> 3000 | M124: €
C125: Droppslangar | D125: 2000 | E125: €/st | G125: 1 | H125: m | J125: 2010 | L125: =D125*G125 -> 2000 | M125: €
C126: Gödselblandare | D126: 700 | E126: €/st | G126: 1 | H126: st | J126: 2008 | L126: =D126*G126 -> 700 | M126: €
C127: Fiberdukar 17 g/m2 | D127: 800 | E127: €/ha | G127: 5 | H127: st | J127: 2018 | L127: =D127*G127 -> 4000 | M127: €
C128: Vinter fiberdukar 23 g/m2, vinterskydd | D128: 1100 | E128: €/ha | G128: 5 | H128: st | J128: 2019 | L128: =D128*G128 -> 5500 | M128: €
C129: Jordgubbsplast | D129: 2.15 | E129: €/m | G129: 1750 | H129: m | J129: 2013 | L129: =D129*G129 -> 3762.5 | M129: €
C130: Täcktyg | D130: 4 | E130: €/m | G130: 1751 | H130: m | J130: 2014 | L130: =D130*G130 -> 7004 | M130: €
... C134: Växttunnelplast | D134: 1 | E134: €/m2 | G134: 5000 | H134: m2 | J134: 2020 | L134: =D134*G134 -> 5000 | M134: €
C135: Lagringslådor | D135: 70 | E135: €/st | G135: 200 | H135: st | J135: 2020 | L135: 14000 | M135: €
C136: Pallyftare | D136: 350 | E136: €/st | G136: 1 | H136: st | J136: 2020 | L136: 350 | M136: €
C137: trädgårdsproduktionsmedel X | E137: €/st | G137: 1 | H137: st | J137: 2024 | L137: =D137*G137 -> 0 | M137: €
...

Sheet Hela gårdens lönsamhet
B2: HELA GÅRDENS LÖNSAMHET
B4: Kalkyleringen nedan beskriver hela gårdens lönsamhet. Dessa siffror kommer från Gårdens info (arealer) samt från de växtspecifika uträkningarna. Ifall du vill byta ut värden i denna tabell gå till de växtspecifika kalkylerna.
B6: Intäkter
B7: Försäljningsintäkter
C8: Matpotatis | F8: ='Gårdens info'!D9 -> 10 | G8: ha | H8: =Matpotatis!F9 -> 6510 | I8: €/ha | J8: =F8*H8 -> 65100 | K8: €/gård
C9: Morot | F9: ='Gårdens info'!D12 -> 10 | G9: ha | H9: =Morot!F9 -> 42000 | I9: €/ha | J9: =F9*H9 -> 420000 | K9: €/gård
C10: Kål | F10: ='Gårdens info'!D13 -> 10 | G10: ha | H10: =Kål!F10 -> 37000 | I10: €/ha | J10: =F10*H10 -> 370000 | K10: €/gård
C11: Lök | F11: ='Gårdens info'!D14 -> 2 | G11: ha | H11: =Lök!F9 -> 29200 | I11: €/ha | J11: =F11*H11 -> 58400 | K11: €/gård
C12: Sättlök | F12: ='Gårdens info'!D15 -> 5 | G12: ha | H12: =Sättlök!F9 -> 25550 | I12: €/ha | J12: =Sättlök!J9 -> 127750 | K12: €/gård
C13: Trädgårdsärt | F13: ='Gårdens info'!D16 -> 2 | G13: ha | H13: =Trädgårdsärt!F9 -> 15200 | I13: €/ha | J13: =F13*H13 -> 30400 | K13: €/gård
C14: Grönsak från frö 1 | F14: ='Gårdens info'!D17 -> 0 | G14: ha | H14: ='Grönsak från frö 1'!F9 -> 0 | I14: €/ha | J14: =F14*H14 -> 0 | K14: €/gård
C15: Grönsak från frö 2 | F15: ='Gårdens info'!D18 -> 0 | G15: ha | H15: ='Grönsak från frö 2'!F9 -> 0 | I15: €/ha | J15: =F15*H15 -> 0 | K15: €/gård
C16: Grönsak planterad 1 | F16: ='Gårdens info'!D19 -> 0 | G16: ha | H16: ='Grönsak planterad 1'!F9 -> 0 | I16: €/ha | J16: =F16*H16 -> 0 | K16: €/gård
C17: Grönsak planterad 2 | F17: ='Gårdens info'!D20 -> 0 | G17: ha | H17: ='Grönsak planterad 2'!F9 -> 0 | I17: €/ha | J17: =F17*H17 -> 0 | K17: €/gård
C18: Grönsak planterad 3 | F18: ='Gårdens info'!D21 -> 0 | G18: ha | H18: ='Grönsak planterad 3'!F9 -> 0 | I18: €/ha | J18: =F18*H18 -> 0 | K18: €/gård
C19: Jordgubbe friland | F19: ='Gårdens info'!D28 -> 3 | G19: ha | H19: =IF(F19>0,'Jordgubbe friland'!F9,0) -> 21688.6 | I19: €/ha | J19: =F19*H19 -> 65065.8 | K19: €/gård
C20: Jordgubbe tunnel | F20: ='Gårdens info'!D29 -> 0 | G20: ha | H20: =IF(F20>0,'Jordgubbe tunnel'!F9,0) -> 0 | I20: €/ha | J20: =F20*H20 -> 0 | K20: €/gård
C21: Hallon friland | F21: ='Gårdens info'!D30 -> 0 | G21: ha | H21: =IF(F21>0,'Hallon friland'!F9,0) -> 0 | I21: €/ha | J21: =F21*H21 -> 0 | K21: €/gård
C22: Hallon tunnel | F22: ='Gårdens info'!D31 -> 0 | G22: ha | H22: =IF(F22>0,'Hallon tunnel'!F9,0) -> 0 | I22: €/ha | J22: =F22*H22 -> 0 | K22: €/gård
C23: Svart vinbär | F23: ='Gårdens info'!D32 -> 0 | G23: ha | H23: =IF(F23>0,'Svarta vinbär'!F9,0) -> 0 | I23: €/ha | J23: =F23*H23 -> 0 | K23: €/gård
C24: Buskblåbär | F24: ='Gårdens info'!D33 -> 0 | G24: ha | H24: =IF(F24>0,Buskblåbär!F9,0) -> 0 | I24: €/ha | J24: =F24*H24 -> 0 | K24: €/gård
C25: Äpple | F25: ='Gårdens info'!D34 -> 5 | G25: ha | H25: =IF(F25>0,Äpple!F9,0) -> 23233.333 | I25: €/ha | J25: =F25*H25 -> 116166.67 | K25: €/gård
C26: Havre | F26: ='Gårdens info'!D37 -> 0 | G26: ha | H26: =IF(F26>0,Havre!F9,0) -> 0 | I26: €/ha | J26: =F26*H26 -> 0 | K26: €/gård
C27: Korn | F27: ='Gårdens info'!D38 -> 0 | G27: ha | H27: =IF(F27>0,Korn!F9,0) -> 0 | I27: €/ha | J27: =F27*H27 -> 0 | K27: €/gård
C28: Vete | F28: ='Gårdens info'!D39 -> 0 | G28: ha | H28: =IF(F28>0,Vete!F9,0) -> 0 | I28: €/ha | J28: =F28*H28 -> 0 | K28: €/gård
C29: Höstråg | F29: ='Gårdens info'!D40 -> 0 | G29: ha | H29: =Höstråg!F9 -> 0 | I29: €/ha | J29: =F29*H29 -> 0 | K29: €/gård
C30: Naturvårdsåker | F30: ='Gårdens info'!D41 -> 0 | G30: ha | H30: =IF(F30>0,Naturvårdsåker!F9,0) -> 0 | I30: €/ha | J30: =F30*H30 -> 0 | K30: €/gård
C31: Vall | F31: ='Gårdens info'!D42 -> 0 | G31: ha | H31: =Vall!F9 -> 0 | I31: €/ha | J31: =F31*H31 -> 0 | K31: €/gård
C32: SUMMA | F32: =SUM(F19:F31) -> 8 | G32: ha | J32: =SUM(J8:J31) -> 1252882.5 | K32: €/gård
B34: STÖD | C34: Tuet | F34: ='Gårdens info'!D43 -> 47 | G34: ha | H34: =J34/F34 -> 772.81277 | I34: €/ha | J34: =Matpotatis!J10+Morot!J10+Kål!J11+Lök!J10+Trädgårdsärt!J10+'Grönsak från frö 1'!J10+'Grönsak från frö 2'!J10+'Grönsak planterad 1'!J10+'Grönsak planterad 2'!J10+'Grönsak planterad 3'!J10+'Jordgubbe friland'!J10+'Hallon friland'!J10+'Svarta vinbär'!J10+Buskblåbär!J10+Äpple!J10+Havre!J10+Korn!J10+Vete!J10+Höstråg!J10+Naturvårdsåker!J10+Vall!J10 -> 36322.2 | K34: €/gård
B36: Intäkter sammanlagt = omsättning | J36: =J34+J32 -> 1289204.7 | K36: €/gård
B38: Rörliga kostnader
C39: Matpotatis | F39: ='Gårdens info'!D9 -> 10 | G39: ha | H39: =Matpotatis!F28 -> 3409.1219 | I39: €/ha | J39: =F39*H39 -> 34091.219 | K39: €/gård
C40: Morot | F40: ='Gårdens info'!D12 -> 10 | G40: ha | H40: =Morot!F28 -> 5307.7219 | I40: €/ha | J40: =F40*H40 -> 53077.219 | K40: €/gård
C41: Kål | F41: ='Gårdens info'!D13 -> 10 | G41: ha | H41: =Kål!F29 -> 8435.2052 | I41: €/ha | J41: =F41*H41 -> 84352.052 | K41: €/gård
C42: Lök | F42: ='Gårdens info'!D14 -> 2 | G42: ha | H42: =Lök!F28 -> 8935.9254 | I42: €/ha | J42: =F42*H42 -> 17871.851 | K42: €/gård
C43: Sättlök | F43: ='Gårdens info'!D15 -> 5 | G43: ha | H43: =Sättlök!F28 -> 10027.692 | I43: €/ha | J43: =Sättlök!J28 -> 50138.46 | K43: €/gård
C44: Trädgårdslök | F44: ='Gårdens info'!D16 -> 2 | G44: ha | H44: =Trädgårdsärt!F28 -> 8608.1119 | I44: €/ha | J44: =F44*H44 -> 17216.224 | K44: €/gård
C45: Grönsak från frö 1 | F45: ='Gårdens info'!D17 -> 0 | G45: ha | H45: ='Grönsak från frö 1'!F24 -> 0 | I45: €/ha | J45: =F45*H45 -> 0 | K45: €/gård
C46: Grönsak från frö 2 | F46: ='Gårdens info'!D18 -> 0 | G46: ha | H46: ='Grönsak från frö 2'!F24 -> 0 | I46: €/ha | J46: =F46*H46 -> 0 | K46: €/gård
C47: Grönsak planterad 1 | F47: ='Gårdens info'!D19 -> 0 | G47: ha | H47: ='Grönsak planterad 1'!F24 -> 0 | I47: €/ha | J47: =F47*H47 -> 0 | K47: €/gård
C48: Grönsak planterad 2 | F48: ='Gårdens info'!D20 -> 0 | G48: ha | H48: ='Grönsak planterad 2'!F24 -> 0 | I48: €/ha | J48: =F48*H48 -> 0 | K48: €/gård
C49: Grönsak planterad 3 | F49: ='Gårdens info'!D21 -> 0 | G49: ha | H49: ='Grönsak planterad 3'!F24 -> 0 | I49: €/ha | J49: =F49*H49 -> 0 | K49: €/gård
C50: Jordgubbe friland | F50: ='Gårdens info'!D28 -> 3 | G50: ha | H50: =IF(F50>0,'Jordgubbe friland'!F57,0) -> 14814.527 | I50: €/ha | J50: =F50*H50 -> 44443.58 | K50: €/gård
C51: Jordgubbe tunnel | F51: ='Gårdens info'!D29 -> 0 | G51: ha | H51: ='Jordgubbe tunnel'!F29 -> 0 | I51: €/ha | J51: =F51*H51 -> 0 | K51: €/gård
C52: Hallon friland | F52: ='Gårdens info'!D30 -> 0 | G52: ha | H52: ='Hallon friland'!F55 -> 0 | I52: €/ha | J52: =F52*H52 -> 0 | K52: €/gård
C53: Hallon tunnel | F53: ='Gårdens info'!D31 -> 0 | G53: ha | H53: ='Hallon tunnel'!F28 -> 0 | I53: €/ha | J53: =F53*H53 -> 0 | K53: €/gård
C54: Svart vinbär | F54: ='Gårdens info'!D32 -> 0 | G54: ha | H54: =IF(F54>0,'Svarta vinbär'!F52,0) -> 0 | I54: €/ha | J54: =F54*H54 -> 0 | K54: €/gård
C55: Buskblåbär | F55: ='Gårdens info'!D33 -> 0 | G55: ha | H55: =IF(F55>0,Buskblåbär!F55,0) -> 0 | I55: €/ha | J55: =F55*H55 -> 0 | K55: €/gård
C56: Äpple | F56: ='Gårdens info'!D34 -> 5 | G56: ha | H56: =Äpple!F55 -> 43357.786 | I56: €/ha | J56: =F56*H56 -> 216788.93 | K56: €/gård
C57: Havre | F57: ='Gårdens info'!D37 -> 0 | G57: ha | H57: =IF(F57>0,Havre!F26,0) -> 0 | I57: €/ha | J57: =F57*H57 -> 0 | K57: €/gård
C58: Korn | F58: ='Gårdens info'!D38 -> 0 | G58: ha | H58: =IF(F58>0,Korn!F26,0) -> 0 | I58: €/ha | J58: =F58*H58 -> 0 | K58: €/gård
C59: Vete | F59: ='Gårdens info'!D39 -> 0 | G59: ha | H59: =IF(F59>0,Vete!F26,0) -> 0 | I59: €/ha | J59: =F59*H59 -> 0 | K59: €/gård
C60: Höstråg | F60: ='Gårdens info'!D40 -> 0 | G60: ha | H60: =Höstråg!F26 -> 0 | I60: €/ha | J60: =F60*H60 -> 0 | K60: €/gård
C61: Naturvårdsåker | F61: ='Gårdens info'!D41 -> 0 | G61: ha | H61: =IF(F61>0,Naturvårdsåker!F22,0) -> 0 | I61: €/ha | J61: =F61*H61 -> 0 | K61: €/gård
C62: Vall | F62: ='Gårdens info'!D42 -> 0 | G62: ha | H62: =Vall!F22 -> 0 | I62: €/ha | J62: =F62*H62 -> 0 | K62: €/gård
B63: Rörliga kostnader sammanlagt | J63: =SUM(J39:J62) -> 517979.53 | K63: €/gård
B65: Fasta kostnader
C66: Matpotatis | F66: =F39 -> 10 | G66: ha | H66: =Matpotatis!F57 -> 2383.7236 | I66: €/ha | J66: =F66*H66 -> 23837.236 | K66: €/gård
C67: Morot | F67: =F40 -> 10 | G67: ha | H67: =Morot!F57 -> 2286.8952 | I67: €/ha | J67: =F67*H67 -> 22868.952 | K67: €/gård
C68: Kål | F68: =F41 -> 10 | G68: ha | H68: =Kål!F58 -> 1421.2285 | I68: €/ha | J68: =F68*H68 -> 14212.285 | K68: €/gård
C69: Lök | F69: =F42 -> 2 | G69: ha | H69: =Lök!F57 -> 3985.5753 | I69: €/ha | J69: =F69*H69 -> 7971.1507 | K69: €/gård
C70: Sättlök | F70: =F43 -> 5 | G70: ha | H70: =Sättlök!F57 -> 1594.2301 | I70: €/ha | J70: =Sättlök!J57 -> 7971.1507 | K70: €/gård
C71: Trädgårdsärt | F71: =F44 -> 2 | G71: ha | H71: =Trädgårdsärt!F57 -> 4213.5033 | I71: €/ha | J71: =F71*H71 -> 8427.0066 | K71: €/gård
C72: Grönsak från frö 1 | F72: =F45 -> 0 | G72: ha | H72: ='Grönsak från frö 1'!F57 -> 0 | I72: €/ha | J72: =F72*H72 -> 0 | K72: €/gård
C73: Grönsak från frö 2 | F73: =F46 -> 0 | G73: ha | H73: ='Grönsak från frö 2'!F57 -> 0 | I73: €/ha | J73: =F73*H73 -> 0 | K73: €/gård
C74: Grönsak planterad 1 | F74: =F47 -> 0 | G74: ha | H74: ='Grönsak planterad 1'!F57 -> 0 | I74: €/ha | J74: =F74*H74 -> 0 | K74: €/gård
C75: Grönsak planterad 2 | F75: =F48 -> 0 | G75: ha | H75: ='Grönsak planterad 2'!F57 -> 0 | I75: €/ha | J75: =F75*H75 -> 0 | K75: €/gård
C76: Grönsak planterad 3 | F76: =F49 -> 0 | G76: ha | H76: ='Grönsak planterad 3'!F57 -> 0 | I76: €/ha | J76: =F76*H76 -> 0 | K76: €/gård
C77: Jordgubbe friland | F77: =F50 -> 3 | G77: ha | H77: =IF(F77>0,'Jordgubbe friland'!F86,0) -> 2254.5669 | I77: €/ha | J77: =F77*H77 -> 6763.7006 | K77: €/gård
C78: Jordgubbe tunnel | F78: =F51 -> 0 | G78: ha | H78: ='Jordgubbe tunnel'!F58 -> 0 | I78: €/ha | J78: =F78*H78 -> 0 | K78: €/gård
C79: Hallon friland | F79: =F52 -> 0 | G79: ha | H79: ='Hallon friland'!F84 -> 0 | I79: €/ha | J79: =F79*H79 -> 0 | K79: €/gård
C80: Hallon tunnel | F80: =F53 -> 0 | G80: ha | H80: ='Hallon tunnel'!F57 -> 0 | I80: €/ha | J80: =F80*H80 -> 0 | K80: €/gård
C81: Svart vinbär | F81: =F54 -> 0 | G81: ha | H81: =IF(F81>0,'Svarta vinbär'!F81,0) -> 0 | I81: €/ha | J81: =F81*H81 -> 0 | K81: €/gård
C82: Buskblåbär | F82: =F55 -> 0 | G82: ha | H82: =IF(F82>0,Buskblåbär!F84,0) -> 0 | I82: €/ha | J82: =F82*H82 -> 0 | K82: €/gård
C83: Äpple | F83: =F56 -> 5 | G83: ha | H83: =Äpple!F84 -> 1113.5816 | I83: €/ha | J83: =F83*H83 -> 5567.9079 | K83: €/gård
C84: Havre | F84: =F57 -> 0 | G84: ha | H84: =IF(F84>0,Havre!F55,0) -> 0 | I84: €/ha | J84: =F84*H84 -> 0 | K84: €/gård
C85: Korn | F85: =F58 -> 0 | G85: ha | H85: =IF(F85>0,Korn!F55,0) -> 0 | I85: €/ha | J85: =F85*H85 -> 0 | K85: €/gård
C86: Vete | F86: =F59 -> 0 | G86: ha | H86: =IF(F86>0,Vete!F55,0) -> 0 | I86: €/ha | J86: =F86*H86 -> 0 | K86: €/gård
C87: Höstråg | F87: =F60 -> 0 | G87: ha | H87: =Höstråg!F55 -> 0 | I87: €/ha | J87: =F87*H87 -> 0 | K87: €/gård
C88: Naturvårdsåker | F88: =F61 -> 0 | G88: ha | H88: =IF(F88>0,Naturvårdsåker!F55,0) -> 0 | I88: €/ha | J88: =F88*H88 -> 0 | K88: €/gård
C89: Vall | F89: =F62 -> 0 | G89: ha | H89: =Vall!F55 -> 0 | I89: €/ha | J89: =F89*H89 -> 0 | K89: €/gård
B90: Fasta kostnader sammanlagt | J90: =SUM(J66:J89) -> 97619.389 | K90: €/gård
B92: Lönekrav för eget arbete
C93: Matpotatis | F93: =F66 -> 10 | G93: ha | H93: =Matpotatis!F60 -> 2327.25 | I93: €/ha | J93: =F93*H93 -> 23272.5 | K93: €/gård
C94: Morot | F94: =F67 -> 10 | G94: ha | H94: =Morot!F62 -> 3944 | I94: €/ha | J94: =F94*H94 -> 39440 | K94: €/gård
C95: Kål | F95: =F68 -> 10 | G95: ha | H95: =Kål!F63 -> 2842 | I95: €/ha | J95: =F95*H95 -> 28420 | K95: €/gård
C96: Lök | F96: =F69 -> 2 | G96: ha | H96: =Lök!F62 -> 3103 | I96: €/ha | J96: =F96*H96 -> 6206 | K96: €/gård
C97: Sättlök | F97: =F70 -> 5 | G97: ha | H97: =Sättlök!F62 -> 1479 | I97: €/ha | J97: =Sättlök!J62 -> 7395 | K97: €/gård
C98: Trädgårsärt | F98: =F71 -> 2 | G98: ha | H98: =Trädgårdsärt!F60 -> 1261.5 | I98: €/ha | J98: =F98*H98 -> 2523 | K98: €/gård
C99: Grönsak från frö 1 | F99: =F72 -> 0 | G99: ha | H99: ='Grönsak från frö 1'!F62 -> 0 | I99: €/ha | J99: =F99*H99 -> 0 | K99: €/gård
C100: Grönsak från frö 2 | F100: =F73 -> 0 | G100: ha | H100: ='Grönsak från frö 2'!F62 -> 0 | I100: €/ha | J100: =F100*H100 -> 0 | K100: €/gård
C101: Grönsak planterad 1 | F101: =F74 -> 0 | G101: ha | H101: ='Grönsak planterad 1'!F62 -> 0 | I101: €/ha | J101: =F101*H101 -> 0 | K101: €/gård
C102: Grönsak planterad 2 | F102: =F75 -> 0 | G102: ha | H102: ='Grönsak planterad 2'!F62 -> 0 | I102: €/ha | J102: =F102*H102 -> 0 | K102: €/gård
C103: Grönsak planterad 3 | F103: =F76 -> 0 | G103: ha | H103: ='Grönsak planterad 3'!F62 -> 0 | I103: €/ha | J103: =F103*H103 -> 0 | K103: €/gård
C104: Jordgubbe friland | F104: =F77 -> 3 | G104: ha | H104: =IF(F104>0,'Jordgubbe friland'!F97,0) -> 2199.1667 | I104: €/ha | J104: =F104*H104 -> 6597.5 | K104: €/gård
C105: Jordgubbe tunnel | F105: =F78 -> 0 | G105: ha | H105: ='Jordgubbe tunnel'!F62 -> 0 | I105: €/ha | J105: =F105*H105 -> 0 | K105: €/gård
C106: Hallon friland | F106: =F79 -> 0 | G106: ha | H106: ='Hallon friland'!F95 -> 0 | I106: €/ha | J106: =F106*H106 -> 0 | K106: €/gård
C107: Hallon tunnel | F107: =F80 -> 0 | G107: ha | H107: ='Hallon tunnel'!F63 -> 0 | I107: €/ha | J107: =F107*H107 -> 0 | K107: €/gård
C108: Svart vinbär | F108: =F81 -> 0 | G108: ha | H108: =IF(F108>0,'Svarta vinbär'!F95,0) -> 0 | I108: €/ha | J108: =F108*H108 -> 0 | K108: €/gård
...

Sheet Matpotatis
B1: MATPOTATIS
B2: TILL FRAMSIDAN
B4: Lönsamhetskalkylerna består först av inkomsterna. Därefter kommer utgifterna. Kalkylerna innehåller mycket bakgrundsinformation och bakgrundsuträkningar dit du kommer genom att klicka på de understräckade delarna.
B6: LÖNSAMHET FÖR KONVENTIONELLT ODLAD POTATIS
B8: Inkomster | N8: Försäljningsinkomster
C9: Försäljningsinkomster | F9: =IF('Gårdens info'!D9>0,H9*'Gårdens info'!G9,0) -> 6510 | G9: €/ha | H9: =IF('Gårdens info'!G9>0,(('Gårdens info'!D9*'Gårdens info'!G9*S10*T10)+('Gårdens info'!D9*'Gårdens info'!G9*S11*T11)+('Gårdens info'!D9*'Gårdens info'!G9*S12*T12)+('Gårdens info'!D9*'Gårdens info'!G9*S13*T13)+('Gårdens info'!D9*'Gårdens info'!G9*S14*T14)+('Gårdens info'!D9*'Gårdens info'!G9*S15*T15)+('Gårdens info'!D9*'Gårdens info'!G9*S16*T16)+('Gårdens info'!D9*'Gårdens info'!G9*S17*T17))/(('Gårdens info'!D9*'Gårdens info'!G9)),0) -> 0.217 | I9: €/kg | J9: =F9*'Gårdens info'!D9 -> 65100 | K9: €/potatis-areal | O9: Försäljningsstorlek | S9: ANDEL AV FÖRSÄLJNING | T9: PRIS
C10: Stöd | F10: =IF('Gårdens info'!D9>0,Stöd!L14,0) -> 459.1 | G10: €/ha | H10: =IF('Gårdens info'!G9>0,F10/'Gårdens info'!G9,0) -> 0.015303333 | I10: €/kg | J10: =F10*'Gårdens info'!D9 -> 4591 | K10: €/potatis-areal | O10: 2 | P10: kg | Q10: påse | S10: 1 | T10: 0.217 | U10: €/kg
B11: Summa inkomster = omsättning | F11: =F9+F10 -> 6969.1 | G11: €/ha | H11: =H9+H10 -> 0.23230333 | I11: €/kg | J11: =J9+J10 -> 69691 | K11: €/potatis-areal | O11: 0.5 | P11: kg | Q11: påse | S11: 0 | T11: 0.217 | U11: €/kg
O12: 10 | P12: kg | Q12: säck | S12: 0 | T12: 0.217 | U12: €/kg
O13: =D114 -> 0 | P13: kg | Q13: Förpackning X | S13: 0 | U13: €/kg
B14: Rörliga kostnader | O14: =D115 -> 0 | P14: kg | Q14: Förpackning X | S14: 0 | U14: €/kg
O15: =D116 -> 0 | P15: kg | Q15: Förpackning X | S15: 0 | U15: €/kg
C16: Frö | F16: =IF('Gårdens info'!D9>0,J73,0) -> 700 | G16: €/ha | H16: =IF('Gårdens info'!$G$9>0,F16/'Gårdens info'!$G$9,0) -> 0.023333333 | I16: €/kg | J16: =F16*'Gårdens info'!$D$9 -> 7000 | K16: €/potatis-areal | O16: =D117 -> 0 | P16: kg | Q16: Förpackning X | S16: 0 | U16: €/kg
C17: Gödsel och kalk | F17: =IF('Gårdens info'!D9>0,J84,0) -> 780.3 | G17: €/ha | H17: =IF('Gårdens info'!$G$9>0,F17/'Gårdens info'!$G$9,0) -> 0.02601 | I17: €/kg | J17: =F17*'Gårdens info'!$D$9 -> 7803 | K17: €/potatis-areal | O17: SUMMA | S17: =SUM(S10:S16) -> 1
C18: IPM Växtskydd | F18: =IF('Gårdens info'!D9>0,J106,0) -> 249.09 | G18: €/ha | H18: =IF('Gårdens info'!$G$9>0,F18/'Gårdens info'!$G$9,0) -> 0.008303 | I18: €/kg | J18: =F18*'Gårdens info'!$D$9 -> 2490.9 | K18: €/potatis-areal | O18: =IF(S17=100%," ","HUOM! Osuus myyynneistä pitää summautua 100 prosenttiin")
C19: Packningsmaterial | F19: =IF('Gårdens info'!D9>0,J118,0) -> 150 | G19: €/ha | H19: =IF('Gårdens info'!$G$9>0,F19/'Gårdens info'!$G$9,0) -> 0.005 | I19: €/kg | J19: =F19*'Gårdens info'!$D$9 -> 1500 | K19: €/potatis-areal
C20: Fraktkostnader | F20: =IF('Gårdens info'!D9>0,122,0) -> 122 | G20: €/ha | H20: =IF('Gårdens info'!$G$9>0,F20/'Gårdens info'!$G$9,0) -> 0.0040666667 | I20: €/kg | J20: =F20*'Gårdens info'!$D$9 -> 1220 | K20: €/potatis-areal
C21: Maskinkostnader och entreprenad | F21: =IF('Gårdens info'!D9>0,J134,0) -> 0 | G21: €/ha | H21: =IF('Gårdens info'!$G$9>0,F21/'Gårdens info'!$G$9,0) -> 0 | I21: €/kg | J21: =F21*'Gårdens info'!$D$9 -> 0 | K21: €/potatis-areal
C22: Energikostnader | F22: =IF('Gårdens info'!D9>0,J146,0) -> 982.2 | G22: €/ha | H22: =IF('Gårdens info'!$G$9>0,F22/'Gårdens info'!$G$9,0) -> 0.03274 | I22: €/kg | J22: =F22*'Gårdens info'!$D$9 -> 9822 | K22: €/potatis-areal
C23: Anställd arbetskraft | F23: =IF('Gårdens info'!D9>0,L173,0) -> 0 | G23: €/ha | H23: =IF('Gårdens info'!$G$9>0,F23/'Gårdens info'!$G$9,0) -> 0 | I23: €/kg | J23: =F23*'Gårdens info'!$D$9 -> 0 | K23: €/potatis-areal
C24: SUMMA | F24: =SUM(F16:F23) -> 2983.59 | G24: €/ha | H24: =SUM(H16:H23) -> 0.099453 | I24: €/kg | J24: =SUM(J16:J23) -> 29835.9 | K24: €/potatis-areal
AB25: =C16 -> Frö | AC25: =F16 -> 700
B26: ALMÄNNA KOSTNADER, potatisens andel | F26: =IF('Gårdens info'!D9>0,J26/'Gårdens info'!D9,0) -> 238.29787 | G26: €/ha | H26: =IF('Gårdens info'!G9>0,F26/'Gårdens info'!G9,0) -> 0.0079432624 | I26: €/kg | J26: ='Gårdens info'!G163/'Gårdens info'!D43*'Gårdens info'!D9 -> 2382.9787 | K26: €/potatis-areal | AB26: =C17 -> Gödsel och kalk | AC26: =F17 -> 780.3
B27: HYRESKOSTNADER ÅKER, potatisens andel | F27: =IF('Gårdens info'!D9>0,J27/'Gårdens info'!D9,0) -> 187.23404 | G27: €/ha | H27: =IF('Gårdens info'!G9>0,F27/'Gårdens info'!G9,0) -> 0.0062411348 | I27: €/kg | J27: ='Gårdens info'!$D$48/'Gårdens info'!$D$49*'Gårdens info'!$G$48*'Gårdens info'!D9 -> 1872.3404 | K27: €/potatis-areal | AB27: =C18 -> IPM Växtskydd | AC27: =F18 -> 249.09
B28: Rörliga kostnader sammanlagt | F28: =F24+F26+F27 -> 3409.1219 | G28: €/ha | H28: =H24+H26+H27 -> 0.1136374 | I28: €/kg | J28: =J24+J26+J27 -> 34091.219 | K28: €/potatis-areal | AB28: =C19 -> Packningsmaterial | AC28: =F19 -> 150
AB29: =C20 -> Fraktkostnader | AC29: =F20 -> 122
B30: Fasta kostnader, potatisens andel | AB30: =C21 -> Maskinkostnader och entreprenad | AC30: =F21 -> 0
B31: BYGGNADER | AB31: =C22 -> Energikostnader | AC31: =F22 -> 982.2
C32: Avskrivning | F32: =IF('Gårdens info'!$D$9>0,J32/'Gårdens info'!$D$9,0) -> 467.82979 | G32: €/ha | H32: =IF('Gårdens info'!$G$9>0,F32/'Gårdens info'!$G$9,0) -> 0.015594326 | I32: €/kg | J32: =Egendom!AL25 -> 4678.2979 | K32: €/potatis-areal | AB32: =C23 -> Anställd arbetskraft | AC32: =F23 -> 0
C33: Ränta | F33: =IF('Gårdens info'!$D$9>0,J33/'Gårdens info'!$D$9,0) -> 292.39362 | G33: €/ha | H33: =IF('Gårdens info'!$G$9>0,F33/'Gårdens info'!$G$9,0) -> 0.0097464539 | I33: €/kg | J33: =Egendom!BJ25 -> 2923.9362 | K33: €/potatis-areal | AB33: Allmänna kostnader | AC33: =F26 -> 238.29787
C34: Reparation och underhåll | F34: =IF('Gårdens info'!$D$9>0,J34/'Gårdens info'!$D$9,0) -> 116.95745 | G34: €/ha | H34: =IF('Gårdens info'!$G$9>0,F34/'Gårdens info'!$G$9,0) -> 0.0038985816 | I34: €/kg | J34: =Egendom!CH25 -> 1169.5745 | K34: €/potatis-areal | AB34: Hyrestkostnader åker | AC34: =F27 -> 187.23404
C35: Försäkringar | F35: =IF('Gårdens info'!$D$9>0,J35/'Gårdens info'!$D$9,0) -> 23.391489 | G35: €/ha | H35: =IF('Gårdens info'!$G$9>0,F35/'Gårdens info'!$G$9,0) -> 0.00077971631 | I35: €/kg | J35: =Egendom!DF25 -> 233.91489 | K35: €/potatis-areal | AB35: Byggnader | AC35: =F36 -> 900.57234
C36: SUMMA | F36: =SUM(F32:F35) -> 900.57234 | G36: €/ha | H36: =SUM(H32:H35) -> 0.030019078 | I36: €/kg | J36: =SUM(J32:J35) -> 9005.7234 | K36: €/potatis-areal | AB36: Maskiner och utrustning | AC36: =F43 -> 1247.2603
AB37: Långvariga produktionsmedel | AC37: =F50 -> 223.125
B38: MASKINER OCH UTRUSTNING | AB38: Täckdik | AC38: =F56 -> 12.765957
C39: Avskrivning | F39: =IF('Gårdens info'!$D$9>0,J39/'Gårdens info'!$D$9,0) -> 530.92199 | G39: €/ha | H39: =IF('Gårdens info'!$G$9>0,F39/'Gårdens info'!$G$9,0) -> 0.0176974 | I39: €/kg | J39: =Egendom!AL61 -> 5309.2199 | K39: €/potatis-areal | AB39: Lönekrav för eget arbete | AC39: =F62 -> 2327.25
C40: Ränta | F40: =IF('Gårdens info'!$D$9>0,J40/'Gårdens info'!$D$9,0) -> 199.09574 | G40: €/ha | H40: =IF('Gårdens info'!$G$9>0,F40/'Gårdens info'!$G$9,0) -> 0.0066365248 | I40: €/kg | J40: =Egendom!BJ61 -> 1990.9574 | K40: €/potatis-areal
C41: Reparation och underhåll | F41: =IF('Gårdens info'!$D$9>0,J41/'Gårdens info'!$D$9,0) -> 484.91489 | G41: €/ha | H41: =IF('Gårdens info'!$G$9>0,F41/'Gårdens info'!$G$9,0) -> 0.01616383 | I41: €/kg | J41: =Egendom!CH61 -> 4849.1489 | K41: €/potatis-areal
C42: Försäkringar | F42: =IF('Gårdens info'!$D$9>0,J42/'Gårdens info'!$D$9,0) -> 32.32766 | G42: €/ha | H42: =IF('Gårdens info'!$G$9>0,F42/'Gårdens info'!$G$9,0) -> 0.0010775887 | I42: €/kg | J42: =Egendom!DF61 -> 323.2766 | K42: €/potatis-areal
C43: SUMMA | F43: =SUM(F39:F42) -> 1247.2603 | G43: €/ha | H43: =SUM(H39:H42) -> 0.041575343 | I43: €/kg | J43: =SUM(J39:J42) -> 12472.603 | K43: €/potatis-areal
B45: LÅNVARIGA PRODUKTIONSMEDEL
C46: Avskrivning | F46: =IF('Gårdens info'!$D$9>0,J46/'Gårdens info'!$D$9,0) -> 143.5 | G46: €/ha | H46: =IF('Gårdens info'!$G$9>0,F46/'Gårdens info'!$G$9,0) -> 0.0047833333 | I46: €/kg | J46: =Egendom!AL90 -> 1435 | K46: €/potatis-areal
C47: Ränta | F47: =IF('Gårdens info'!$D$9>0,J47/'Gårdens info'!$D$9,0) -> 35.875 | G47: €/ha | H47: =IF('Gårdens info'!$G$9>0,F47/'Gårdens info'!$G$9,0) -> 0.0011958333 | I47: €/kg | J47: =Egendom!BJ90 -> 358.75 | K47: €/potatis-areal
C48: Reparation och underhåll | F48: =IF('Gårdens info'!$D$9>0,J48/'Gårdens info'!$D$9,0) -> 43.75 | G48: €/ha | H48: =IF('Gårdens info'!$G$9>0,F48/'Gårdens info'!$G$9,0) -> 0.0014583333 | I48: €/kg | J48: =Egendom!CH90 -> 437.5 | K48: €/potatis-areal
C49: Försäkringar | F49: =IF('Gårdens info'!$D$9>0,J49/'Gårdens info'!$D$9,0) -> 0 | G49: €/ha | H49: =IF('Gårdens info'!$G$9>0,F49/'Gårdens info'!$G$9,0) -> 0 | I49: €/kg | J49: =Egendom!DF90 -> 0 | K49: €/potatis-areal
C50: SUMMA | F50: =SUM(F46:F49) -> 223.125 | G50: €/ha | H50: =SUM(H46:H49) -> 0.0074375 | I50: €/kg | J50: =SUM(J46:J49) -> 2231.25 | K50: €/potatis-areal
B52: TÄCKDIKEN
C53: Avskrivning | F53: =IF('Gårdens info'!$D$9>0,J53/'Gårdens info'!$D$9,0) -> 0 | G53: €/ha | H53: =IF('Gårdens info'!$G$9>0,F53/'Gårdens info'!$G$9,0) -> 0 | I53: €/kg | J53: =Egendom!AL93 -> 0 | K53: €/potatis-areal
C54: Ränta | F54: =IF('Gårdens info'!$D$9>0,J54/'Gårdens info'!$D$9,0) -> 0 | G54: €/ha | H54: =IF('Gårdens info'!$G$9>0,F54/'Gårdens info'!$G$9,0) -> 0 | I54: €/kg | J54: =Egendom!BJ93 -> 0 | K54: €/potatis-areal
C55: Reparation och underhåll | F55: =IF('Gårdens info'!$D$9>0,J55/'Gårdens info'!$D$9,0) -> 12.765957 | G55: €/ha | H55: =IF('Gårdens info'!$G$9>0,F55/'Gårdens info'!$G$9,0) -> 0.00042553191 | I55: €/kg | J55: =Egendom!CH93 -> 127.65957 | K55: €/potatis-areal
C56: SUMMA | F56: =SUM(F53:F55) -> 12.765957 | G56: €/ha | H56: =SUM(H53:H55) -> 0.00042553191 | I56: €/kg | J56: =SUM(J53:J55) -> 127.65957 | K56: €/potatis-areal
B57: Fasta kostnader sammanlagt | F57: =F36+F43+F50+F56 -> 2383.7236 | G57: €/ha | H57: =H36+H43+H50+H56 -> 0.079457453 | I57: €/kg | J57: =J36+J43+J50+J56 -> 23837.236 | K57: €/potatis-areal
B59: Lönekrav för eget arbete
C60: Lönekrav för eget arbete | F60: =IF('Gårdens info'!D9>0,H173,0) -> 2327.25 | G60: €/ha | H60: =IF('Gårdens info'!G9>0,F60/'Gårdens info'!$G$9,0) -> 0.077575 | I60: €/kg | J60: =F60*'Gårdens info'!D9 -> 23272.5 | K60: €/potatis-areal
B62: Lönekrav för eget arbete sammanlagt | F62: =F60 -> 2327.25 | G62: €/ha | H62: =H60 -> 0.077575 | I62: €/kg | J62: =J60 -> 23272.5 | K62: €/potatis-areal
B64: PRODUKTIONSKOSTNADER | F64: =F28+F57+F62 -> 8120.0955 | G64: €/ha | H64: =H28+H57+H62 -> 0.27066985 | I64: €/kg | J64: =J28+J57+J62 -> 81200.955 | K64: €/potatis-areal
B66: FÖRETAGARENS VINST | F66: =F11-F28-F57-F62 -> -1150.9955 | G66: €/ha | H66: =H11-H28-H57-H62 -> -0.038366517 | I66: €/kg | J66: =J11-J28-J57-J62 -> -11509.955 | K66: €/potatis-areal
B69: SKÖRDEÅRENS KOSTNADER | L69: TILL SIDANS BÖRJAN
B71: UTSÄDE | F71: ANTAL | H71: ENHETSPRIS | J71: HEKTARKOSTNAD | L71: OBSERVERA
C73: Potatis | F73: 2000 | G73: kg/ha | H73: 0.35 | I73: €/kpl | J73: =F73*H73 -> 700 | K73: €/ha
C74: SUMMA
B76: GÖDSEL OCH KALK | F76: ANTAL | H76: ENHETSPRIS | J76: HEKTARKOSTNAD
C78: YaraMila Hevi 1 | F78: 750 | G78: kg | H78: 0.81 | I78: €/kg | J78: =F78*H78 -> 607.5 | K78: €/ha
C79: Startgödsel | F79: 60 | G79: kg | H79: 1.38 | I79: €/kg | J79: =F79*H79 -> 82.8 | K79: €/ha
C80: YaraLiva Nitrabor | F80: 150 | G80: kg | H80: 0.6 | I80: €/kg | J80: =F80*H80 -> 90 | K80: €/ha
C81: gödsel X | G81: kg | I81: €/kg | J81: =F81*H81 -> 0 | K81: €/ha
C82: gödsel X | G82: kg | I82: €/kg | J82: =F82*H82 -> 0 | K82: €/ha
C83: gödsel X | G83: kg | I83: €/kg | J83: =F83*H83 -> 0 | K83: €/ha
C84: SUMMA | J84: =SUM(J78:J83) -> 780.3 | K84: €/ha
B87: IPM VÄXTSKYDD | F87: ANTAL | H87: ENHETSPRIS | J87: HEKTARKOSTNAD
D89: Växtskyddsprogrammet är vägledande, kontrollera godkända ämnen och arter från KemiDigi innan användning.
B90: KEMISK
C91: Maxim (betning) | F91: 0.4 | G91: l | H91: 136 | I91: €/l | J91: =F91*H91 -> 54.4 | K91: €/ha
C92: Senkor SC (ogräs) | F92: 0.2 | G92: l | H92: 47.45 | I92: €/kg | J92: =F92*H92 -> 9.49 | K92: €/ha
C93: Titus (ogräs) | F93: 25 | G93: g | H93: 0.94 | I93: €/g | J93: =F93*H93 -> 23.5 | K93: €/ha
C94: Revus (bladmögel, 1. sprutning) | F94: 0.6 | G94: l | H94: 54 | I94: €/l | J94: =F94*H94 -> 32.4 | K94: €/ha
C95: Infinito (bladmögel, 2.,3. ja 4. sprutning) | F95: =1.4*3 -> 4.2 | G95: l | H95: 24 | I95: €/l | J95: =F95*H95 -> 100.8 | K95: €/ha
C96: Ranman TOP (bladmögel, 5. sprutning) | F96: 0.5 | G96: l | H96: 57 | I96: €/l | J96: =F96*H96 -> 28.5 | K96: €/ha
C97: ämne X | G97: l | I97: €/l | J97: =F97*H97 -> 0 | K97: €/ha
C98: ämne X | G98: l | I98: €/l | J98: =F98*H98 -> 0 | K98: €/ha
B100: BIOLOGISK
C101: preparat X | G101: g | I101: €/g | J101: =F101*H101 -> 0 | K101: €/ha
C102: preparat X | G102: l | I102: €/l | J102: =F102*H102 -> 0 | K102: €/ha
C103: preparat X | G103: l | I103: €/l | J103: =F103*H103 -> 0 | K103: €/ha
C104: preparat X | G104: l | I104: €/l | J104: =F104*H104 -> 0 | K104: €/ha
C105: preparat X | G105: l | I105: €/l | J105: =F105*H105 -> 0 | K105: €/ha
C106: SUMMA | J106: =SUM(J91:J105) -> 249.09 | K106: €/ha
B109: PACKNINGSMATERIAL | F109: ANTAL | H109: ENHETSPRIS | J109: HEKTARKOSTNAD
C111: 2 kg påse | F111: =S10*'Gårdens info'!G9/2 -> 15000 | G111: kpl | H111: 0.01 | I111: €/kpl | J111: =F111*H111 -> 150 | K111: €/ha
C112: 0,5 kg påse | F112: =S11*'Gårdens info'!G9/0.5 -> 0 | G112: kpl | H112: 0.01 | I112: €/kpl | J112: =F112*H112 -> 0 | K112: €/ha
C113: 10 kg säck | F113: =S12*'Gårdens info'!G9/10 -> 0 | G113: kpl | H113: 0.02 | I113: €/kpl | J113: =F113*H113 -> 0 | K113: €/ha
C114: förpackning X | E114: kg | F114: =IF(S13>0,(S13*'Gårdens info'!$G$12/D114),0) -> 0 | G114: kpl | I114: €/kpl | J114: =F114*H114 -> 0 | K114: €/ha
C115: förpackning X | E115: kg | F115: =IF(S14>0,(S14*'Gårdens info'!$G$12/D115),0) -> 0 | G115: kpl | I115: €/kpl | J115: =F115*H115 -> 0 | K115: €/ha
C116: förpackning X | E116: kg | F116: =IF(S15>0,(S15*'Gårdens info'!$G$12/D116),0) -> 0 | G116: kpl | I116: €/kpl | J116: =F116*H116 -> 0 | K116: €/ha
C117: förpackning X | E117: kg | F117: =IF(S16>0,(S16*'Gårdens info'!$G$12/D117),0) -> 0 | G117: kpl | I117: €/kpl | J117: =F117*H117 -> 0 | K117: €/ha
C118: SUMMA | J118: =SUM(J111:J117) -> 150 | K118: €/ha
B121: FRAKTKOSTNADER SKÖRDEÅR | F121: ANTAL | H121: ENHETSPRIS | J121: HEKTARKOSTNAD
C123: Fraktkostnader | F123: ='Gårdens info'!G9*'Gårdens info'!D9*0.8 -> 240000 | G123: kg | H123: 0.02 | I123: €/kg | J123: =F123*H123 -> 4800 | K123: €/ha
C124: frakt x | G124: kg | I124: €/kg | J124: =F124*H124 -> 0 | K124: €/ha
C125: frakt x | G125: kg | I125: €/kg | J125: =F125*H125 -> 0 | K125: €/ha
...

Sheet Morot
B1: MOROT
B2: TILL FRMASIDAN | AE2: MÅNATLIGA ARBETAANVÄNDNING, H/HA
AE3: I tabellen nedan listas den månatliga arbetsanvändningen, uppdelad i början och slutet av varje månad. Du kan fritt redigera siffrorna i de blåmarkerade cellerna. De årliga totalsummorna från tabellen nedan överförs automatiskt till kalkylens ARBETSANVÄNDNING-tabell.
B4: Lönsamhetskalkylerna består först av inkomsterna. Därefter kommer utgifterna. Kalkylerna innehåller mycket bakgrundsinformation och bakgrundsuträkningar dit du kommer genom att klicka på de understräckade delarna.
AF5: januari | AH5: februari | AJ5: mars | AL5: april | AN5: maj | AP5: juni | AR5: juli | AT5: augusti | AV5: september | AX5: oktober | AZ5: november | BB5: december | BD5: Arbetet sammanlagt
B6: LÖNSAMHET FÖR KONVENTIONELLT ODLAD MOROT | AE6: Odlingsplanering, dokumentation och kvalitetssystem | AH6: 1 | AJ6: 1 | AL6: 1 | AN6: 1 | AP6: 1 | AR6: 1 | AT6: 1 | AV6: 1 | AX6: 1 | AZ6: 1 | BB6: 1 | BD6: =SUM(AF6:BB6) -> 11 | BE6: timmar/ha
AE7: Produktionsavtal | AZ7: 1 | BB7: 1 | BD7: =SUM(AF7:BB7) -> 2
B8: Inkomster | N8: Försäljningsinkomster | AE8: Jordbearbetning | AL8: 2 | AM8: 1 | AN8: 1 | BD8: =SUM(AF8:BB8) -> 4
C9: Försäljningsinkomster | F9: =IF('Gårdens info'!D12>0,H9*'Gårdens info'!G12,0) -> 42000 | G9: €/ha | H9: =IF('Gårdens info'!G12>0,(('Gårdens info'!D12*'Gårdens info'!G12*S10*T10)+('Gårdens info'!D12*'Gårdens info'!G12*S11*T11)+('Gårdens info'!D12*'Gårdens info'!G12*S12*T12)+('Gårdens info'!D12*'Gårdens info'!G12*S13*T13)+('Gårdens info'!D12*'Gårdens info'!G12*S14*T14)+('Gårdens info'!D12*'Gårdens info'!G12*S15*T15)+('Gårdens info'!D12*'Gårdens info'!G12*S16*T16)+('Gårdens info'!D12*'Gårdens info'!G12*S17*T17))/(('Gårdens info'!D12*'Gårdens info'!G12)),0) -> 0.7 | I9: €/kg | J9: =F9*'Gårdens info'!D12 -> 420000 | K9: €/morots-areal | O9: Försäljningsstorlek | S9: ANDEL AV FÖRSÄLJNING | T9: PRIS | AE9: Bäddbearbetning och sådd | AL9: 3 | AM9: 3 | AN9: 3 | BD9: =SUM(AF9:BB9) -> 9
C10: Stöd | F10: =IF('Gårdens info'!D12>0,Stöd!L15,0) -> 1027.1 | G10: €/ha | H10: =IF('Gårdens info'!G12>0,F10/'Gårdens info'!G12,0) -> 0.017118333 | I10: €/kg | J10: =F10*'Gårdens info'!D12 -> 10271 | K10: €/morots-areal | O10: 1 | P10: kg | Q10: påse | S10: 0.4 | T10: 0.7 | U10: €/kg | AE10: Gödsel | AL10: 1 | AM10: 1 | AN10: 1 | AR10: 1 | AS10: 1 | AT10: 1 | BD10: =SUM(AF10:BB10) -> 6
B11: Summa inkomster = omsättning | F11: =F9+F10 -> 43027.1 | G11: €/ha | H11: =H9+H10 -> 0.71711833 | I11: €/kg | J11: =J9+J10 -> 430271 | K11: €/morots-areal | O11: 0.25 | P11: kg | Q11: knippe | S11: 0 | U11: €/kg | AE11: Installation av bevattningsutrustning | AN11: 4 | BD11: =SUM(AF11:BB11) -> 4
O12: 0.5 | P12: kg | Q12: påse | S12: 0.4 | T12: 0.72 | U12: €/kg | AE12: Bevattning | AN12: 3 | AO12: 3 | AP12: 3 | AQ12: 3 | AR12: 3 | AS12: 3 | BD12: =SUM(AF12:BB12) -> 18
O13: 10 | P13: kg | Q13: säck | S13: 0.2 | T13: 0.66 | U13: €/kg | AE13: Höstunderhåll av bevattningsutrustning | AT13: 4 | BD13: =SUM(AF13:BB13) -> 4
B14: Rörliga kostnader | O14: =D114 -> 0 | P14: kg | Q14: =C114 -> förpackning X | S14: 0 | U14: €/kg | AE14: Växtskydd, ogräs | AO14: 2 | AP14: 2 | AW14: 2 | BD14: =SUM(AF14:BB14) -> 6
O15: =D115 -> 0 | P15: kg | Q15: =C115 -> förpackning X | S15: 0 | U15: €/kg | AE15: Växtskydd, sjukdomar | AR15: 1 | AS15: 1 | BD15: =SUM(AF15:BB15) -> 2
C16: Frö | F16: =IF('Gårdens info'!D12>0,J73,0) -> 700 | G16: €/ha | H16: =IF('Gårdens info'!$G$12>0,F16/'Gårdens info'!$G$12,0) -> 0.011666667 | I16: €/kg | J16: =F16*'Gårdens info'!$D$12 -> 7000 | K16: €/morots-areal | O16: =D116 -> 0 | P16: kg | Q16: =C116 -> förpackning X | S16: 0 | U16: €/kg | AE16: Växtskydd, skadedjur | AP16: 1 | AQ16: 1 | BD16: =SUM(AF16:BB16) -> 2
C17: Gödsel och kalk | F17: =IF('Gårdens info'!D12>0,J84,0) -> 1292 | G17: €/ha | H17: =IF('Gårdens info'!$G$12>0,F17/'Gårdens info'!$G$12,0) -> 0.021533333 | I17: €/kg | J17: =F17*'Gårdens info'!$D$12 -> 12920 | K17: €/morots-areal | O17: =D117 -> 0 | P17: kg | Q17: =C117 -> förpackning X | S17: 0 | U17: €/kg | AE17: Radrensning och kupning | AP17: 2 | AQ17: 2 | BD17: =SUM(AF17:BB17) -> 4
C18: IPM Växtskydd | F18: =IF('Gårdens info'!D12>0,J105,0) -> 481 | G18: €/ha | H18: =IF('Gårdens info'!$G$12>0,F18/'Gårdens info'!$G$12,0) -> 0.0080166667 | I18: €/kg | J18: =F18*'Gårdens info'!$D$12 -> 4810 | K18: €/morots-areal | O18: SUMMA | S18: =SUM(S10:S17) -> 1 | AE18: Rengöring av lager och andra utrymmen | AG18: 3 | AI18: 3 | AK18: 3 | BD18: =SUM(AF18:BB18) -> 9
C19: Packningsmaterial | F19: =IF('Gårdens info'!D12>0,J118,0) -> 780 | G19: €/ha | H19: =IF('Gårdens info'!$G$12>0,F19/'Gårdens info'!$G$12,0) -> 0.013 | I19: €/kg | J19: =F19*'Gårdens info'!$D$12 -> 7800 | K19: €/morots-areal | O19: =IF(S18=100%," ","HUOM! Osuus myyynneistä pitää summautua 100 prosenttiin") | AE19: Skörd | AS19: 5 | AT19: 5 | AU19: 5 | AV19: 5 | AW19: 5 | AX19: 5 | AY19: 5 | BD19: =SUM(AF19:BB19) -> 35
C20: Fraktkostnader | F20: =IF('Gårdens info'!D12>0,122,0) -> 122 | G20: €/ha | H20: =IF('Gårdens info'!$G$12>0,F20/'Gårdens info'!$G$12,0) -> 0.0020333333 | I20: €/kg | J20: =F20*'Gårdens info'!$D$12 -> 1220 | K20: €/morots-areal | AE20: Hantering och transport av skörd från fält till lager | AS20: 2 | AT20: 2 | AU20: 2 | AV20: 2 | AW20: 2 | AX20: 2 | AY20: 2 | BD20: =SUM(AF20:BB20) -> 14
C21: Maskinkostnader och entreprenad | F21: =IF('Gårdens info'!D12>0,J134,0) -> 0 | G21: €/ha | H21: =IF('Gårdens info'!$G$12>0,F21/'Gårdens info'!$G$12,0) -> 0 | I21: €/kg | J21: =F21*'Gårdens info'!$D$12 -> 0 | K21: €/morots-areal | AE21: Iordningställande och förpackning för försäljning | AS21: 6 | AT21: 6 | AU21: 6 | AV21: 6 | AW21: 6 | AX21: 6 | AY21: 6 | AZ21: 6 | BA21: 6 | BB21: 6 | BC21: 6 | BD21: =SUM(AF21:BC21) -> 66
C22: Energikostnader | F22: =IF('Gårdens info'!D12>0,J146,0) -> 673.44 | G22: €/ha | H22: =IF('Gårdens info'!$G$12>0,F22/'Gårdens info'!$G$12,0) -> 0.011224 | I22: €/kg | J22: =F22*'Gårdens info'!$D$12 -> 6734.4 | K22: €/morots-areal | AE22: Utbildning, skatter, stöd, odling | AF22: 6 | AG22: 6 | BD22: =SUM(AF22:BB22) -> 12
C23: Anställd arbetskraft | F23: =IF('Gårdens info'!D12>0,L179,0) -> 833.75 | G23: €/ha | H23: =IF('Gårdens info'!$G$12>0,F23/'Gårdens info'!$G$12,0) -> 0.013895833 | I23: €/kg | J23: =F23*'Gårdens info'!$D$12 -> 8337.5 | K23: €/morots-areal | AE23: Bokslut | AH23: 6 | BD23: =SUM(AF23:BB23) -> 6
C24: SUMMA | F24: =SUM(F16:F23) -> 4882.19 | G24: €/ha | H24: =SUM(H16:H23) -> 0.081369833 | I24: €/kg | J24: =SUM(J16:J23) -> 48821.9 | K24: €/morots-areal | AE24: Företagshälsovård | AF24: 2 | BD24: =SUM(AF24:BB24) -> 2
AB25: =C16 -> Frö | AC25: =F16 -> 700 | AE25: Strategisk planering | AF25: 4 | BD25: =SUM(AF25:BB25) -> 4
B26: ALMÄNNA KOSTNADER, morotens andel | F26: =IF('Gårdens info'!D12>0,J26/'Gårdens info'!D12,0) -> 238.29787 | G26: €/ha | H26: =IF('Gårdens info'!G12>0,F26/'Gårdens info'!G12,0) -> 0.0039716312 | I26: €/kg | J26: ='Gårdens info'!G163/'Gårdens info'!D43*'Gårdens info'!D12 -> 2382.9787 | K26: €/morots-areal | AB26: =C17 -> Gödsel och kalk | AC26: =F17 -> 1292 | AE26: Inköp av produktionsinsatser | AF26: 1 | AH26: 1 | AJ26: 1 | AL26: 1 | AN26: 1 | AP26: 1 | AR26: 1 | AT26: 1 | AV26: 1 | AX26: 1 | AZ26: 1 | BB26: 1 | BD26: =SUM(AF26:BB26) -> 12
B27: HYRESKOSTNADER ÅKER, morotens andel | F27: =IF('Gårdens info'!D12>0,J27/'Gårdens info'!D12,0) -> 187.23404 | G27: €/ha | H27: =IF('Gårdens info'!G12>0,F27/'Gårdens info'!G12,0) -> 0.0031205674 | I27: €/kg | J27: ='Gårdens info'!$D$48/'Gårdens info'!$D$49*'Gårdens info'!$G$48*'Gårdens info'!D12 -> 1872.3404 | K27: €/morots-areal | AB27: =C18 -> IPM Växtskydd | AC27: =F18 -> 481 | AE27: Personalledning | AH27: 2 | AJ27: 2 | AL27: 2 | AN27: 4 | AP27: 4 | AR27: 4 | AT27: 4 | AV27: 4 | AX27: 2 | AZ27: 2 | BD27: =SUM(AF27:BB27) -> 30
B28: Rörliga kostnader sammanlagt | F28: =F24+F26+F27 -> 5307.7219 | G28: €/ha | H28: =H24+H26+H27 -> 0.088462032 | I28: €/kg | J28: =J24+J26+J27 -> 53077.219 | K28: €/morots-areal | AB28: =C19 -> Packningsmaterial | AC28: =F19 -> 780 | AE28: Marknadsföring | AH28: 1 | AJ28: 1 | AL28: 1 | AN28: 1 | AP28: 1 | AR28: 1 | AT28: 1 | AV28: 1 | AX28: 1 | AZ28: 1 | BD28: =SUM(AF28:BB28) -> 10
AB29: =C20 -> Fraktkostnader | AC29: =F20 -> 122 | AE29: Arbetsmoment X | BD29: =SUM(AF29:BB29) -> 0
B30: Fasta kostnader, morotens andel | AB30: =C21 -> Maskinkostnader och entreprenad | AC30: =F21 -> 0 | AE30: Arbetsmoment X | BD30: =SUM(AF30:BB30) -> 0
B31: BYGGNADER | AB31: =C22 -> Energikostnader | AC31: =F22 -> 673.44 | AE31: Arbetsmoment X | BD31: =SUM(AF31:BB31) -> 0
C32: Avskrivning | F32: =IF('Gårdens info'!$D$12>0,J32/'Gårdens info'!$D$12,0) -> 317.88384 | G32: €/ha | H32: =IF('Gårdens info'!$G$12>0,F32/'Gårdens info'!$G$12,0) -> 0.005298064 | I32: €/kg | J32: =Egendom!AK25 -> 3178.8384 | K32: €/morots-areal | AB32: =C23 -> Anställd arbetskraft | AC32: =F23 -> 833.75 | AE32: SUMMA, H/HA | AF32: =SUM(AF6:AF31) -> 13 | AG32: =SUM(AG6:AG31) -> 9 | AH32: =SUM(AH6:AH31) -> 11 | AI32: =SUM(AI6:AI31) -> 3 | AJ32: =SUM(AJ6:AJ31) -> 5 | AK32: =SUM(AK6:AK31) -> 3 | AL32: =SUM(AL6:AL31) -> 11 | AM32: =SUM(AM6:AM31) -> 5 | ... BD32: =SUM(BD6:BD31) -> 272
C33: Ränta | F33: =IF('Gårdens info'!$D$12>0,J33/'Gårdens info'!$D$12,0) -> 198.6774 | G33: €/ha | H33: =IF('Gårdens info'!$G$12>0,F33/'Gårdens info'!$G$12,0) -> 0.00331129 | I33: €/kg | J33: =Egendom!BI25 -> 1986.774 | K33: €/morots-areal | AB33: Allmänna kostnader | AC33: =F26 -> 238.29787
C34: Reparation och underhåll | F34: =IF('Gårdens info'!$D$12>0,J34/'Gårdens info'!$D$12,0) -> 79.47096 | G34: €/ha | H34: =IF('Gårdens info'!$G$12>0,F34/'Gårdens info'!$G$12,0) -> 0.001324516 | I34: €/kg | J34: =Egendom!CG25 -> 794.7096 | K34: €/morots-areal | AB34: Hyrestkostnader åker | AC34: =F27 -> 187.23404
C35: Försäkringar | F35: =IF('Gårdens info'!$D$12>0,J35/'Gårdens info'!$D$12,0) -> 15.894192 | G35: €/ha | H35: =IF('Gårdens info'!$G$12>0,F35/'Gårdens info'!$G$12,0) -> 0.0002649032 | I35: €/kg | J35: =Egendom!DE25 -> 158.94192 | K35: €/morots-areal | AB35: Byggnader | AC35: =F36 -> 611.92639
C36: SUMMA | F36: =SUM(F32:F35) -> 611.92639 | G36: €/ha | H36: =SUM(H32:H35) -> 0.010198773 | I36: €/kg | J36: =SUM(J32:J35) -> 6119.2639 | K36: €/morots-areal | AB36: Maskiner och utrustning | AC36: =F43 -> 1566.0936
AB37: Långvariga produktionsmedel | AC37: =F50 -> 96.109189
B38: MASKINER OCH UTRUSTNING | AB38: Täckdik | AC38: =F56 -> 12.765957
C39: Avskrivning | F39: =IF('Gårdens info'!$D$12>0,J39/'Gårdens info'!$D$12,0) -> 844.25532 | G39: €/ha | H39: =IF('Gårdens info'!$G$12>0,F39/'Gårdens info'!$G$12,0) -> 0.014070922 | I39: €/kg | J39: =Egendom!AK61 -> 8442.5532 | K39: €/morots-areal | AB39: Lönekrav för eget arbete | AC39: =F62 -> 3944
C40: Ränta | F40: =IF('Gårdens info'!$D$12>0,J40/'Gårdens info'!$D$12,0) -> 316.59574 | G40: €/ha | H40: =IF('Gårdens info'!$G$12>0,F40/'Gårdens info'!$G$12,0) -> 0.0052765957 | I40: €/kg | J40: =Egendom!BI61 -> 3165.9574 | K40: €/morots-areal
C41: Reparation och underhåll | F41: =IF('Gårdens info'!$D$12>0,J41/'Gårdens info'!$D$12,0) -> 379.91489 | G41: €/ha | H41: =IF('Gårdens info'!$G$12>0,F41/'Gårdens info'!$G$12,0) -> 0.0063319149 | I41: €/kg | J41: =Egendom!CG61 -> 3799.1489 | K41: €/morots-areal
C42: Försäkringar | F42: =IF('Gårdens info'!$D$12>0,J42/'Gårdens info'!$D$12,0) -> 25.32766 | G42: €/ha | H42: =IF('Gårdens info'!$G$12>0,F42/'Gårdens info'!$G$12,0) -> 0.00042212766 | I42: €/kg | J42: =Egendom!DE61 -> 253.2766 | K42: €/morots-areal
C43: SUMMA | F43: =SUM(F39:F42) -> 1566.0936 | G43: €/ha | H43: =SUM(H39:H42)*1.2 -> 0.031321872 | I43: €/kg | J43: =SUM(J39:J42) -> 15660.936 | K43: €/morots-areal
B45: LÅNGVARIGA PRODUKTIONSMEDEL
C46: Avskrivning | F46: =IF('Gårdens info'!$D$12>0,J46/'Gårdens info'!$D$12,0) -> 61.72973 | G46: €/ha | H46: =IF('Gårdens info'!$G$12>0,F46/'Gårdens info'!$G$12,0) -> 0.0010288288 | I46: €/kg | J46: =Egendom!AK90 -> 617.2973 | K46: €/morots-areal
C47: Ränta | F47: =IF('Gårdens info'!$D$12>0,J47/'Gårdens info'!$D$12,0) -> 11.162162 | G47: €/ha | H47: =IF('Gårdens info'!$G$12>0,F47/'Gårdens info'!$G$12,0) -> 0.00018603604 | I47: €/kg | J47: =Egendom!BI90 -> 111.62162 | K47: €/morots-areal
C48: Reparation och underhåll | F48: =IF('Gårdens info'!$D$12>0,J48/'Gårdens info'!$D$12,0) -> 22.324324 | G48: €/ha | H48: =IF('Gårdens info'!$G$12>0,F48/'Gårdens info'!$G$12,0) -> 0.00037207207 | I48: €/kg | J48: =Egendom!CG90 -> 223.24324 | K48: €/morots-areal
C49: Försäkringar | F49: =IF('Gårdens info'!$D$12>0,J49/'Gårdens info'!$D$12,0) -> 0.89297297 | G49: €/ha | H49: =IF('Gårdens info'!$G$12>0,F49/'Gårdens info'!$G$12,0) -> 1.4882883e-05 | I49: €/kg | J49: =Egendom!DE90 -> 8.9297297 | K49: €/morots-areal
C50: SUMMA | F50: =SUM(F46:F49) -> 96.109189 | G50: €/ha | H50: =SUM(H46:H49) -> 0.0016018198 | I50: €/kg | J50: =SUM(J46:J49) -> 961.09189 | K50: €/morots-areal
B52: TÄCKDIKEN
C53: Avskrivning | F53: =IF('Gårdens info'!$D$12>0,J53/'Gårdens info'!$D$12,0) -> 0 | G53: €/ha | H53: =IF('Gårdens info'!$G$12>0,F53/'Gårdens info'!$G$12,0) -> 0 | I53: €/kg | J53: =Egendom!AK93 -> 0 | K53: €/morots-areal
C54: Ränta | F54: =IF('Gårdens info'!$D$12>0,J54/'Gårdens info'!$D$12,0) -> 0 | G54: €/ha | H54: =IF('Gårdens info'!$G$12>0,F54/'Gårdens info'!$G$12,0) -> 0 | I54: €/kg | J54: =Egendom!BI93 -> 0 | K54: €/morots-areal
C55: Reparation och underhåll | F55: =IF('Gårdens info'!$D$12>0,J55/'Gårdens info'!$D$12,0) -> 12.765957 | G55: €/ha | H55: =IF('Gårdens info'!$G$12>0,F55/'Gårdens info'!$G$12,0) -> 0.00021276596 | I55: €/kg | J55: =Egendom!CG93 -> 127.65957 | K55: €/morots-areal
C56: SUMMA | F56: =SUM(F53:F55) -> 12.765957 | G56: €/ha | H56: =SUM(H53:H55) -> 0.00021276596 | I56: €/kg | J56: =SUM(J53:J55) -> 127.65957 | K56: €/morots-areal
B57: Fasta kostnader sammanlagt | F57: =F36+F43+F50+F56 -> 2286.8952 | G57: €/ha | H57: =H36+H43+H50+H56 -> 0.043335231 | I57: €/kg | J57: =J36+J43+J50+J56 -> 22868.952 | K57: €/morots-areal
B59: Lönekrav för eget arbete
C60: Lönekrav för eget arbete | F60: =IF('Gårdens info'!D12>0,H179,0) -> 3944 | G60: €/ha | H60: =IF('Gårdens info'!G12>0,F60/'Gårdens info'!$G$12,0) -> 0.065733333 | I60: €/kg | J60: =F60*'Gårdens info'!D12 -> 39440 | K60: €/morots-areal
B62: Lönekrav för eget arbete sammanlagt | F62: =F60 -> 3944 | G62: €/ha | H62: =H60 -> 0.065733333 | I62: €/kg | J62: =J60 -> 39440 | K62: €/morots-areal
B64: PRODUTKIONSKOSTNADER | F64: =F28+F57+F62 -> 11538.617 | G64: €/ha | H64: =H28+H57+H62 -> 0.1975306 | I64: €/kg | J64: =J28+J57+J62 -> 115386.17 | K64: €/morots-areal
B66: FÖRETAGARENS VINST | F66: =F11-F28-F57-F62 -> 31488.483 | G66: €/ha | H66: =H11-H28-H57-H62 -> 0.51958774 | I66: €/kg | J66: =J11-J28-J57-J62 -> 314884.83 | K66: €/morots-areal
B69: SKÖRDEÅRENS KOSTNADER | L69: TILL SIDANS BÖRJAN
B71: UTSÄDE | F71: ANTAL | H71: ENHETSPRIS | J71: HEKTARKOSTNAD | L71: OBSERVERA
C73: Morot | F73: 1000000 | G73: kpl/ha | H73: 0.0007 | I73: €/kpl | J73: =F73*H73 -> 700 | K73: €/ha
C74: SUMMA
B76: GÖDSEL OCH KALK | F76: ANTAL | H76: ENHETSPRIS | J76: HEKTARKOSTNAD
C78: Trädgård Y2 | F78: 600 | G78: kg | H78: =0.75*1 -> 0.75 | I78: €/kg | J78: =F78*H78 -> 450 | K78: €/ha
C79: Trädgård NK | F79: 200 | G79: kg | H79: =0.59*1 -> 0.59 | I79: €/kg | J79: =F79*H79 -> 118 | K79: €/ha
C80: Salpeter | F80: 200 | G80: kg | H80: =0.4*1 -> 0.4 | I80: €/kg | J80: =F80*H80 -> 80 | K80: €/ha
C81: Dolomitkalk utspridd (7 tn med fem års mellanrum) | F81: 1400 | G81: kg | H81: =0.46*1 -> 0.46 | I81: €/kg | J81: =F81*H81 -> 644 | K81: €/ha
C82: gödsel X | G82: kg | I82: €/kg | J82: =F82*H82 -> 0 | K82: €/ha
C83: gödsel X | G83: kg | I83: €/kg | J83: =F83*H83 -> 0 | K83: €/ha
C84: SUMMA | J84: =SUM(J78:J83) -> 1292 | K84: €/ha
B87: IPM VÄXTSKYDD | F87: ANTAL | H87: ENHETSPRIS | J87: HEKTARKOSTNAD
D89: Växtskyddsprogrammet är vägledande, kontrollera godkända ämnen och arter från KemiDigi innan användning.
B90: KEMISK
C91: Fenix (ogräs) | F91: 3 | G91: l | H91: 35 | I91: €/l | J91: =F91*H91 -> 105 | K91: €/ha
C92: Stomp | F92: 3 | G92: l | H92: 28 | I92: €/l | J92: =F92*H92 -> 84 | K92: €/ha
C93: Serenade ASO (växtsjukdomar) | F93: 10 | G93: l | H93: 18 | I93: €/l | J93: =F93*H93 -> 180 | K93: €/ha
C94: Decis (skadedjur) | F94: 1 | G94: l | H94: 47 | I94: €/l | J94: =F94*H94 -> 47 | K94: €/ha
C95: ämne X | G95: l | I95: €/l | J95: =F95*H95 -> 0 | K95: €/ha
C96: ämne X | G96: l | I96: €/l | J96: =F96*H96 -> 0 | K96: €/ha
C97: ämne X | G97: l | I97: €/l | J97: =F97*H97 -> 0 | K97: €/ha
B99: BIOLOGISK
C100: Mycostop | F100: 5 | G100: g | H100: 13 | I100: €/g | J100: =F100*H100 -> 65 | K100: €/ha
C101: preparat X | G101: l | I101: €/l | J101: =F101*H101 -> 0 | K101: €/ha
C102: preparat X | G102: l | I102: €/l | J102: =F102*H102 -> 0 | K102: €/ha
C103: preparat X | G103: l | I103: €/l | J103: =F103*H103 -> 0 | K103: €/ha
C104: preparat X | G104: l | I104: €/l | J104: =F104*H104 -> 0 | K104: €/ha
C105: SUMMA | J105: =SUM(J91:J104) -> 481 | K105: €/ha
B108: FÖRPACKNINGSMATERIAL | F108: ANTAL | H108: ENHETSPRIS | J108: HEKTARKOSTNAD
C110: 1 kg påse | F110: =S10*'Gårdens info'!G12/1 -> 24000 | G110: kpl | H110: 0.01 | I110: €/kpl | J110: =F110*H110 -> 240 | K110: €/ha
C111: 0,25 kg knippe | F111: =S11*'Gårdens info'!G12/0.25 -> 0 | G111: kpl | H111: 0.01 | I111: €/kpl | J111: =F111*H111 -> 0 | K111: €/ha
C112: 0,5 kg pussi | F112: =S12*'Gårdens info'!G12/0.5 -> 48000 | G112: kpl | H112: 0.01 | I112: €/kpl | J112: =F112*H112 -> 480 | K112: €/ha
C113: 10 kg säkki | F113: =S13*'Gårdens info'!G12/10 -> 1200 | G113: kpl | H113: 0.05 | I113: €/kpl | J113: =F113*H113 -> 60 | K113: €/ha
C114: förpackning X | E114: kg | F114: =IF(S14>0,(S14*'Gårdens info'!$G$12/D114),0) -> 0 | G114: kpl | I114: €/kpl | J114: =F114*H114 -> 0 | K114: €/ha
C115: förpackning X | E115: kg | F115: =IF(S15>0,(S15*'Gårdens info'!$G$12/D115),0) -> 0 | G115: kpl | I115: €/kpl | J115: =F115*H115 -> 0 | K115: €/ha
C116: förpackning X | E116: kg | F116: =IF(S16>0,(S16*'Gårdens info'!$G$12/D116),0) -> 0 | G116: kpl | I116: €/kpl | J116: =F116*H116 -> 0 | K116: €/ha
C117: förpackning X | E117: kg | F117: =IF(S17>0,(S17*'Gårdens info'!$G$12/D117),0) -> 0 | G117: kpl | I117: €/kpl | J117: =F117*H117 -> 0 | K117: €/ha
C118: SUMMA | J118: =SUM(J110:J117) -> 780 | K118: €/ha
B121: FRAKTKOSTNADER SKÖRDEÅR | F121: ANTAL | H121: ENHETSPRIS | J121: HEKTARKOSTNAD
...

Sheet Kål
B1: KÅL
B2: TILL FRAMSIDAN | AE2: MÅNATLIGA ARBETAANVÄNDNING, H/HA
AE3: I tabellen nedan listas den månatliga arbetsanvändningen, uppdelad i början och slutet av varje månad. Du kan fritt redigera siffrorna i de blåmarkerade cellerna. De årliga totalsummorna från tabellen nedan överförs automatiskt till kalkylens ARBETSANVÄNDNING-tabell.
B4: Lönsamhetskalkylerna består först av inkomsterna. Därefter kommer utgifterna. Kalkylerna innehåller mycket bakgrundsinformation och bakgrundsuträkningar, dit du kommer genom att klicka på de understräckade delarna.
AF5: januari | AH5: februari | AJ5: mars | AL5: april | AN5: maj | AP5: juni | AR5: juli | AT5: augusti | AV5: semptember | AX5: oktober | AZ5: november | BB5: december | BD5: Arbetet sammanlagt
B6: LÖNSAMHET FÖR KONVENTIONELLT ODLAD KÅL | AE6: Odlingsplanering, dokumentation och kvalitetssystem | AH6: 1 | AJ6: 1 | AL6: 1 | AN6: 1 | AP6: 1 | AR6: 1 | AT6: 1 | AV6: 1 | AX6: 1 | AZ6: 1 | BB6: 1 | BD6: =SUM(AF6:BB6) -> 11 | BE6: timmar/ha
AE7: Produktionsavtal | BD7: =SUM(AF7:BB7) -> 0
B8: Inkomster | N8: Försäljningsinkomster | AE8: Jordbearbetning | AN8: 3 | BD8: =SUM(AF8:BB8) -> 3
AE9: Mottagning och skötsel av plantor | AN9: 1 | BD9: =SUM(AF9:BB9) -> 1
C10: Försäljningsinkomster | F10: =IF('Gårdens info'!D13>0,H10*'Gårdens info'!G13,0) -> 37000 | G10: €/ha | H10: =IF('Gårdens info'!G13>0,(('Gårdens info'!D13*'Gårdens info'!G13*S11*T11)+('Gårdens info'!D13*'Gårdens info'!G13*S12*T12)+('Gårdens info'!D13*'Gårdens info'!G13*S13*T13)+('Gårdens info'!D13*'Gårdens info'!G13*S14*T14)+('Gårdens info'!D13*'Gårdens info'!G13*S15*T15)+('Gårdens info'!D13*'Gårdens info'!G13*S16*T16)+('Gårdens info'!D13*'Gårdens info'!G13*S17*T17)+('Gårdens info'!D13*'Gårdens info'!G13*S18*T18))/(('Gårdens info'!D13*'Gårdens info'!G13)),0) -> 0.74 | I10: €/kg | J10: =F10*'Gårdens info'!D13 -> 370000 | K10: €/kålareal | O10: Försäljningsstorlek | S10: ANDEL AV FÖRSÄLJNING | T10: PRIS | AE10: Sådd | AO10: 10 | BD10: =SUM(AF10:BB10) -> 10
C11: Stöd | F11: =IF('Gårdens info'!D13>0,Stöd!L15,0) -> 1027.1 | G11: €/ha | H11: =IF('Gårdens info'!G13>0,F11/'Gårdens info'!G13,0) -> 0.020542 | I11: €/kg | J11: =F11*'Gårdens info'!D13 -> 10271 | K11: €/kålareal | O11: 1 | P11: kg | Q11: påse | S11: 0 | U11: €/kg | AE11: Gödsel | AN11: 2 | AQ11: 2 | AR11: 2 | BD11: =SUM(AF11:BB11) -> 6
B12: Summa inkomster = omsättning | F12: =F10+F11 -> 38027.1 | G12: €/ha | H12: =H10+H11 -> 0.760542 | I12: €/kg | J12: =J10+J11 -> 380271 | K12: €/kålareal | O12: 0.25 | P12: kg | Q12: knippe | S12: 0 | U12: €/kg | AE12: Installation av bevattningsutrustning | AN12: 4 | BD12: =SUM(AF12:BB12) -> 4
O13: 0.5 | P13: kg | Q13: påse | S13: 0 | U13: €/kg | AE13: Bevattning | AN13: 3 | AO13: 3 | AP13: 3 | AQ13: 3 | AR13: 3 | AS13: 3 | BD13: =SUM(AF13:BB13) -> 18
O14: 10 | P14: kg | Q14: säck | S14: 0.5 | T14: 0.76 | U14: €/kg | AE14: Höstunderhåll av bevattningsutrustning | AT14: 4 | BD14: =SUM(AF14:BB14) -> 4
B15: Rörliga kostnader | O15: 300 | P15: kg | Q15: =C112 -> Lagerlådssäck | S15: 0.5 | T15: 0.72 | U15: €/kg | AE15: Växtskydd, ogräs | AO15: 2 | AP15: 2 | AW15: 2 | BD15: =SUM(AF15:BB15) -> 6
O16: =D113 -> 0 | P16: kg | Q16: förpackning X | S16: 0 | U16: €/kg | AE16: Växtskydd, sjukdomar | AP16: 1 | AQ16: 1 | BD16: =SUM(AF16:BB16) -> 2
C17: Plantor | F17: =IF('Gårdens info'!D13>0,J74,0) -> 1350 | G17: €/ha | H17: =IF('Gårdens info'!$G$13>0,F17/'Gårdens info'!$G$13,) -> 0.027 | I17: €/kg | J17: =F17*'Gårdens info'!$D$13 -> 13500 | K17: €/kålareal | O17: =D114 -> 0 | P17: kg | Q17: förpackning X | S17: 0 | U17: €/kg | AE17: Växtskydd, skadedjur | AR17: 3 | AS17: 3 | BD17: =SUM(AF17:BB17) -> 6
C18: Gödsel och kalk | F18: =IF('Gårdens info'!D13>0,J84,0) -> 1720 | G18: €/ha | H18: =IF('Gårdens info'!$G$13>0,F18/'Gårdens info'!$G$13,) -> 0.0344 | I18: €/kg | J18: =F18*'Gårdens info'!$D$13 -> 17200 | K18: €/kålareal | O18: =D115 -> 0 | P18: kg | Q18: förpackning X | S18: 0 | U18: €/kg | AE18: Radrensning | AR18: 20 | AS18: 20 | BD18: =SUM(AF18:BB18) -> 40
C19: IPM Växtskydd | F19: =IF('Gårdens info'!D13>0,J103,0) -> 800.1 | G19: €/ha | H19: =IF('Gårdens info'!$G$13>0,F19/'Gårdens info'!$G$13,) -> 0.016002 | I19: €/kg | J19: =F19*'Gårdens info'!$D$13 -> 8001 | K19: €/kålareal | O19: SUMMA | S19: =SUM(S11:S18) -> 1 | AE19: Rengöring av lager och andra utrymmen | AG19: 3 | AI19: 3 | AK19: 3 | BD19: =SUM(AF19:BB19) -> 9
C20: Packningsmaterial | F20: =IF('Gårdens info'!D13>0,J116,0) -> 833.33333 | G20: €/ha | H20: =IF('Gårdens info'!$G$13>0,F20/'Gårdens info'!$G$13,) -> 0.016666667 | I20: €/kg | J20: =F20*'Gårdens info'!$D$13 -> 8333.3333 | K20: €/kålareal | O20: =IF(S19=100%," ","HUOM! Osuus myyynneistä pitää summautua 100 prosenttiin") | AE20: Skörd | AW20: 10 | AX20: 10 | BD20: =SUM(AF20:BB20) -> 20
C21: Fraktkostnader | F21: =IF('Gårdens info'!D13>0,J124,0) -> 900 | G21: €/ha | H21: =IF('Gårdens info'!$G$13>0,F21/'Gårdens info'!$G$13,) -> 0.018 | I21: €/kg | J21: =F21*'Gårdens info'!$D$13 -> 9000 | K21: €/kålareal | AE21: Hantering och transport av skörd från fält till lager | AW21: 5 | AX21: 5 | BD21: =SUM(AF21:BB21) -> 10
C22: Maskinkostnader och entreprenad | F22: =IF('Gårdens info'!D13>0,J132,0) -> 0 | G22: €/ha | H22: =IF('Gårdens info'!$G$13>0,F22/'Gårdens info'!$G$13,) -> 0 | I22: €/kg | J22: =F22*'Gårdens info'!$D$13 -> 0 | K22: €/kålareal | AE22: Iordningställande och förpackning för försäljning | AW22: 6 | AX22: 6 | AY22: 6 | AZ22: 6 | BA22: 6 | BB22: 6 | BC22: 6 | BD22: =SUM(AF22:BC22) -> 42
C23: Energikostnader | F23: =IF('Gårdens info'!D13>0,J144,0) -> 1304.24 | G23: €/ha | H23: =IF('Gårdens info'!$G$13>0,F23/'Gårdens info'!$G$13,) -> 0.0260848 | I23: €/kg | J23: =F23*'Gårdens info'!$D$13 -> 13042.4 | K23: €/kålareal | AE23: Avslutning | AY23: 2 | AZ23: 2 | BD23: =SUM(AF23:BC23) -> 4
C24: Anställd arbetskraft | F24: =L181 -> 1102 | G24: €/ha | H24: =IF('Gårdens info'!$G$13>0,F24/'Gårdens info'!$G$13,) -> 0.02204 | I24: €/kg | J24: =F24*'Gårdens info'!$D$13 -> 11020 | K24: €/kålareal | AE24: Utbildning, skatter, stöd, odling | AF24: 6 | AG24: 6 | BD24: =SUM(AF24:BB24) -> 12
C25: SUMMA | F25: =SUM(F17:F24) -> 8009.6733 | G25: €/ha | H25: =SUM(H17:H24) -> 0.16019347 | I25: €/kg | J25: =SUM(J17:J24) -> 80096.733 | K25: €/kålareal | AE25: Bokslut | AH25: 6 | BD25: =SUM(AF25:BB25) -> 6
AB26: Taimet | AC26: =F17 -> 1350 | AE26: Företagshälsovård | AF26: 2 | BD26: =SUM(AF26:BB26) -> 2
B27: ALMÄNNA KOSTNADER, kålens andel | F27: =IF('Gårdens info'!D13>0,J27/'Gårdens info'!D13,0) -> 238.29787 | G27: €/ha | H27: =IF('Gårdens info'!G13>0,F27/'Gårdens info'!G13,0) -> 0.0047659574 | I27: €/kg | J27: ='Gårdens info'!G163/'Gårdens info'!D43*'Gårdens info'!D13 -> 2382.9787 | K27: €/kålareal | AB27: =C18 -> Gödsel och kalk | AC27: =F18 -> 1720 | AE27: Strategisk planering | AF27: 4 | BD27: =SUM(AF27:BB27) -> 4
B28: HYRESKOSTNADER ÅKER, kålens andel | F28: =IF('Gårdens info'!D13>0,J28/'Gårdens info'!D13,0) -> 187.23404 | G28: €/ha | H28: =IF('Gårdens info'!G13>0,F28/'Gårdens info'!G13,0) -> 0.0037446809 | I28: €/kg | J28: ='Gårdens info'!$D$48/'Gårdens info'!$D$49*'Gårdens info'!$G$48*'Gårdens info'!D13 -> 1872.3404 | K28: €/kålareal | AB28: =C19 -> IPM Växtskydd | AC28: =F19 -> 800.1 | AE28: Inköp av produktionsinsatser | AF28: 1 | AH28: 1 | AJ28: 1 | AL28: 1 | AN28: 1 | AP28: 1 | AR28: 1 | AT28: 1 | AV28: 1 | AX28: 1 | AZ28: 1 | BB28: 1 | BD28: =SUM(AF28:BB28) -> 12
B29: Rörliga kostnader sammanlagt | F29: =F25+F27+F28 -> 8435.2052 | G29: €/ha | H29: =H25+H27+H28 -> 0.1687041 | I29: €/kg | J29: =J25+J27+J28 -> 84352.052 | K29: €/kålareal | AB29: =C20 -> Packningsmaterial | AC29: =F20 -> 833.33333 | AE29: Personalledning | AH29: 2 | AJ29: 2 | AL29: 2 | AN29: 4 | AP29: 4 | AR29: 4 | AT29: 4 | AV29: 4 | AX29: 2 | AZ29: 2 | BD29: =SUM(AF29:BB29) -> 30
AB30: =C21 -> Fraktkostnader | AC30: =F21 -> 900 | AE30: Marknadsföring | AH30: 1 | AJ30: 1 | AL30: 1 | AN30: 1 | AP30: 1 | AR30: 1 | AT30: 1 | AV30: 1 | AX30: 1 | AZ30: 1 | BD30: =SUM(AF30:BB30) -> 10
B31: Fasta kostnader, kålens andel | AB31: =C22 -> Maskinkostnader och entreprenad | AC31: =F22 -> 0 | AE31: Arbetsmoment X | BD31: =SUM(AF31:BB31) -> 0
B32: BYGGNADER | AB32: =C23 -> Energikostnader | AC32: =F23 -> 1304.24 | AE32: Arbetsmoment X | BD32: =SUM(AF32:BB32) -> 0
C33: Avskrivning | F33: =IF('Gårdens info'!$D$13>0,J33/'Gårdens info'!$D$13,0) -> 317.88384 | G33: €/ha | H33: =IF('Gårdens info'!$G$13>0,F33/'Gårdens info'!$G$13,0) -> 0.0063576768 | I33: €/kg | J33: =Egendom!AM25 -> 3178.8384 | K33: €/kålareal | AB33: =C24 -> Anställd arbetskraft | AC33: =F24 -> 1102 | AE33: Arbetsmoment X | BD33: =SUM(AF33:BB33) -> 0
C34: Ränta | F34: =IF('Gårdens info'!$D$13>0,J34/'Gårdens info'!$D$13,0) -> 198.6774 | G34: €/ha | H34: =IF('Gårdens info'!$G$13>0,F34/'Gårdens info'!$G$13,0) -> 0.003973548 | I34: €/kg | J34: =Egendom!BK25 -> 1986.774 | K34: €/kålareal | AB34: Allmänna kostnader | AC34: =F27 -> 238.29787 | AE34: SUMMA, H/HA | AF34: =SUM(AF6:AF33) -> 13 | AG34: =SUM(AG6:AG33) -> 9 | AH34: =SUM(AH6:AH33) -> 11 | AI34: =SUM(AI6:AI33) -> 3 | AJ34: =SUM(AJ6:AJ33) -> 5 | AK34: =SUM(AK6:AK33) -> 3 | AL34: =SUM(AL6:AL33) -> 5 | AM34: =SUM(AM6:AM33) -> 0 | ... BD34: =SUM(BD6:BD33) -> 272
C35: Reparation och underhåll | F35: =IF('Gårdens info'!$D$13>0,J35/'Gårdens info'!$D$13,0) -> 79.47096 | G35: €/ha | H35: =IF('Gårdens info'!$G$13>0,F35/'Gårdens info'!$G$13,0) -> 0.0015894192 | I35: €/kg | J35: =Egendom!CI25 -> 794.7096 | K35: €/kålareal | AB35: Hyrestkostnader åker | AC35: =F28 -> 187.23404
C36: Försäkringar | F36: =IF('Gårdens info'!$D$13>0,J36/'Gårdens info'!$D$13,0) -> 15.894192 | G36: €/ha | H36: =IF('Gårdens info'!$G$13>0,F36/'Gårdens info'!$G$13,0) -> 0.00031788384 | I36: €/kg | J36: =Egendom!DG25 -> 158.94192 | K36: €/kålareal | AB36: Byggnader | AC36: =F37 -> 611.92639
C37: SUMMA | F37: =SUM(F33:F36) -> 611.92639 | G37: €/ha | H37: =SUM(H33:H36) -> 0.012238528 | I37: €/kg | J37: =SUM(J33:J36) -> 6119.2639 | K37: €/kålareal | AB37: Maskiner och utrustning | AC37: =F44 -> 700.42695
AB38: Långvariga produktionsmedel | AC38: =F51 -> 96.109189
B39: MASKINER OCH UTRUSTNING | AB39: Täckdik | AC39: =F57 -> 12.765957
C40: Avskrivning | F40: =IF('Gårdens info'!$D$13>0,J40/'Gårdens info'!$D$13,0) -> 377.58865 | G40: €/ha | H40: =IF('Gårdens info'!$G$13>0,F40/'Gårdens info'!$G$13,0) -> 0.007551773 | I40: €/kg | J40: =Egendom!AM61 -> 3775.8865 | K40: €/kålareal | AB40: Lönekrav för eget arbete | AC40: =F63 -> 2842
C41: Ränta | F41: =IF('Gårdens info'!$D$13>0,J41/'Gårdens info'!$D$13,0) -> 141.59574 | G41: €/ha | H41: =IF('Gårdens info'!$G$13>0,F41/'Gårdens info'!$G$13,0) -> 0.0028319149 | I41: €/kg | J41: =Egendom!BK61 -> 1415.9574 | K41: €/kålareal
C42: Reparation och underhåll | F42: =IF('Gårdens info'!$D$13>0,J42/'Gårdens info'!$D$13,0) -> 169.91489 | G42: €/ha | H42: =IF('Gårdens info'!$G$13>0,F42/'Gårdens info'!$G$13,0) -> 0.0033982979 | I42: €/kg | J42: =Egendom!CI61 -> 1699.1489 | K42: €/kålareal
C43: Försäkringar | F43: =IF('Gårdens info'!$D$13>0,J43/'Gårdens info'!$D$13,0) -> 11.32766 | G43: €/ha | H43: =IF('Gårdens info'!$G$13>0,F43/'Gårdens info'!$G$13,0) -> 0.00022655319 | I43: €/kg | J43: =Egendom!DG61 -> 113.2766 | K43: €/kålareal
C44: SUMMA | F44: =SUM(F40:F43) -> 700.42695 | G44: €/ha | H44: =SUM(H40:H43) -> 0.014008539 | I44: €/kg | J44: =SUM(J40:J43) -> 7004.2695 | K44: €/kålareal
B46: LÅNGVARIGA PRODUKTIONSMEDEL
C47: Avskrivning | F47: =IF('Gårdens info'!$D$13>0,J47/'Gårdens info'!$D$13,0) -> 61.72973 | G47: €/ha | H47: =IF('Gårdens info'!$G$13>0,F47/'Gårdens info'!$G$13,0) -> 0.0012345946 | I47: €/kg | J47: =Egendom!AM90-Egendom!AM86 -> 617.2973 | K47: €/kålareal
C48: Ränta | F48: =IF('Gårdens info'!$D$13>0,J48/'Gårdens info'!$D$13,0) -> 11.162162 | G48: €/ha | H48: =IF('Gårdens info'!$G$13>0,F48/'Gårdens info'!$G$13,0) -> 0.00022324324 | I48: €/kg | J48: =Egendom!BK90-Egendom!BK86 -> 111.62162 | K48: €/kålareal
C49: Reparation och underhåll | F49: =IF('Gårdens info'!$D$13>0,J49/'Gårdens info'!$D$13,0) -> 22.324324 | G49: €/ha | H49: =IF('Gårdens info'!$G$13>0,F49/'Gårdens info'!$G$13,0) -> 0.00044648649 | I49: €/kg | J49: =Egendom!CI90-Egendom!CI86 -> 223.24324 | K49: €/kålareal
C50: Försäkringar | F50: =IF('Gårdens info'!$D$13>0,J50/'Gårdens info'!$D$13,0) -> 0.89297297 | G50: €/ha | H50: =IF('Gårdens info'!$G$13>0,F50/'Gårdens info'!$G$13,0) -> 1.7859459e-05 | I50: €/kg | J50: =Egendom!DG90-Egendom!DG86 -> 8.9297297 | K50: €/kålareal
C51: SUMMA | F51: =SUM(F47:F50) -> 96.109189 | G51: €/ha | H51: =SUM(H47:H50) -> 0.0019221838 | I51: €/kg | J51: =SUM(J47:J50) -> 961.09189 | K51: €/kålareal
B53: TÄCKDIKEN
C54: Avskrivning | F54: =IF('Gårdens info'!$D$13>0,J54/'Gårdens info'!$D$13,0) -> 0 | G54: €/ha | H54: =IF('Gårdens info'!$G$13>0,F54/'Gårdens info'!$G$13,0) -> 0 | I54: €/kg | J54: =Egendom!AM93 -> 0 | K54: €/kålareal
C55: Ränta | F55: =IF('Gårdens info'!$D$13>0,J55/'Gårdens info'!$D$13,0) -> 0 | G55: €/ha | H55: =IF('Gårdens info'!$G$13>0,F55/'Gårdens info'!$G$13,0) -> 0 | I55: €/kg | J55: =Egendom!BK93 -> 0 | K55: €/kålareal
C56: Reparation och underhåll | F56: =IF('Gårdens info'!$D$13>0,J56/'Gårdens info'!$D$13,0) -> 12.765957 | G56: €/ha | H56: =IF('Gårdens info'!$G$13>0,F56/'Gårdens info'!$G$13,0) -> 0.00025531915 | I56: €/kg | J56: =Egendom!CI93 -> 127.65957 | K56: €/kålareal
C57: SUMMA | F57: =SUM(F54:F56) -> 12.765957 | G57: €/ha | H57: =SUM(H54:H56) -> 0.00025531915 | I57: €/kg | J57: =SUM(J54:J56) -> 127.65957 | K57: €/kålareal
B58: Fasta kostnader sammanlagt | F58: =F37+F44+F51+F57 -> 1421.2285 | G58: €/ha | H58: =H37+H44+H51+H57 -> 0.02842457 | I58: €/kg | J58: =J37+J44+J51+J57 -> 14212.285 | K58: €/kålareal
B60: Lönekrav för eget arbete
C61: Lönekrav för eget arbete | F61: =IF('Gårdens info'!D13>0,H181,0) -> 2842 | G61: €/ha | H61: =IF('Gårdens info'!G13>0,F61/'Gårdens info'!$G$13,0) -> 0.05684 | I61: €/kg | J61: =F61*'Gårdens info'!D13 -> 28420 | K61: €/kålareal
B63: Lönekrav för eget arbete sammanlagt | F63: =F61 -> 2842 | G63: €/ha | H63: =H61 -> 0.05684 | I63: €/kg | J63: =J61 -> 28420 | K63: €/kålareal
B65: PRODUKTIONSKOSTNADER | F65: =F29+F58+F63 -> 12698.434 | G65: €/ha | H65: =H29+H58+H63 -> 0.25396867 | I65: €/kg | J65: =J29+J58+J63 -> 126984.34 | K65: €/kålareal
B67: FÖRETAGARENS VINST | F67: =F12-F29-F58-F63 -> 25328.666 | G67: €/ha | H67: =H12-H29-H58-H63 -> 0.50657333 | I67: €/kg | J67: =J12-J29-J58-J63 -> 253286.66 | K67: €/kålareal
B70: SKÖRDEÅRETS KOSTNADER | L70: TILL SIDANS BÖRJAN
B72: FRÖ | F72: ANTAL | H72: ENHETSPRIS | J72: HEKTARKOSTNAD | L72: OBSERVERA
C74: Plantor | F74: 30000 | G74: kpl/ha | H74: 0.045 | I74: €/kpl | J74: =F74*H74 -> 1350 | K74: €/ha
C75: SUMMA
B77: GÖDSEL OCH KALK | F77: ANTAL | H77: ENHETSPRIS | J77: HEKTARKOSTNAD
C79: Trädgård Y3 | F79: 800 | G79: kg | H79: 0.75 | I79: €/kg | J79: =F79*H79 -> 600 | K79: €/ha
C80: Salpeter | F80: 500 | G80: kg | H80: 0.4 | I80: €/kg | J80: =F80*H80 -> 200 | K80: €/ha
C81: Dolomitkalk utspridd (7 tn med fem års mellanrum) | F81: 2000 | G81: kg | H81: 0.46 | I81: €/kg | J81: =F81*H81 -> 920 | K81: €/ha
C82: gödsel X | G82: kg | I82: €/kg | J82: =F82*H82 -> 0 | K82: €/ha
C83: gödsel X | G83: kg | I83: €/kg | J83: =F83*H83 -> 0 | K83: €/ha
C84: SUMMA | J84: =SUM(J79:J83) -> 1720 | K84: €/ha
B87: IPM VÄXTSKYDD | F87: ANTAL | H87: ENHETSPRIS | J87: HEKTARKOSTNAD
D89: Växtskyddsprogrammet är vägledande, kontrollera godkända ämnen och arter från KemiDigi innan användning.
B90: KEMISK
C91: Devrinol (ogräs) | F91: 2 | G91: l | H91: 18.8 | I91: €/l | J91: =F91*H91 -> 37.6 | K91: €/ha
C92: Signum (sjukdomar) | F92: 2 | G92: kg | H92: 295 | I92: €/kg | J92: =F92*H92 -> 590 | K92: €/ha
C93: Mavrik (skadedjur) | F93: 1.5 | G93: l | H93: 52 | I93: €/l | J93: =F93*H93 -> 78 | K93: €/ha
C94: Butisan S (ogräs) | F94: 1.5 | G94: l | H94: 63 | I94: €/l | J94: =F94*H94 -> 94.5 | K94: €/ha
C95: ämne X | G95: l | I95: €/l | J95: =F95*H95 -> 0 | K95: €/ha
C96: ämne X | G96: l | I96: €/l | J96: =F96*H96 -> 0 | K96: €/ha
B98: BIOLOGISK
C99: preparat X | G99: l | I99: €/l | J99: =F99*H99 -> 0 | K99: €/ha
C100: preparat X | G100: l | I100: €/l | J100: =F100*H100 -> 0 | K100: €/ha
C101: preparat X | G101: l | I101: €/l | J101: =F101*H101 -> 0 | K101: €/ha
C102: preparat X | G102: l | I102: €/l | J102: =F102*H102 -> 0 | K102: €/ha
C103: SUMMA | J103: =SUM(J91:J102) -> 800.1 | K103: €/ha
B106: FÖRPACKNINGSMATERIAL | F106: ANTAL | H106: ENHETSPRIS | J106: HEKTARKOSTNAD
C108: 1 kg påse | F108: =S11*'Gårdens info'!$G$13/1 -> 0 | G108: kpl | H108: 0.01 | I108: €/kpl | J108: =F108*H108 -> 0 | K108: €/ha
C109: 0,25 kg knippe | F109: =S12*'Gårdens info'!$G$13/1 -> 0 | G109: kpl | H109: 0.01 | I109: €/kpl | J109: =F109*H109 -> 0 | K109: €/ha
C110: 0,5 kg påse | F110: =S13*'Gårdens info'!$G$13/1 -> 0 | G110: kpl | H110: 0.01 | I110: €/kpl | J110: =F110*H110 -> 0 | K110: €/ha
C111: 10 kg säck | F111: =S14*'Gårdens info'!$G$13/1 -> 25000 | G111: kpl | H111: 0.03 | I111: €/kpl | J111: =F111*H111 -> 750 | K111: €/ha
C112: Lagerlådssäck | D112: 300 | E112: kg | F112: =IF(S15>0,(S15*'Gårdens info'!$G$13/D112),0) -> 83.333333 | G112: kpl | H112: 1 | I112: €/kpl | J112: =F112*H112 -> 83.333333 | K112: €/ha
C113: förpackning X | E113: kg | F113: =IF(S16>0,(S16*'Gårdens info'!$G$13/D113),0) -> 0 | G113: kpl | I113: €/kpl | J113: =F113*H113 -> 0 | K113: €/ha
C114: förpackning X | E114: kg | F114: =IF(S17>0,(S17*'Gårdens info'!$G$13/D114),0) -> 0 | G114: kpl | I114: €/kpl | J114: =F114*H114 -> 0 | K114: €/ha
C115: förpackning X | E115: kg | F115: =IF(S18>0,(S18*'Gårdens info'!$G$13/D115),0) -> 0 | G115: kpl | I115: €/kpl | J115: =F115*H115 -> 0 | K115: €/ha
C116: SUMMA | J116: =SUM(J108:J115) -> 833.33333 | K116: €/ha
B119: FRAKTKOSTNADER SKÖRDEÅR | F119: ANTAL | H119: ENHETSPRIS | J119: HEKTARKOSTNAD
C121: Fraktkostnader | F121: ='Gårdens info'!G13*'Gårdens info'!D13*0.9 -> 450000 | G121: kg | H121: 0.002 | I121: €/kg | J121: =F121*H121 -> 900 | K121: €/ha
C122: frakt x | G122: kg | I122: €/kg | J122: =F122*H122 -> 0 | K122: €/ha
...

Sheet Förkultivering av kål
B1: FÖRKULTIVERING AV KÅL
B2: TILL FRAMSIDAN
B4: Kalkylen för förkultivering av kålplantor har gjorts som en produktionskostnadskalkyl, där man fastställer ett "pris" för den egenproducerade plantan. Utgångspunkten för kalkylen är att plantor odlas för ett område på 10 hektar. För detta krävs ett förkultiveringsområde på 700 m². I kalkylen har man dock, för att göra den mer användbar, använt kostnad per 100 m² och per planta som enhet. Förkultiveringstiden är cirka 4 veckor. Kalkylen innehåller inga försäljningsintäkter, eftersom utgångsläget är att plantorna används i egen produktion och inte säljs vidare. Kalkylen innehåller mycket bakgrundsinformation och underliggande beräkningar, som du kan komma åt genom att klicka på de understräckade delarna.
B6: PRODUKTIONSKOSTNAD AV KÅLPLANTOR | T6: =C10 -> Frö | U6: =F10 -> #DIV/0!
T7: =C11 -> Substrat | U7: =F11 -> #DIV/0!
B8: Rörliga kostnader | T8: =C12 -> Gödsel och kalk | U8: =F12 -> #DIV/0!
T9: =C13 -> IPM växtskydd | U9: =F13 -> #DIV/0!
C10: Frö | F10: =J10/'Gårdens info'!$D$23*100 -> #DIV/0! | G10: €/100 m2 | H10: =J10/'Gårdens info'!$G$23 -> 0 | I10: €/planta | J10: =J41 -> 0 | K10: €/odlingsareal | T10: =C14 -> Energikostnader | U10: =F14 -> #DIV/0!
C11: Substrat | F11: =J11/'Gårdens info'!$D$23*100 -> #DIV/0! | G11: €/100 m2 | H11: =J11/'Gårdens info'!$G$23 -> 0 | I11: €/planta | J11: =J48 -> 0 | K11: €/odlingsareal | T11: =C15 -> Anställd arbetskraft | U11: =F15 -> #DIV/0!
C12: Gödsel och kalk | F12: =J12/'Gårdens info'!$D$23*100 -> #DIV/0! | G12: €/100 m2 | H12: =J12/'Gårdens info'!$G$23 -> 0.014869565 | I12: €/planta | J12: =J56 -> 684 | K12: €/odlingsareal | T12: =B27 -> Fasta kostnader sammanlagt | U12: =F27 -> #DIV/0!
C13: IPM växtskydd | F13: =J13/'Gårdens info'!$D$23*100 -> #DIV/0! | G13: €/100 m2 | H13: =J13/'Gårdens info'!$G$23 -> 0 | I13: €/planta | J13: =J71 -> 0 | K13: €/odlingsareal | T13: =B29 -> Lönekrav för eget arbete | U13: =F30 -> #DIV/0!
C14: Energikostnader | F14: =J14/'Gårdens info'!$D$23*100 -> #DIV/0! | G14: €/100 m2 | H14: =J14/'Gårdens info'!$G$23 -> 0.019622609 | I14: €/planta | J14: =J81 -> 902.64 | K14: €/odlingsareal
C15: Anställd arbetskraft | F15: =J15/'Gårdens info'!$D$23*100 -> #DIV/0! | G15: €/100 m2 | H15: =J15/'Gårdens info'!$G$23 -> 0 | I15: €/planta | J15: =J98*L98 -> 0 | K15: €/odlingsareal
B17: Rörliga kostnader sammanlagt | F17: =SUM(F10:F15) -> #DIV/0! | G17: €/ha | H17: =SUM(H10:H15) -> 0.034492174 | I17: €/kg | J17: =SUM(J10:J15) -> 1586.64 | K17: €/odlingsareal
B19: Fasta kostnader, kålens andel
B20: BYGGNADER, MASKINER OCH LÅNGVARIGA FÖRNÖDENHET
C21: Avskrivning | F21: =J21/'Gårdens info'!$D$23*100 -> #DIV/0! | G21: €/100 m2 | H21: =J21/'Gårdens info'!$G$23 -> 0.082515652 | I21: €/planta | J21: =N124 -> 3795.72 | K21: €/odlingsareal
C22: Ränta | F22: =J22/'Gårdens info'!$D$23*100 -> #DIV/0! | G22: €/100 m2 | H22: =J22/'Gårdens info'!$G$23 -> 0.026423152 | I22: €/planta | J22: =O124 -> 1215.465 | K22: €/odlingsareal
C23: Reparation och underhåll | F23: =J23/'Gårdens info'!$D$23*100 -> #DIV/0! | G23: €/100 m2 | H23: =J23/'Gårdens info'!$G$23 -> 0.010569261 | I23: €/planta | J23: =P124 -> 486.186 | K23: €/odlingsareal
C24: Försäkringar | F24: =J24/'Gårdens info'!$D$23*100 -> #DIV/0! | G24: €/100 m2 | H24: =J24/'Gårdens info'!$G$23 -> 0.0021138522 | I24: €/planta | J24: =Q124 -> 97.2372 | K24: €/odlingsareal
C25: SUMMA | F25: =SUM(F21:F24) -> #DIV/0! | G25: €/100 m2 | H25: =SUM(H21:H24) -> 0.12162192 | I25: €/planta | J25: =SUM(J21:J24) -> 5594.6082 | K25: €/odlingsareal
B27: Fasta kostnader sammanlagt | F27: =F25 -> #DIV/0! | G27: €/100m2 | H27: =H25 -> 0.12162192 | I27: €/planta | J27: =J25 -> 5594.6082 | K27: €/odlingsareal
B29: Lönekrav för eget arbete
C30: Lönekrav för eget arbete | F30: =J30/'Gårdens info'!$D$23*100 -> #DIV/0! | G30: €/100 m2 | H30: =J30/'Gårdens info'!$G$23 -> 0.02773913 | I30: €/planta | J30: =H98 -> 1276 | K30: €/odlingsareal
B32: Lönekrav för eget arbete sammanlagt | F32: =F30 -> #DIV/0! | G32: €/100m2 | H32: =H30 -> 0.02773913 | I32: €/planta | J32: =J30 -> 1276 | K32: €/odlingsareal
B34: PRODUKTIONSKOSTNADER | F34: =F17+F27+F32 -> #DIV/0! | G34: €/100m2 | H34: =H17+H27+H32 -> 0.18385322 | I34: €/planta | J34: =J17+J27+J32 -> 8457.2482 | K34: €/odlingsareal
B37: PLANTPRODUKTIONSKOSTNADER | L37: TILL SIDANS BÖRJAN
B39: FRÖ | F39: ANTAL | H39: ENHETSPRIS | J39: KOSTNAD PER FÖRKULTIVERINGSOMRÅDE
C41: Frö, betat | F41: 7600 | G41: kpl/100 m2 | H41: 0.029 | I41: €/kpl | J41: =F41*H41*'Gårdens info'!D23/100 -> 0 | K41: €/odlingareal
B44: SUBSTRAT | F44: ANTAL | H44: ENHETSPRIS | J44: KOSTNAD PER FÖRKULTIVERINGSOMRÅDE
C46: Odlingstorv | F46: 2.1 | G46: m3/100 m2 | H46: 115 | I46: €/m3 | J46: =F46*H46*'Gårdens info'!D23/100 -> 0 | K46: €/odlingareal
C47: Substrat X | G47: m3/100 m2 | I47: €/m3 | J47: =F47*H47*'Gårdens info'!D23/100/5 -> 0 | K47: €/odlingareal
C48: SUMMA | J48: =SUM(J46:J47) -> 0 | K48: €/odlingareal
B51: GÖDSEL | F51: ANTAL | H51: ENHETSPRIS | J51: KOSTNAD PER FÖRKULTIVERINGSOMRÅDE
C53: Ferticare 10-52-17, 30 g/planta under hela odlingstiden | F53: =30*F41/1000 -> 228 | G53: kg/100 m2 | H53: 3 | I53: €/kg | J53: =F53*H53 -> 684 | K53: €/odlingareal
C54: Gödsel X | G54: kg/100 m2 | I54: €/kg | J54: =F54*H54 -> 0 | K54: €/odlingareal
C55: Gödsel X | G55: kg/100 m2 | I55: €/kg | J55: =F55*H55 -> 0 | K55: €/odlingareal
C56: SUMMA | J56: =SUM(J53:J55) -> 684 | K56: €/odlingareal
B59: IPM VÄXTSKYDD | F59: ANTAL | H59: ENHETSPRIS | J59: KOSTNAD PER FÖRKULTIVERINGSOMRÅDE
D61: Växtskyddsprogrammet är vägledande, kontrollera godkända ämnen och arter från KemiDigi innan användning.
B62: KEMISK
C63: ämne X | G63: l | I63: €/l | J63: =F63*H63 -> 0 | K63: €/odlingareal
C64: ämne X | G64: l | I64: €/l | J64: =F64*H64 -> 0 | K64: €/odlingareal
C65: ämne X | G65: l | I65: €/l | J65: =F65*H65 -> 0 | K65: €/odlingareal
B67: BIOLOGISK
C68: preparat X | G68: l | I68: €/l | J68: =F68*H68 -> 0 | K68: €/odlingareal
C69: preparat X | G69: l | I69: €/l | J69: =F69*H69 -> 0 | K69: €/odlingareal
C70: preparat X | G70: l | I70: €/l | J70: =F70*H70 -> 0 | K70: €/odlingareal
C71: SUMMA | J71: =SUM(J63:J70) -> 0 | K71: €/odlingareal
B75: ENERGIKOSTNADER | F75: ANTAL | H75: ENHETSPRIS | J75: KOSTNAD PER FÖRKULTIVERINGSOMRÅDE
C77: El | F77: 500 | G77: kWh | H77: 0.3 | I77: €/kWh | J77: =H77*F77 -> 150 | K77: €/odlingareal
C78: Varmluftsgenerator | F78: =4*7*24*1 -> 672 | G78: l | H78: 1.12 | I78: €/l | J78: =H78*F78 -> 752.64 | K78: €/odlingareal
C79: energi X | J79: =H79*F79 -> 0 | K79: €/odlingareal
C80: energi X | J80: =H80*F80 -> 0 | K80: €/odlingareal
C81: SUMMA | J81: =SUM(J77:J80) -> 902.64 | K81: €/odlingareal
B84: ARBETSINSATS
B86: I tabellen nedan är arbetsanvändningen listad per år och uppdelad enligt arbetsmoment. Du kan ändra arbetstimmarnas siffror. Du kan även justera enhetspriset för arbetet,
B87: det vill säga den blå cellen med priset i €/h. Enhetspriset inkluderar även sociala kostnader för lönearbete.
E88: FÖRETAGARFAMILJENS ARBETE | H88: ENHETSPRIS | J88: LÖNEARBETE | L88: ENHETSPRIS
C90: Maskinell fyllning och sådd av odlingsbrickor | F90: 8 | G90: h/odlingareal | H90: 14.5 | I90: €/h | K90: h/odlingareal | L90: 14.5 | M90: €/h
C91: Flyttning av odlingsbrickor till växthus | F91: 7 | G91: h/odlingareal | H91: =$H$90 -> 14.5 | I91: €/h | K91: h/odlingareal | L91: =$L$90 -> 14.5 | M91: €/h
C92: Bevattning | F92: =2*4*7 -> 56 | G92: h/odlingareal | H92: =$H$90 -> 14.5 | I92: €/h | K92: h/odlingareal | L92: =$L$90 -> 14.5 | M92: €/h
C93: Övervakning av växtbeståndet | F93: 10 | G93: h/odlingareal | H93: =$H$90 -> 14.5 | I93: €/h | K93: h/odlingareal | L93: =$L$90 -> 14.5 | M93: €/h
C94: Avhärdning av plantor | F94: 7 | G94: h/odlingareal | H94: =$H$90 -> 14.5 | I94: €/h | K94: h/odlingareal | L94: =$L$90 -> 14.5 | M94: €/h
C95: arbetsskede X | G95: h/odlingareal | H95: =$H$90 -> 14.5 | I95: €/h | K95: h/odlingareal | L95: =$L$90 -> 14.5 | M95: €/h
C96: arbetsskede X | G96: h/odlingareal | H96: =$H$90 -> 14.5 | I96: €/h | K96: h/odlingareal | L96: =$L$90 -> 14.5 | M96: €/h
C97: arbetsskede X | G97: h/odlingareal | H97: =$H$90 -> 14.5 | I97: €/h | K97: h/odlingareal | L97: =$L$90 -> 14.5 | M97: €/h
C98: SUMMA | F98: =SUM(F90:F97) -> 88 | G98: h/odlingareal | H98: =F98*H90 -> 1276 | I98: €/odlingareal | J98: =SUM(J90:J97) -> 0 | K98: h/odlingareal | L98: =J98*L90 -> 0 | M98: €/odlingsareal
B101: BYGGNADER, MASKINER OCH LÅNGVARIGA FÖRNÖDENHET
B103: Byggnader, maskiner och långvariga tillbehör för plantuppfödning har, till skillnad från andra kalkyler, listats här eftersom dessa tillgångar används enbart i denna kalkyl, förkultivering av kålplantor. De tillgångar som används för plantuppfödning har specificerats för ett odlingsområde på 700 m².
C105: Beräkningsår | D105: 2024
C106: Kultiveringssområde, m2 | D106: 700
C107: Räntesats | D107: 0.05
C108: Reparation och underhåll | D108: 0.01
C109: Försäkringskostnad | D109: 0.002
E110: ÅRSMODELL | F110: ENHETSPRIS | H110: BEHOV | J110: LIVSLÄNGD | L110: INKÖPSPRIS | N110: AVSKRIVNINGSKOSTNAD, € | O110: RÄNTEKOSTNAD, € | P110: REPARATIONS OCH UNDERHÅLLS KOSTNAD, € | Q110: FÖRSÄKRINGSKOSTNAD, €
C111: Plantuppfödningsrum, bågväxthus | E111: 2024 | F111: 40 | G111: €/m2 | H111: 700 | I111: m2 | J111: 15 | K111: år | L111: =F111*H111 -> 28000 | M111: € | N111: =IF($D$105-E111<=J111,L111/J111,0) -> 1866.6667 | O111: =IF($D$105-E111<=J111,L111/2*$D$107,0) -> 700 | P111: =L111*$D$108 -> 280 | Q111: =L111*$D$109 -> 56
C112: Varmluftsgenerator | E112: 2024 | F112: 7000 | G112: €/st | H112: 1 | I112: st | J112: 15 | K112: år | L112: =F112*H112 -> 7000 | M112: € | N112: =IF($D$105-E112<=J112,L112/J112,0) -> 466.66667 | O112: =IF($D$105-E112<=J112,L112/2*$D$107,0) -> 175 | P112: =L112*$D$108 -> 70 | Q112: =L112*$D$109 -> 14
C113: Mypex på golvet | E113: 2024 | F113: 0.57 | G113: €/m2 | H113: 700 | I113: m2 | J113: 5 | K113: år | L113: =F113*H113 -> 399 | M113: € | N113: =IF($D$105-E113<=J113,L113/J113,0) -> 79.8 | O113: =IF($D$105-E113<=J113,L113/2*$D$107,0) -> 9.975 | P113: =L113*$D$108 -> 3.99 | Q113: =L113*$D$109 -> 0.798
C114: Stryrox på golvet | E114: 2024 | F114: 3.4 | G114: €/m2 | H114: 700 | I114: m2 | J114: 10 | K114: år | L114: =F114*H114 -> 2380 | M114: € | N114: =IF($D$105-E114<=J114,L114/J114,0) -> 238 | O114: =IF($D$105-E114<=J114,L114/2*$D$107,0) -> 59.5 | P114: =L114*$D$108 -> 23.8 | Q114: =L114*$D$109 -> 4.76
C115: Plantek 144 D odlingsbricka | E115: 2024 | F115: 6.8 | G115: €/m2 | H115: =46*7 -> 322 | I115: st | J115: 5 | K115: år | L115: =F115*H115 -> 2189.6 | M115: € | N115: =IF($D$105-E115<=J115,L115/J115,0) -> 437.92 | O115: =IF($D$105-E115<=J115,L115/2*$D$107,0) -> 54.74 | P115: =L115*$D$108 -> 21.896 | Q115: =L115*$D$109 -> 4.3792
C116: Fyllnings- och såmaskin | E116: 2011 | F116: 5200 | G116: €/m2 | H116: 1 | I116: st | J116: 15 | K116: år | L116: =F116*H116 -> 5200 | M116: € | N116: =IF($D$105-E116<=J116,L116/J116,0) -> 346.66667 | O116: =IF($D$105-E116<=J116,L116/2*$D$107,0) -> 130 | P116: =L116*$D$108 -> 52 | Q116: =L116*$D$109 -> 10.4
C117: Gödseldoserare | E117: 2024 | F117: 800 | G117: €/st | H117: 1 | I117: st | J117: 10 | K117: år | L117: =F117*H117 -> 800 | M117: € | N117: =IF($D$105-E117<=J117,L117/J117,0) -> 80 | O117: =IF($D$105-E117<=J117,L117/2*$D$107,0) -> 20 | P117: =L117*$D$108 -> 8 | Q117: =L117*$D$109 -> 1.6
C118: Slangbevattningssystem | E118: 2024 | F118: 150 | G118: €/st | H118: 1 | I118: st | J118: 5 | K118: år | L118: =F118*H118 -> 150 | M118: € | N118: =IF($D$105-E118<=J118,L118/J118,0) -> 30 | O118: =IF($D$105-E118<=J118,L118/2*$D$107,0) -> 3.75 | P118: =L118*$D$108 -> 1.5 | Q118: =L118*$D$109 -> 0.3
C119: Rullvagnar | E119: 2024 | F119: 250 | G119: €/st | H119: 10 | I119: st | J119: 10 | K119: år | L119: =F119*H119 -> 2500 | M119: € | N119: =IF($D$105-E119<=J119,L119/J119,0) -> 250 | O119: =IF($D$105-E119<=J119,L119/2*$D$107,0) -> 62.5 | P119: =L119*$D$108 -> 25 | Q119: =L119*$D$109 -> 5
C120: Förnödenhet X | K120: år | L120: =F120*H120 -> 0 | M120: € | N120: =IF($D$105-E120<=J120,L120/J120,0) -> 0 | O120: =IF($D$105-E120<=J120,L120/2*$D$107,0) -> 0 | P120: =L120*$D$108 -> 0 | Q120: =L120*$D$109 -> 0
C121: Förnödenhet X | K121: år | L121: =F121*H121 -> 0 | M121: € | N121: =IF($D$105-E121<=J121,L121/J121,0) -> 0 | O121: =IF($D$105-E121<=J121,L121/2*$D$107,0) -> 0 | P121: =L121*$D$108 -> 0 | Q121: =L121*$D$109 -> 0
C122: Förnödenhet X | K122: år | L122: =F122*H122 -> 0 | M122: € | N122: =IF($D$105-E122<=J122,L122/J122,0) -> 0 | O122: =IF($D$105-E122<=J122,L122/2*$D$107,0) -> 0 | P122: =L122*$D$108 -> 0 | Q122: =L122*$D$109 -> 0
C123: Förnödenhet X | K123: år | L123: =F123*H123 -> 0 | M123: € | N123: =IF($D$105-E123<=J123,L123/J123,0) -> 0 | O123: =IF($D$105-E123<=J123,L123/2*$D$107,0) -> 0 | P123: =L123*$D$108 -> 0 | Q123: =L123*$D$109 -> 0
C124: SUMMA | N124: =SUM(N111:N123) -> 3795.72 | O124: =SUM(O111:O123) -> 1215.465 | P124: =SUM(P111:P123) -> 486.186 | Q124: =SUM(Q111:Q123) -> 97.2372

Sheet Insektsnät
B1: ANVÄNDNING AV INSÄKTSNÄT
B2: TILL FRAMSIDAN | AE2: MÅNATLIGA ARBETAANVÄNDNING, H/HA
AE3: I tabellen nedan listas den månatliga arbetsanvändningen, uppdelad i början och slutet av varje månad. Du kan fritt redigera siffrorna i de blåmarkerade cellerna. De årliga totalsummorna från tabellen nedan överförs automatiskt till kalkylens ARBETSANVÄNDNING-tabell.
B4: Ekonomin för användning av insektsnät har granskats med hjälp av kål. I beräkningen jämförs produktionslönsamheten mellan traditionell kemisk bekämpning och användning av insektsnät. Beräkningen hämtar siffrorna för traditionell kålproduktion från fliken 'Kål', som beskriver den traditionella odlingsmetoden med kemisk bekämpning. Under jämförelseberäkningen på denna sida finns en kalkyl för Kålsodling där insektsnät används.
AF5: januari | AH5: februari | AJ5: mars | AL5: april | AN5: maj | AP5: juni | AR5: juli | AT5: augusti | AV5: semptember | AX5: oktober | AZ5: november | BB5: december | BD5: Arbetet sammanlagt
B6: JÄMFÖRELSEBERÄKNING TRADITIONELL KEMISK BEKÄMPNING VS ANVÄNDNING AV INSEKTSNÄT | AE6: Odlingsplanering, dokumentation och kvalitetssystem | AH6: 1 | AJ6: 1 | AL6: 1 | AN6: 1 | AP6: 1 | AR6: 1 | AT6: 1 | AV6: 1 | AX6: 1 | AZ6: 1 | BB6: 1 | BD6: =SUM(AF6:BB6) -> 11 | BE6: timmar/ha
AE7: Produktionsavtal | BD7: =SUM(AF7:BB7) -> 0
F8: Kål, kemisk bekämpning | J8: Kål, användning av insektsnät | AE8: Jordbearbetning | AN8: 3 | BD8: =SUM(AF8:BB8) -> 3
B9: Inkomster | AE9: Mottagning och skötsel av plantor | AN9: 1 | BD9: =SUM(AF9:BB9) -> 1
AE10: Plantering | AO10: 10 | BD10: =SUM(AF10:BB10) -> 10
C11: Försäljningsinkomster | F11: =Kål!F10 -> 37000 | G11: €/ha | J11: =F76 -> 37000 | K11: €/ha | AE11: Gödsel | AN11: 2 | AQ11: 2 | AR11: 2 | BD11: =SUM(AF11:BB11) -> 6
C12: Stöd | F12: =Kål!F11 -> 1027.1 | G12: €/ha | J12: =F77 -> 1027.1 | K12: €/ha | AE12: Installation av bevattningsutrustning | AN12: 4 | BD12: =SUM(AF12:BB12) -> 4
B13: Summa inkomster = omsättning | F13: =SUM(F11:F12) -> 38027.1 | G13: €/ha | J13: =F78 -> 38027.1 | K13: €/ha | AE13: Bevattning | AN13: 3 | AO13: 3 | AP13: 3 | AQ13: 3 | AR13: 3 | AS13: 3 | BD13: =SUM(AF13:BB13) -> 18
AE14: Höstunderhåll av bevattningsutrustning | AT14: 4 | BD14: =SUM(AF14:BB14) -> 4
AE15: Växtskydd, ogräs | AO15: 2 | AP15: 2 | AW15: 2 | BD15: =SUM(AF15:BB15) -> 6
B16: Rörliga kostnader | AE16: Växtskydd, sjukdomar | AP16: 1 | AQ16: 1 | BD16: =SUM(AF16:BB16) -> 2
AE17: Montering och borttagning av insektsnät | AO17: 5 | AP17: 5 | AR17: 5 | AS17: 5 | AT17: 5 | AU17: 5 | BD17: =SUM(AF17:BB17) -> 30
C18: Plantor | F18: =Kål!F17 -> 1350 | G18: €/ha | J18: =F83 -> 1350 | K18: €/ha | AE18: Radrensning | AR18: 20 | AS18: 20 | BD18: =SUM(AF18:BB18) -> 40
C19: Gödsel och kalk | F19: =Kål!F18 -> 1720 | G19: €/ha | J19: =F84 -> 1720 | K19: €/ha | AE19: Rengöring av lager och andra utrymmen | AG19: 3 | AI19: 3 | AK19: 3 | BD19: =SUM(AF19:BB19) -> 9
C20: IPM Växtskydd | F20: =Kål!F19 -> 800.1 | G20: €/ha | J20: =F85 -> 722.1 | K20: €/ha | AE20: Skörd | AW20: 10 | AX20: 10 | BD20: =SUM(AF20:BB20) -> 20
C21: Packningsmaterial | F21: =Kål!F20 -> 833.33333 | G21: €/ha | J21: =F86 -> 833.33333 | K21: €/ha | AE21: Hantering och transport av skörd från åker til lager | AW21: 5 | AX21: 5 | BD21: =SUM(AF21:BB21) -> 10
C22: Fraktkostnader | F22: =Kål!F21 -> 900 | G22: €/ha | J22: =F87 -> 900 | K22: €/ha | AE22: Iordningställande och förpackning för försäljning | AW22: 6 | AX22: 6 | AY22: 6 | AZ22: 6 | BA22: 6 | BB22: 6 | BC22: 6 | BD22: =SUM(AF22:BC22) -> 42
C23: Maskinkostnader och entreprenad | F23: =Kål!F22 -> 0 | G23: €/ha | J23: =F88 -> 0 | K23: €/ha | AE23: Avslutning | AY23: 2 | AZ23: 2 | BD23: =SUM(AF23:BC23) -> 4
C24: Energikostnader | F24: =Kål!F23 -> 1304.24 | G24: €/ha | J24: =F89 -> 1334.12 | K24: €/ha | AE24: Utbildning, skatter, stöd, odling | AF24: 6 | AG24: 6 | BD24: =SUM(AF24:BB24) -> 12
C25: Anställd arbetskraft | F25: =Kål!F24 -> 1102 | G25: €/ha | J25: =F90 -> 1319.5 | K25: €/ha | AE25: Bokslut | AH25: 6 | BD25: =SUM(AF25:BB25) -> 6
C26: SUMMA | F26: =Kål!F25 -> 8009.6733 | G26: €/ha | J26: =F91 -> 8179.0533 | K26: €/ha | AE26: Företagshälsovård | AF26: 2 | BD26: =SUM(AF26:BB26) -> 2
AE27: Strategisk planering | AF27: 4 | BD27: =SUM(AF27:BB27) -> 4
B28: ALLMÄNNA KOSTNADER, kålens andel | F28: =Kål!F27 -> 238.29787 | G28: €/ha | J28: =F93 -> 238.29787 | K28: €/ha | AE28: Inköp av produktionsinsatser | AF28: 1 | AH28: 1 | AJ28: 1 | AL28: 1 | AN28: 1 | AP28: 1 | AR28: 1 | AT28: 1 | AV28: 1 | AX28: 1 | AZ28: 1 | BB28: 1 | BD28: =SUM(AF28:BB28) -> 12
B29: HYRESKOSTNADER ÅKER, kålens andel | F29: =Kål!F28 -> 187.23404 | G29: €/ha | J29: =F94 -> 187.23404 | K29: €/ha | AE29: Personalledning | AH29: 2 | AJ29: 2 | AL29: 2 | AN29: 4 | AP29: 4 | AR29: 4 | AT29: 4 | AV29: 4 | AX29: 2 | AZ29: 2 | BD29: =SUM(AF29:BB29) -> 30
B30: Rörliga kostnader sammanlagt | F30: =Kål!F29 -> 8435.2052 | G30: €/ha | J30: =F95 -> 8604.5852 | K30: €/ha | AE30: Marknadsföring | AH30: 1 | AJ30: 1 | AL30: 1 | AN30: 1 | AP30: 1 | AR30: 1 | AT30: 1 | AV30: 1 | AX30: 1 | AZ30: 1 | BD30: =SUM(AF30:BB30) -> 10
AE31: Arbetsmoment X | BD31: =SUM(AF31:BB31) -> 0
B32: Fasta kostnader, kålens andel | AE32: Arbetsmoment X | BD32: =SUM(AF32:BB32) -> 0
B33: BYGGNADER | AE33: Arbetsmoment X | BD33: =SUM(AF33:BB33) -> 0
C34: Avskrivning | F34: =Kål!F33 -> 317.88384 | G34: €/ha | J34: =F99 -> 317.88384 | K34: €/ha | AE34: SUMMA, H/HA | AF34: =SUM(AF6:AF33) -> 13 | AG34: =SUM(AG6:AG33) -> 9 | AH34: =SUM(AH6:AH33) -> 11 | AI34: =SUM(AI6:AI33) -> 3 | AJ34: =SUM(AJ6:AJ33) -> 5 | AK34: =SUM(AK6:AK33) -> 3 | AL34: =SUM(AL6:AL33) -> 5 | AM34: =SUM(AM6:AM33) -> 0 | ... BD34: =SUM(BD6:BD33) -> 296
C35: Ränta | F35: =Kål!F34 -> 198.6774 | G35: €/ha | J35: =F100 -> 198.6774 | K35: €/ha
C36: Reparation och underhåll | F36: =Kål!F35 -> 79.47096 | G36: €/ha | J36: =F101 -> 79.47096 | K36: €/ha
C37: Försäkringar | F37: =Kål!F36 -> 15.894192 | G37: €/ha | J37: =F102 -> 15.894192 | K37: €/ha
C38: SUMMA | F38: =Kål!F37 -> 611.92639 | G38: €/ha | J38: =F103 -> 611.92639 | K38: €/ha
B40: MASKIN OCH UTRUSTNING
C41: Avskrivning | F41: =Kål!F40 -> 377.58865 | G41: €/ha | J41: =F106 -> 377.58865 | K41: €/ha
C42: Ränta | F42: =Kål!F41 -> 141.59574 | G42: €/ha | J42: =F107 -> 141.59574 | K42: €/ha
C43: Reparation och underhåll | F43: =Kål!F42 -> 169.91489 | G43: €/ha | J43: =F108 -> 169.91489 | K43: €/ha
C44: Försäkringar | F44: =Kål!F43 -> 11.32766 | G44: €/ha | J44: =F109 -> 11.32766 | K44: €/ha
C45: SUMMA | F45: =Kål!F44 -> 700.42695 | G45: €/ha | J45: =F110 -> 700.42695 | K45: €/ha
B47: LÅNGVARIGA PRODUKTIONSMEDEL
C48: Avskrivning | F48: =Kål!F47 -> 61.72973 | G48: €/ha | J48: =F113 -> 515.06306 | K48: €/ha
C49: Ränta | F49: =Kål!F48 -> 11.162162 | G49: €/ha | J49: =F114 -> 45.162162 | K49: €/ha
C50: Reparation och underhåll | F50: =Kål!F49 -> 22.324324 | G50: €/ha | J50: =F115 -> 90.324324 | K50: €/ha
C51: Försäkringar | F51: =Kål!F50 -> 0.89297297 | G51: €/ha | J51: =F116 -> 3.612973 | K51: €/ha
C52: SUMMA | F52: =Kål!F51 -> 96.109189 | G52: €/ha | J52: =F117 -> 654.16252 | K52: €/ha
B54: TÄCKDIKEN
C55: Avskrivning | F55: =Kål!F54 -> 0 | G55: €/ha | J55: =F120 -> 0 | K55: €/ha
C56: Ränta | F56: =Kål!F55 -> 0 | G56: €/ha | J56: =F121 -> 0 | K56: €/ha
C57: Reparation och underhåll | F57: =Kål!F56 -> 12.765957 | G57: €/ha | J57: =F122 -> 12.765957 | K57: €/ha
C58: SUMMA | F58: =Kål!F57 -> 12.765957 | G58: €/ha | J58: =F123 -> 12.765957 | K58: €/ha
B59: Fasta kostnader sammanlagt | F59: =Kål!F58 -> 1421.2285 | G59: €/ha | J59: =F124 -> 1979.2818 | K59: €/ha
B61: Lönekrav för eget arbete
C62: Lönekrav för eget arbete | F62: =Kål!F61 -> 2842 | G62: €/ha | J62: =F127 -> 2972.5 | K62: €/ha
B64: Lönekrav för eget arbete sammanlagt | F64: =Kål!F63 -> 2842 | G64: €/ha | J64: =F129 -> 2972.5 | K64: €/ha
B66: PRODUKTIONSKOSTNAD | F66: =Kål!F65 -> 12698.434 | G66: €/ha | J66: =F131 -> 13556.367 | K66: €/ha
B68: FÖRETAGARENS VINST | F68: =Kål!F67 -> 25328.666 | G68: €/ha | J68: =F133 -> 24470.733 | K68: €/ha
B72: LÖNSAMHET FÖR KONVENTIONELLT ODLAD KÅL MED ANVÄNDNING AV INSEKTSNÄT
B74: Inkomster | N74: Försäljningsinkomster
C76: Försäljningsinkomster | F76: =IF('Gårdens info'!D13>0,H76*'Gårdens info'!G13,0) -> 37000 | G76: €/ha | H76: =IF('Gårdens info'!G13>0,(('Gårdens info'!D13*'Gårdens info'!G13*S77*T77)+('Gårdens info'!D13*'Gårdens info'!G13*S78*T78)+('Gårdens info'!D13*'Gårdens info'!G13*S79*T79)+('Gårdens info'!D13*'Gårdens info'!G13*S80*T80)+('Gårdens info'!D13*'Gårdens info'!G13*S81*T81)+('Gårdens info'!D13*'Gårdens info'!G13*S82*T82)+('Gårdens info'!D13*'Gårdens info'!G13*S83*T83)+('Gårdens info'!D13*'Gårdens info'!G13*S84*T84))/(('Gårdens info'!D13*'Gårdens info'!G13)),0) -> 0.74 | I76: €/kg | J76: =F76*'Gårdens info'!D13 -> 370000 | K76: €/kålareal | O76: Försäljningsstorlek | S76: ANDEL AV FÖRSÄLJNING | T76: PRIS
C77: Stöd | F77: =IF('Gårdens info'!D13>0,Stöd!L15,0) -> 1027.1 | G77: €/ha | H77: =IF('Gårdens info'!G13>0,F77/'Gårdens info'!G13,0) -> 0.020542 | I77: €/kg | J77: =F77*'Gårdens info'!D13 -> 10271 | K77: €/kålareal | O77: 1 | P77: kg | Q77: påse | S77: 0 | U77: €/kg
B78: Summa inkomster = omsättning | F78: =F76+F77 -> 38027.1 | G78: €/ha | H78: =H76+H77 -> 0.760542 | I78: €/kg | J78: =J76+J77 -> 380271 | K78: €/kålareal | O78: 0.25 | P78: kg | Q78: knippe | S78: 0 | U78: €/kg
O79: 0.5 | P79: kg | Q79: påse | S79: 0 | U79: €/kg
O80: 10 | P80: kg | Q80: säck | S80: 0.5 | T80: 0.76 | U80: €/kg
B81: Rörliga kostnader | O81: 300 | P81: kg | Q81: =C178 -> Lagerlådssäck | S81: 0.5 | T81: 0.72 | U81: €/kg
O82: =D179 -> 0 | P82: kg | Q82: förpackning X | S82: 0 | U82: €/kg
C83: Plantor | F83: =IF('Gårdens info'!D13>0,J140,0) -> 1350 | G83: €/ha | H83: =IF('Gårdens info'!$G$13>0,F83/'Gårdens info'!$G$13,) -> 0.027 | I83: €/kg | J83: =F83*'Gårdens info'!$D$13 -> 13500 | K83: €/kålareal | O83: =D180 -> 0 | P83: kg | Q83: förpackning X | S83: 0 | U83: €/kg
C84: Gödsel och kalk | F84: =IF('Gårdens info'!D13>0,J150,0) -> 1720 | G84: €/ha | H84: =IF('Gårdens info'!$G$13>0,F84/'Gårdens info'!$G$13,) -> 0.0344 | I84: €/kg | J84: =F84*'Gårdens info'!$D$13 -> 17200 | K84: €/kålareal | O84: =D181 -> 0 | P84: kg | Q84: förpackning X | S84: 0 | U84: €/kg
C85: IPM Växtskydd | F85: =IF('Gårdens info'!D13>0,J169,0) -> 722.1 | G85: €/ha | H85: =IF('Gårdens info'!$G$13>0,F85/'Gårdens info'!$G$13,) -> 0.014442 | I85: €/kg | J85: =F85*'Gårdens info'!$D$13 -> 7221 | K85: €/kålareal | O85: SUMMA | S85: =SUM(S77:S84) -> 1
C86: Packningsmaterial | F86: =IF('Gårdens info'!D13>0,J182,0) -> 833.33333 | G86: €/ha | H86: =IF('Gårdens info'!$G$13>0,F86/'Gårdens info'!$G$13,) -> 0.016666667 | I86: €/kg | J86: =F86*'Gårdens info'!$D$13 -> 8333.3333 | K86: €/kålareal | O86: =IF(S85=100%," ","HUOM! Osuus myyynneistä pitää summautua 100 prosenttiin")
C87: Fraktkostnader | F87: =IF('Gårdens info'!D13>0,J190,0) -> 900 | G87: €/ha | H87: =IF('Gårdens info'!$G$13>0,F87/'Gårdens info'!$G$13,) -> 0.018 | I87: €/kg | J87: =F87*'Gårdens info'!$D$13 -> 9000 | K87: €/kålareal
C88: Maskinkostnader och entreprenad | F88: =IF('Gårdens info'!D13>0,J198,0) -> 0 | G88: €/ha | H88: =IF('Gårdens info'!$G$13>0,F88/'Gårdens info'!$G$13,) -> 0 | I88: €/kg | J88: =F88*'Gårdens info'!$D$13 -> 0 | K88: €/kålareal
C89: Energikostnader | F89: =IF('Gårdens info'!D13>0,J210,0) -> 1334.12 | G89: €/ha | H89: =IF('Gårdens info'!$G$13>0,F89/'Gårdens info'!$G$13,) -> 0.0266824 | I89: €/kg | J89: =F89*'Gårdens info'!$D$13 -> 13341.2 | K89: €/kålareal
C90: Anställd arbetskraft | F90: =L247 -> 1319.5 | G90: €/ha | H90: =IF('Gårdens info'!$G$13>0,F90/'Gårdens info'!$G$13,) -> 0.02639 | I90: €/kg | J90: =F90*'Gårdens info'!$D$13 -> 13195 | K90: €/kålareal
C91: SUMMA | F91: =SUM(F83:F90) -> 8179.0533 | G91: €/ha | H91: =SUM(H83:H90) -> 0.16358107 | I91: €/kg | J91: =SUM(J83:J90) -> 81790.533 | K91: €/kålareal
AB92: =C83 -> Plantor | AC92: =F83 -> 1350
B93: ALLMÄNNA KOSTNADER, kålens andel | F93: =IF('Gårdens info'!D13>0,J93/'Gårdens info'!D13,0) -> 238.29787 | G93: €/ha | H93: =IF('Gårdens info'!G13>0,F93/'Gårdens info'!G13,0) -> 0.0047659574 | I93: €/kg | J93: ='Gårdens info'!G163/'Gårdens info'!D43*'Gårdens info'!D13 -> 2382.9787 | K93: €/kålareal | AB93: =C84 -> Gödsel och kalk | AC93: =F84 -> 1720
B94: HYRESKOSTNADER ÅKER, kålens andel | F94: =IF('Gårdens info'!D13>0,J94/'Gårdens info'!D13,0) -> 187.23404 | G94: €/ha | H94: =IF('Gårdens info'!G13>0,F94/'Gårdens info'!G13,0) -> 0.0037446809 | I94: €/kg | J94: ='Gårdens info'!$D$48/'Gårdens info'!$D$49*'Gårdens info'!$G$48*'Gårdens info'!D13 -> 1872.3404 | K94: €/kålareal | AB94: =C85 -> IPM Växtskydd | AC94: =F85 -> 722.1
B95: Rörliga kostnader sammanlagt | F95: =F91+F93+F94 -> 8604.5852 | G95: €/ha | H95: =H91+H93+H94 -> 0.1720917 | I95: €/kg | J95: =J91+J93+J94 -> 86045.852 | K95: €/kålareal | AB95: =C86 -> Packningsmaterial | AC95: =F86 -> 833.33333
AB96: =C87 -> Fraktkostnader | AC96: =F87 -> 900
B97: Fasta kostnader, kålens andel | AB97: =C88 -> Maskinkostnader och entreprenad | AC97: =F88 -> 0
B98: BYGGNADER | AB98: =C89 -> Energikostnader | AC98: =F89 -> 1334.12
C99: Avskrivning | F99: =IF('Gårdens info'!$D$13>0,J99/'Gårdens info'!$D$13,0) -> 317.88384 | G99: €/ha | H99: =IF('Gårdens info'!$G$13>0,F99/'Gårdens info'!$G$13,0) -> 0.0063576768 | I99: €/kg | J99: =Egendom!AM25 -> 3178.8384 | K99: €/kålareal | AB99: =C90 -> Anställd arbetskraft | AC99: =F90 -> 1319.5
C100: Ränta | F100: =IF('Gårdens info'!$D$13>0,J100/'Gårdens info'!$D$13,0) -> 198.6774 | G100: €/ha | H100: =IF('Gårdens info'!$G$13>0,F100/'Gårdens info'!$G$13,0) -> 0.003973548 | I100: €/kg | J100: =Egendom!BK25 -> 1986.774 | K100: €/kålareal | AB100: Yleiskustannukset | AC100: =F93 -> 238.29787
C101: Reparation och underhåll | F101: =IF('Gårdens info'!$D$13>0,J101/'Gårdens info'!$D$13,0) -> 79.47096 | G101: €/ha | H101: =IF('Gårdens info'!$G$13>0,F101/'Gårdens info'!$G$13,0) -> 0.0015894192 | I101: €/kg | J101: =Egendom!CI25 -> 794.7096 | K101: €/kålareal | AB101: Pellon vuokrakustannukset | AC101: =F94 -> 187.23404
C102: Försäkringar | F102: =IF('Gårdens info'!$D$13>0,J102/'Gårdens info'!$D$13,0) -> 15.894192 | G102: €/ha | H102: =IF('Gårdens info'!$G$13>0,F102/'Gårdens info'!$G$13,0) -> 0.00031788384 | I102: €/kg | J102: =Egendom!DG25 -> 158.94192 | K102: €/kålareal | AB102: Rakennukset | AC102: =F103 -> 611.92639
C103: SUMMA | F103: =SUM(F99:F102) -> 611.92639 | G103: €/ha | H103: =SUM(H99:H102) -> 0.012238528 | I103: €/kg | J103: =SUM(J99:J102) -> 6119.2639 | K103: €/kålareal | AB103: Koneet ja kalusto | AC103: =F110 -> 700.42695
AB104: Pidempiaikaiset tuotantovälineet | AC104: =F117 -> 654.16252
B105: MASKINER OCH UTRUSTNING | AB105: Salaojat | AC105: =F123 -> 12.765957
C106: Avskrivning | F106: =IF('Gårdens info'!$D$13>0,J106/'Gårdens info'!$D$13,0) -> 377.58865 | G106: €/ha | H106: =IF('Gårdens info'!$G$13>0,F106/'Gårdens info'!$G$13,0) -> 0.007551773 | I106: €/kg | J106: =Egendom!AM61 -> 3775.8865 | K106: €/kålareal | AB106: Oman työn palkkavaatimus | AC106: =F129 -> 2972.5
C107: Ränta | F107: =IF('Gårdens info'!$D$13>0,J107/'Gårdens info'!$D$13,0) -> 141.59574 | G107: €/ha | H107: =IF('Gårdens info'!$G$13>0,F107/'Gårdens info'!$G$13,0) -> 0.0028319149 | I107: €/kg | J107: =Egendom!BK61 -> 1415.9574 | K107: €/kålareal
C108: Reparation och underhåll | F108: =IF('Gårdens info'!$D$13>0,J108/'Gårdens info'!$D$13,0) -> 169.91489 | G108: €/ha | H108: =IF('Gårdens info'!$G$13>0,F108/'Gårdens info'!$G$13,0) -> 0.0033982979 | I108: €/kg | J108: =Egendom!CI61 -> 1699.1489 | K108: €/kålareal
C109: Försäkringar | F109: =IF('Gårdens info'!$D$13>0,J109/'Gårdens info'!$D$13,0) -> 11.32766 | G109: €/ha | H109: =IF('Gårdens info'!$G$13>0,F109/'Gårdens info'!$G$13,0) -> 0.00022655319 | I109: €/kg | J109: =Egendom!DG61 -> 113.2766 | K109: €/kålareal
C110: SUMMA | F110: =SUM(F106:F109) -> 700.42695 | G110: €/ha | H110: =SUM(H106:H109) -> 0.014008539 | I110: €/kg | J110: =SUM(J106:J109) -> 7004.2695 | K110: €/kålareal
B112: LÅNGVARIGA PRODUKTIONSMEDEL
C113: Avskrivning | F113: =IF('Gårdens info'!$D$13>0,J113/'Gårdens info'!$D$13,0) -> 515.06306 | G113: €/ha | H113: =IF('Gårdens info'!$G$13>0,F113/'Gårdens info'!$G$13,0) -> 0.010301261 | I113: €/kg | J113: =Egendom!AM90 -> 5150.6306 | K113: €/kålareal
...

Sheet Lök
B1: LÖK
B2: TILL FRAMSIDAN | AE2: MÅNATLIGA ARBETAANVÄNDNING, H/HA
AE3: I tabellen nedan listas den månatliga arbetsanvändningen, uppdelad i början och slutet av varje månad. Du kan fritt redigera siffrorna i de blåmarkerade cellerna. De årliga totalsummorna från tabellen nedan överförs automatiskt till kalkylens ARBETSANVÄNDNING-tabell.
B4: Lönsamhetskalkylerna består först av inkomsterna. Därefter kommer utgifterna. Kalkylerna innehåller mycket bakgrundsinformation och bakgrundsuträkningar, dit du kommer genom att klicka på de understräckade delarna.
AF5: januari | AH5: februari | AJ5: mars | AL5: april | AN5: maj | AP5: juni | AR5: juli | AT5: augusti | AV5: semptember | AX5: oktober | AZ5: november | BB5: december | BD5: Arbetet sammanlagt
B6: LÖNSAMHET FÖR KONVENTIONELLT ODLAD LÖK | AE6: Odlingsplanering, dokumentation och kvalitetssystem | AH6: 1 | AJ6: 1 | AL6: 1 | AN6: 1 | AP6: 1 | AR6: 1 | AT6: 1 | AV6: 1 | AX6: 1 | AZ6: 1 | BB6: 1 | BD6: =SUM(AF6:BB6) -> 11 | BE6: timmar/ha
AE7: Produktionsavtal | AZ7: 1 | BD7: =SUM(AF7:BB7) -> 1
B8: Inkomster | N8: Försäljningsinkomster | AE8: Jordbearbetning | AM8: 3 | BD8: =SUM(AF8:BB8) -> 3
C9: Försäljningsinkomster | F9: =H9*'Gårdens info'!G14 -> 29200 | G9: €/ha | H9: =IF('Gårdens info'!G14>0,(('Gårdens info'!D14*'Gårdens info'!G14*S10*T10)+('Gårdens info'!D14*'Gårdens info'!G14*S11*T11)+('Gårdens info'!D14*'Gårdens info'!G14*S12*T12)+('Gårdens info'!D14*'Gårdens info'!G14*S13*T13)+('Gårdens info'!D14*'Gårdens info'!G14*S14*T14)+('Gårdens info'!D14*'Gårdens info'!G14*S15*T15)+('Gårdens info'!D14*'Gårdens info'!G14*S16*T16)+('Gårdens info'!D14*'Gårdens info'!G14*S17*T17))/(('Gårdens info'!D14*'Gårdens info'!G14)),0) -> 0.73 | I9: €/kg | J9: =F9*'Gårdens info'!D14 -> 58400 | K9: €/lökareal | O9: Försäljningsstorlek | S9: ANDEL AV FÖRSÄLJNING | T9: PRIS | AE9: Plantering av sättlöken | AM9: 4 | BD9: =SUM(AF9:BB9) -> 4
C10: Stöd | F10: =IF('Gårdens info'!D14>0,Stöd!L15,0) -> 1027.1 | G10: €/ha | H10: =IF('Gårdens info'!G14>0,F10/'Gårdens info'!G14,0) -> 0.0256775 | I10: €/kg | J10: =F10*'Gårdens info'!D14 -> 2054.2 | K10: €/lökareal | O10: 1 | P10: kg | Q10: påse | S10: 0 | U10: €/kg | AE10: Gödsel | AN10: 2 | BD10: =SUM(AF10:BB10) -> 2
B11: Summa inkomster = omsättning | F11: =F9+F10 -> 30227.1 | G11: €/ha | H11: =H9+H10 -> 0.7556775 | I11: €/kg | J11: =J9+J10 -> 60454.2 | K11: €/lökareal | O11: 0.25 | P11: kg | Q11: knippe | S11: 0 | U11: €/kg | AE11: Installation av bevattningsutrustning | AN11: 4 | BD11: =SUM(AF11:BB11) -> 4
O12: 0.5 | P12: kg | Q12: påse | S12: 0.5 | T12: 0.74 | U12: €/kg | AE12: Bevattning | AN12: 3 | AO12: 3 | AP12: 3 | AQ12: 3 | AR12: 3 | AS12: 3 | BD12: =SUM(AF12:BB12) -> 18
O13: 10 | P13: kg | Q13: säck | S13: 0.5 | T13: 0.72 | U13: €/kg | AE13: Höstunderhåll av bevattningsutrustning | AT13: 4 | BD13: =SUM(AF13:BB13) -> 4
B14: Rörliga kostnader | O14: =D113 -> 0 | P14: kg | Q14: =C113 -> förpackning X | S14: 0 | U14: €/kg | AE14: Växtskydd, ogräs | AP14: 2 | AQ14: 2 | AW14: 2 | BD14: =SUM(AF14:BB14) -> 6
O15: =D114 -> 0 | P15: kg | Q15: =C114 -> förpackning X | S15: 0 | U15: €/kg | AE15: Växtskydd, sjukdomar | AR15: 2 | AS15: 2 | BD15: =SUM(AF15:BB15) -> 4
C16: Sättlök | F16: =IF('Gårdens info'!D14>0,J73,0) -> 1430 | G16: €/ha | H16: =IF('Gårdens info'!$G$14>0,F16/'Gårdens info'!$G$14,0) -> 0.03575 | I16: €/kg | J16: =F16*'Gårdens info'!$D$14 -> 2860 | K16: €/lökareal | O16: =D115 -> 0 | P16: kg | Q16: =C115 -> förpackning X | S16: 0 | U16: €/kg | AE16: Växtskydd, skadedjur | AT16: 2 | AU16: 2 | BD16: =SUM(AF16:BB16) -> 4
C17: Gödsel och kalk | F17: =IF('Gårdens info'!D14>0,J83,0) -> 1288 | G17: €/ha | H17: =IF('Gårdens info'!$G$14>0,F17/'Gårdens info'!$G$14,0) -> 0.0322 | I17: €/kg | J17: =F17*'Gårdens info'!$D$14 -> 2576 | K17: €/lökareal | O17: =D116 -> 0 | P17: kg | Q17: förpackning X | S17: 0 | U17: €/kg | AE17: Radrensning | AR17: 20 | AS17: 20 | BD17: =SUM(AF17:BB17) -> 40
C18: IPM Växtskydd | F18: =IF('Gårdens info'!D14>0,J104,0) -> 238.3935 | G18: €/ha | H18: =IF('Gårdens info'!$G$14>0,F18/'Gårdens info'!$G$14,0) -> 0.0059598375 | I18: €/kg | J18: =F18*'Gårdens info'!$D$14 -> 476.787 | K18: €/lökareal | O18: SUMMA | S18: =SUM(S10:S17) -> 1 | AE18: Rengöring av lager och andra utrymmen | AG18: 3 | AI18: 3 | AK18: 3 | BD18: =SUM(AF18:BB18) -> 9
C19: Packningsmaterial | F19: =IF('Gårdens info'!D14>0,J117,0) -> 1200 | G19: €/ha | H19: =IF('Gårdens info'!$G$14>0,F19/'Gårdens info'!$G$14,0) -> 0.03 | I19: €/kg | J19: =F19*'Gårdens info'!$D$14 -> 2400 | K19: €/lökareal | O19: =IF(S18=100%," ","HUOM! Osuus myyynneistä pitää summautua 100 prosenttiin") | AE19: Skörd | AV19: 10 | AW19: 10 | BD19: =SUM(AF19:BB19) -> 20
C20: Fraktkostnader | F20: =IF('Gårdens info'!D14>0,J125,0) -> 1280 | G20: €/ha | H20: =IF('Gårdens info'!$G$14>0,F20/'Gårdens info'!$G$14,0) -> 0.032 | I20: €/kg | J20: =F20*'Gårdens info'!$D$14 -> 2560 | K20: €/lökareal | AE20: Hantering och transport av skörd från åker til lager | AV20: 5 | AW20: 5 | BD20: =SUM(AF20:BB20) -> 10
C21: Maskinkostnader och entreprenad | F21: =IF('Gårdens info'!D14>0,J133,0) -> 0 | G21: €/ha | H21: =IF('Gårdens info'!$G$14>0,F21/'Gårdens info'!$G$14,0) -> 0 | I21: €/kg | J21: =F21*'Gårdens info'!$D$14 -> 0 | K21: €/lökareal | AE21: Iordningställande och förpackning för försäljning | AW21: 4 | AX21: 4 | AY21: 4 | AZ21: 4 | BA21: 4 | BB21: 4 | BC21: 4 | BD21: =SUM(AF21:BC21) -> 28
C22: Energikostnader | F22: =IF('Gårdens info'!D14>0,J145,0) -> 2639 | G22: €/ha | H22: =IF('Gårdens info'!$G$14>0,F22/'Gårdens info'!$G$14,0) -> 0.065975 | I22: €/kg | J22: =F22*'Gårdens info'!$D$14 -> 5278 | K22: €/lökareal | AE22: Utbildning, skatter, stöd, odling | AF22: 6 | AG22: 6 | BD22: =SUM(AF22:BB22) -> 12
C23: Anställd arbetskraft | F23: =IF('Gårdens info'!D14,L181,0) -> 435 | G23: €/ha | H23: =IF('Gårdens info'!$G$14>0,F23/'Gårdens info'!$G$14,0) -> 0.010875 | I23: €/kg | J23: =F23*'Gårdens info'!$D$14 -> 870 | K23: €/lökareal | AE23: Bokslut | AH23: 6 | BD23: =SUM(AF23:BB23) -> 6
C24: SUMMA | F24: =SUM(F16:F23) -> 8510.3935 | G24: €/ha | H24: =SUM(H16:H23) -> 0.21275984 | I24: €/kg | J24: =SUM(J16:J23) -> 17020.787 | K24: €/lökareal | AE24: Företagshälsovård | AF24: 2 | BD24: =SUM(AF24:BB24) -> 2
AB25: Istukkaat | AC25: =F16 -> 1430 | AE25: Strategisk planering | AF25: 4 | BD25: =SUM(AF25:BB25) -> 4
B26: ALMÄNNA KOSTNADER, lökens andel | F26: =IF('Gårdens info'!D14>0,J26/'Gårdens info'!D14,0) -> 238.29787 | G26: €/ha | H26: =IF('Gårdens info'!G14>0,F26/'Gårdens info'!G14,0) -> 0.0059574468 | I26: €/kg | J26: ='Gårdens info'!G163/'Gårdens info'!D43*'Gårdens info'!D14 -> 476.59574 | K26: €/lökareal | AB26: =C17 -> Gödsel och kalk | AC26: =F17 -> 1288 | AE26: Inköp av produktionsinsatser | AF26: 1 | AH26: 1 | AJ26: 1 | AL26: 1 | AN26: 1 | AP26: 1 | AR26: 1 | AT26: 1 | AV26: 1 | AX26: 1 | AZ26: 1 | BB26: 1 | BD26: =SUM(AF26:BB26) -> 12
B27: HYREKOSTNADER ÅKER, lökens andel | F27: =IF('Gårdens info'!D14>0,J27/'Gårdens info'!D14,0) -> 187.23404 | G27: €/ha | H27: =IF('Gårdens info'!G14>0,F27/'Gårdens info'!G14,0) -> 0.0046808511 | I27: €/kg | J27: ='Gårdens info'!$D$48/'Gårdens info'!$D$49*'Gårdens info'!$G$48*'Gårdens info'!D14 -> 374.46809 | K27: €/lökareal | AB27: =C18 -> IPM Växtskydd | AC27: =F18 -> 238.3935 | AE27: Personalledning | AH27: 2 | AJ27: 2 | AL27: 2 | AN27: 4 | AP27: 4 | AR27: 4 | AT27: 4 | AV27: 4 | AX27: 2 | AZ27: 2 | BD27: =SUM(AF27:BB27) -> 30
B28: Rörliga kostnader sammanlagt | F28: =F24+F26+F27 -> 8935.9254 | G28: €/ha | H28: =H24+H26+H27 -> 0.22339814 | I28: €/kg | J28: =J24+J26+J27 -> 17871.851 | K28: €/lökareal | AB28: =C19 -> Packningsmaterial | AC28: =F19 -> 1200 | AE28: Marknadsföring | AH28: 1 | AJ28: 1 | AL28: 1 | AN28: 1 | AP28: 1 | AR28: 1 | AT28: 1 | AV28: 1 | AX28: 1 | AZ28: 1 | BD28: =SUM(AF28:BB28) -> 10
AB29: =C20 -> Fraktkostnader | AC29: =F20 -> 1280 | AE29: Arbetsmoment X | BD29: =SUM(AF29:BB29) -> 0
B30: Fasta kostnader, lökens andel | AB30: =C21 -> Maskinkostnader och entreprenad | AC30: =F21 -> 0 | AE30: Arbetsmoment X | BD30: =SUM(AF30:BB30) -> 0
B31: BYGGNADER | AB31: =C22 -> Energikostnader | AC31: =F22 -> 2639 | AE31: Arbetsmoment X | BD31: =SUM(AF31:BB31) -> 0
C32: Avskrivning | F32: =IF('Gårdens info'!$D$14>0,J32/'Gårdens info'!$D$14,0) -> 1259.9688 | G32: €/ha | H32: =IF('Gårdens info'!$G$14>0,F32/'Gårdens info'!$G$14,0) -> 0.03149922 | I32: €/kg | J32: =Egendom!AN25 -> 2519.9376 | K32: €/lökareal | AB32: =C23 -> Anställd arbetskraft | AC32: =F23 -> 435 | AE32: SUMMA, H/HA | AF32: =SUM(AF6:AF31) -> 13 | AG32: =SUM(AG6:AG31) -> 9 | AH32: =SUM(AH6:AH31) -> 11 | AI32: =SUM(AI6:AI31) -> 3 | AJ32: =SUM(AJ6:AJ31) -> 5 | AK32: =SUM(AK6:AK31) -> 3 | AL32: =SUM(AL6:AL31) -> 5 | AM32: =SUM(AM6:AM31) -> 7 | ... BD32: =SUM(BD6:BD31) -> 244
C33: Ränta | F33: =IF('Gårdens info'!$D$14>0,J33/'Gårdens info'!$D$14,0) -> 787.48049 | G33: €/ha | H33: =IF('Gårdens info'!$G$14>0,F33/'Gårdens info'!$G$14,0) -> 0.019687012 | I33: €/kg | J33: =Egendom!BL25 -> 1574.961 | K33: €/lökareal | AB33: Allmänna kostnader | AC33: =F26 -> 238.29787
C34: Reparation och underhåll | F34: =IF('Gårdens info'!$D$14>0,J34/'Gårdens info'!$D$14,0) -> 314.9922 | G34: €/ha | H34: =IF('Gårdens info'!$G$14>0,F34/'Gårdens info'!$G$14,0) -> 0.0078748049 | I34: €/kg | J34: =Egendom!CJ25 -> 629.98439 | K34: €/lökareal | AB34: Hyreskostnader åker | AC34: =F27 -> 187.23404
C35: Försäkringar | F35: =IF('Gårdens info'!$D$14>0,J35/'Gårdens info'!$D$14,0) -> 62.998439 | G35: €/ha | H35: =IF('Gårdens info'!$G$14>0,F35/'Gårdens info'!$G$14,0) -> 0.001574961 | I35: €/kg | J35: =Egendom!DH25 -> 125.99688 | K35: €/lökareal | AB35: Byggnader | AC35: =F36 -> 2425.4399
C36: SUMMA | F36: =SUM(F32:F35) -> 2425.4399 | G36: €/ha | H36: =SUM(H32:H35) -> 0.060635998 | I36: €/kg | J36: =SUM(J32:J35) -> 4850.8798 | K36: €/lökareal | AB36: Maskiner och utrustning | AC36: =F43 -> 1451.2603
AB37: Långvariga produktionsmedel | AC37: =F50 -> 96.109189
B38: MASKIN OCH UTRUSTNING | AB38: Täckdiken | AC38: =F56 -> 12.765957
C39: Avskrivning | F39: =IF('Gårdens info'!$D$14>0,J39/'Gårdens info'!$D$14,0) -> 782.35056 | G39: €/ha | H39: =IF('Gårdens info'!$G$14>0,F39/'Gårdens info'!$G$14,0) -> 0.019558764 | I39: €/kg | J39: =Egendom!AN61 -> 1564.7011 | K39: €/lökareal | AB39: Lönekrav för eget arbete | AC39: =F62 -> 3103
C40: Ränta | F40: =IF('Gårdens info'!$D$14>0,J40/'Gårdens info'!$D$14,0) -> 293.38146 | G40: €/ha | H40: =IF('Gårdens info'!$G$14>0,F40/'Gårdens info'!$G$14,0) -> 0.0073345365 | I40: €/kg | J40: =Egendom!BL61 -> 586.76292 | K40: €/lökareal
C41: Reparation och underhåll | F41: =IF('Gårdens info'!$D$14>0,J41/'Gårdens info'!$D$14,0) -> 352.05775 | G41: €/ha | H41: =IF('Gårdens info'!$G$14>0,F41/'Gårdens info'!$G$14,0) -> 0.0088014438 | I41: €/kg | J41: =Egendom!CJ61 -> 704.1155 | K41: €/lökareal
C42: Försäkringar | F42: =IF('Gårdens info'!$D$14>0,J42/'Gårdens info'!$D$14,0) -> 23.470517 | G42: €/ha | H42: =IF('Gårdens info'!$G$14>0,F42/'Gårdens info'!$G$14,0) -> 0.00058676292 | I42: €/kg | J42: =Egendom!DH61 -> 46.941033 | K42: €/lökareal
C43: SUMMA | F43: =SUM(F39:F42) -> 1451.2603 | G43: €/ha | H43: =SUM(H39:H42) -> 0.036281507 | I43: €/kg | J43: =SUM(J39:J42) -> 2902.5206 | K43: €/lökareal
B45: LÅNGVARIGA PRODUKTIONSMEDEL
C46: Avskrivning | F46: =IF('Gårdens info'!$D$14>0,J46/'Gårdens info'!$D$14,0) -> 61.72973 | G46: €/ha | H46: =IF('Gårdens info'!$G$14>0,F46/'Gårdens info'!$G$14,0) -> 0.0015432432 | I46: €/kg | J46: =Egendom!AN90 -> 123.45946 | K46: €/lökareal
C47: Ränta | F47: =IF('Gårdens info'!$D$14>0,J47/'Gårdens info'!$D$14,0) -> 11.162162 | G47: €/ha | H47: =IF('Gårdens info'!$G$14>0,F47/'Gårdens info'!$G$14,0) -> 0.00027905405 | I47: €/kg | J47: =Egendom!BL90 -> 22.324324 | K47: €/lökareal
C48: Reparation och underhåll | F48: =IF('Gårdens info'!$D$14>0,J48/'Gårdens info'!$D$14,0) -> 22.324324 | G48: €/ha | H48: =IF('Gårdens info'!$G$14>0,F48/'Gårdens info'!$G$14,0) -> 0.00055810811 | I48: €/kg | J48: =Egendom!CJ90 -> 44.648649 | K48: €/lökareal
C49: Försäkringar | F49: =IF('Gårdens info'!$D$14>0,J49/'Gårdens info'!$D$14,0) -> 0.89297297 | G49: €/ha | H49: =IF('Gårdens info'!$G$14>0,F49/'Gårdens info'!$G$14,0) -> 2.2324324e-05 | I49: €/kg | J49: =Egendom!DH90 -> 1.7859459 | K49: €/lökareal
C50: SUMMA | F50: =SUM(F46:F49) -> 96.109189 | G50: €/ha | H50: =SUM(H46:H49) -> 0.0024027297 | I50: €/kg | J50: =SUM(J46:J49) -> 192.21838 | K50: €/lökareal
B52: TÄCKDIKEN
C53: Avskrivning | F53: =IF('Gårdens info'!$D$14>0,J53/'Gårdens info'!$D$14,0) -> 0 | G53: €/ha | H53: =IF('Gårdens info'!$G$14>0,F53/'Gårdens info'!$G$14,0) -> 0 | I53: €/kg | J53: =Egendom!AN93 -> 0 | K53: €/lökareal
C54: Ränta | F54: =IF('Gårdens info'!$D$14>0,J54/'Gårdens info'!$D$14,0) -> 0 | G54: €/ha | H54: =IF('Gårdens info'!$G$14>0,F54/'Gårdens info'!$G$14,0) -> 0 | I54: €/kg | J54: =Egendom!BL93 -> 0 | K54: €/lökareal
C55: Reparation och underhåll | F55: =IF('Gårdens info'!$D$14>0,J55/'Gårdens info'!$D$14,0) -> 12.765957 | G55: €/ha | H55: =IF('Gårdens info'!$G$14>0,F55/'Gårdens info'!$G$14,0) -> 0.00031914894 | I55: €/kg | J55: =Egendom!CJ93 -> 25.531915 | K55: €/lökareal
C56: SUMMA | F56: =SUM(F53:F55) -> 12.765957 | G56: €/ha | H56: =SUM(H53:H55) -> 0.00031914894 | I56: €/kg | J56: =SUM(J53:J55) -> 25.531915 | K56: €/lökareal
B57: Fasta kostnader sammanlagt | F57: =F36+F43+F50+F56 -> 3985.5753 | G57: €/ha | H57: =H36+H43+H50+H56 -> 0.099639383 | I57: €/kg | J57: =J36+J43+J50+J56 -> 7971.1507 | K57: €/lökareal
B59: Lönekrav för eget arbete
C60: Lönekrav för eget arbete | F60: =IF('Gårdens info'!D14>0,H181,0) -> 3103 | G60: €/ha | H60: =IF('Gårdens info'!G14>0,F60/'Gårdens info'!$G$14,0) -> 0.077575 | I60: €/kg | J60: =F60*'Gårdens info'!D14 -> 6206 | K60: €/lökareal
B62: Lönekrav för eget arbete sammanlagt | F62: =F60 -> 3103 | G62: €/ha | H62: =H60 -> 0.077575 | I62: €/kg | J62: =J60 -> 6206 | K62: €/lökareal
B64: PRODUKTIONSKOSTNADER | F64: =F28+F57+F62 -> 16024.501 | G64: €/ha | H64: =H28+H57+H62 -> 0.40061252 | I64: €/kg | J64: =J28+J57+J62 -> 32049.002 | K64: €/lökareal
B66: FÖRETAGARENS VINST | F66: =F11-F28-F57-F62 -> 14202.599 | G66: €/ha | H66: =H11-H28-H57-H62 -> 0.35506498 | I66: €/kg | J66: =J11-J28-J57-J62 -> 28405.198 | K66: €/lökareal
B69: SKÖRDEÅRENS KOSTNADER | L69: TILL SIDANS BÖRJAN
B71: SÄTTLÖK | F71: MÄNGD | H71: ENHETSPRIS | J71: HEKTARKOSTNAD | L71: OBSERVERA
C73: Sättlök | F73: 1300 | G73: kg | H73: 1.1 | I73: €/kg | J73: =F73*H73 -> 1430 | K73: €/ha
C74: SUMMA
B76: GÖDSEL OCH KALK | F76: MÄNGD | H76: ENHETSPRIS | J76: HEKTARKOSTNAD
C78: Trädgård Y2 | F78: 800 | G78: kg | H78: 0.75 | I78: €/kg | J78: =F78*H78 -> 600 | K78: €/ha
C79: Salpeter | F79: 110 | G79: kg | H79: 0.4 | I79: €/kg | J79: =F79*H79 -> 44 | K79: €/ha
C80: Dolomitkalk utspridd (7 tn med fem års mellanrum) | F80: 1400 | G80: kg | H80: 0.46 | I80: €/kg | J80: =F80*H80 -> 644 | K80: €/ha
C81: gödsel X | G81: kg | I81: €/kg | J81: =F81*H81 -> 0 | K81: €/ha
C82: gödsel X | G82: kg | I82: €/kg | J82: =F82*H82 -> 0 | K82: €/ha
C83: SUMMA | J83: =SUM(J78:J82) -> 1288 | K83: €/ha
B86: IPM VÄXTSKYDD | F86: MÄNGD | H86: ENHETSPRIS | J86: HEKTARKOSTNAD
D88: Växtskyddsprogrammet är vägledande, kontrollera godkända ämnen och arter från KemiDigi innan användning.
B89: KEMISK
C90: Fenix | F90: 2 | G90: l | H90: 26.8 | I90: €/l | J90: =F90*H90 -> 53.6 | K90: €/ha
C91: Lentagran | F91: 1.7 | G91: kg | H91: 50.57 | I91: €/kg | J91: =F91*H91 -> 85.969 | K91: €/ha
C92: Amistar | F92: 2 | G92: l | H92: 46.47 | I92: €/l | J92: =F92*H92 -> 92.94 | K92: €/ha
C93: Decis | F93: 0.15 | G93: l | H93: 39.23 | I93: €/l | J93: =F93*H93 -> 5.8845 | K93: €/ha
C94: ämne X | G94: l | I94: €/l | J94: =F94*H94 -> 0 | K94: €/ha
C95: ämne X | G95: l | I95: €/l | J95: =F95*H95 -> 0 | K95: €/ha
C96: ämne X | G96: l | I96: €/l | J96: =F96*H96 -> 0 | K96: €/ha
B98: BIOLOGISK
C99: Mycostop | G99: g | I99: €/g | J99: =F99*H99 -> 0 | K99: €/ha
C100: preparat X | G100: l | I100: €/l | J100: =F100*H100 -> 0 | K100: €/ha
C101: preparat X | G101: l | I101: €/l | J101: =F101*H101 -> 0 | K101: €/ha
C102: preparat X | G102: l | I102: €/l | J102: =F102*H102 -> 0 | K102: €/ha
C103: preparat X | G103: l | I103: €/l | J103: =F103*H103 -> 0 | K103: €/ha
C104: SUMMA | J104: =SUM(J90:J103) -> 238.3935 | K104: €/ha
B107: FÖRPACKNINGMATERIAL | F107: MÄNGD | H107: ENHETSPRIS | J107: HEKTARKOSTNAD
C109: 1 kg påse | F109: =S10*'Gårdens info'!$G$14/1 -> 0 | G109: kpl | H109: 0.01 | I109: €/kpl | J109: =F109*H109 -> 0 | K109: €/ha
C110: 0,25 kg knippe | F110: =S11*'Gårdens info'!$G$14/1 -> 0 | G110: kpl | H110: 0.01 | I110: €/kpl | J110: =F110*H110 -> 0 | K110: €/ha
C111: 0,5 kg påse | F111: =S12*'Gårdens info'!$G$14/1 -> 20000 | G111: kpl | H111: 0.01 | I111: €/kpl | J111: =F111*H111 -> 200 | K111: €/ha
C112: 10 kg säck | F112: =S13*'Gårdens info'!$G$14/1 -> 20000 | G112: kpl | H112: 0.05 | I112: €/kpl | J112: =F112*H112 -> 1000 | K112: €/ha
C113: förpackning X | E113: kg | F113: =IF(S14>0,S14*'Gårdens info'!$G$14/D113,0) -> 0 | G113: kpl | I113: €/kpl | J113: =F113*H113 -> 0 | K113: €/ha
C114: förpackning X | E114: kg | F114: =IF(S15>0,S15*'Gårdens info'!$G$14/D114,0) -> 0 | G114: kpl | I114: €/kpl | J114: =F114*H114 -> 0 | K114: €/ha
C115: förpackning X | E115: kg | F115: =IF(S16>0,S16*'Gårdens info'!$G$14/D115,0) -> 0 | G115: kpl | I115: €/kpl | J115: =F115*H115 -> 0 | K115: €/ha
C116: förpackning X | E116: kg | F116: =IF(S17>0,S17*'Gårdens info'!$G$14/D116,0) -> 0 | G116: kpl | I116: €/kpl | J116: =F116*H116 -> 0 | K116: €/ha
C117: SUMMA | J117: =SUM(J109:J116) -> 1200 | K117: €/ha
B120: FRAKTKOSTNADER SKÖRDEÅR | F120: MÄNGD | H120: ENHETSPRIS | J120: HEKTARKOSTNAD
C122: Fraktkostnader | F122: ='Gårdens info'!G14*'Gårdens info'!D14*0.8 -> 64000 | G122: kg | H122: 0.02 | I122: €/kg | J122: =F122*H122 -> 1280 | K122: €/ha
...

Sheet Sättlök
B1: SÄTTLÖK
B2: TILL FRAMSIDAN
B4: Lönsamhetskalkylerna består först av inkomsterna. Därefter kommer utgifterna. Kalkylerna innehåller mycket bakgrundsinformation och bakgrundsuträkningar, dit du kommer genom att klicka på de understräckade delarna.
B6: LÖNSAMHET FÖR KONVENTIONELLT ODLAD SÄTTLÖK
B8: Inkomster | N8: Försäljningsinkomster
C9: Försäljningsinkomster | F9: =H9*'Gårdens info'!G15 -> 25550 | G9: €/ha | H9: =IF('Gårdens info'!G15>0,(('Gårdens info'!D15*'Gårdens info'!G15*S10*T10)+('Gårdens info'!D15*'Gårdens info'!G15*S11*T11)+('Gårdens info'!D15*'Gårdens info'!G15*S12*T12)+('Gårdens info'!D15*'Gårdens info'!G15*S13*T13)+('Gårdens info'!D15*'Gårdens info'!G15*S14*T14)+('Gårdens info'!D15*'Gårdens info'!G15*S15*T15)+('Gårdens info'!D15*'Gårdens info'!G15*S16*T16)+('Gårdens info'!D15*'Gårdens info'!G15*S17*T17))/(('Gårdens info'!D15*'Gårdens info'!G15)),0) -> 0.73 | I9: €/kg | J9: =F9*'Gårdens info'!D15 -> 127750 | K9: €/lökareal | O9: Försäljningsstorlek | S9: ANDEL AV FÖRSÄLJNING | T9: PRIS
C10: Stöd | F10: =IF('Gårdens info'!D15>0,Stöd!L15,0) -> 1027.1 | G10: €/ha | H10: =IF('Gårdens info'!G15>0,F10/'Gårdens info'!G15,0) -> 0.029345714 | I10: €/kg | J10: =F10*'Gårdens info'!D15 -> 5135.5 | K10: €/lökareal | O10: 1 | P10: kg | Q10: påse | S10: 0 | U10: €/kg
B11: Summa inkomster = omsättning | F11: =F9+F10 -> 26577.1 | G11: €/ha | H11: =H9+H10 -> 0.75934571 | I11: €/kg | J11: =J9+J10 -> 132885.5 | K11: €/lökareal | O11: 0.25 | P11: kg | Q11: knippe | S11: 0 | U11: €/kg
O12: 0.5 | P12: kg | Q12: påse | S12: 0.5 | T12: 0.74 | U12: €/kg
O13: 10 | P13: kg | Q13: säck | S13: 0.5 | T13: 0.72 | U13: €/kg
B14: Rörliga kostnader | O14: =D113 -> 0 | P14: kg | Q14: =C113 -> förpackning X | S14: 0 | U14: €/kg
O15: =D114 -> 0 | P15: kg | Q15: =C114 -> förpackning X | S15: 0 | U15: €/kg
C16: Sättlök | F16: =IF('Gårdens info'!D15>0,J73,0) -> 1900 | G16: €/ha | H16: =IF('Gårdens info'!$G$15>0,F16/'Gårdens info'!$G$15,0) -> 0.054285714 | I16: €/kg | J16: =F16*'Gårdens info'!$D$15 -> 9500 | K16: €/lökareal | O16: =D115 -> 0 | P16: kg | Q16: =C115 -> förpackning X | S16: 0 | U16: €/kg
C17: Gödsel och kalk | F17: =IF('Gårdens info'!D15>0,J83,0) -> 1288 | G17: €/ha | H17: =IF('Gårdens info'!$G$15>0,F17/'Gårdens info'!$G$15,0) -> 0.0368 | I17: €/kg | J17: =F17*'Gårdens info'!$D$15 -> 6440 | K17: €/lökareal | O17: =D116 -> 0 | P17: kg | Q17: förpackning X | S17: 0 | U17: €/kg
C18: IPM Växtskydd | F18: =IF('Gårdens info'!D15>0,J104,0) -> 884 | G18: €/ha | H18: =IF('Gårdens info'!$G$15>0,F18/'Gårdens info'!$G$15,0) -> 0.025257143 | I18: €/kg | J18: =F18*'Gårdens info'!$D$15 -> 4420 | K18: €/lökareal | O18: SUMMA | S18: =SUM(S10:S17) -> 1
C19: Packningsmaterial | F19: =IF('Gårdens info'!D15>0,J117,0) -> 1200 | G19: €/ha | H19: =IF('Gårdens info'!$G$15>0,F19/'Gårdens info'!$G$15,0) -> 0.034285714 | I19: €/kg | J19: =F19*'Gårdens info'!$D$15 -> 6000 | K19: €/lökareal | O19: =IF(S18=100%," ","HUOM! Osuus myyynneistä pitää summautua 100 prosenttiin")
C20: Fraktkostnader | F20: =IF('Gårdens info'!D15>0,J125,0) -> 1280 | G20: €/ha | H20: =IF('Gårdens info'!$G$15>0,F20/'Gårdens info'!$G$15,0) -> 0.036571429 | I20: €/kg | J20: =F20*'Gårdens info'!$D$15 -> 6400 | K20: €/lökareal
C21: Maskinkostnader och entreprenad | F21: =IF('Gårdens info'!D15>0,J133,0) -> 0 | G21: €/ha | H21: =IF('Gårdens info'!$G$15>0,F21/'Gårdens info'!$G$15,0) -> 0 | I21: €/kg | J21: =F21*'Gårdens info'!$D$15 -> 0 | K21: €/lökareal
C22: Energikostnader | F22: =IF('Gårdens info'!D15>0,J145,0) -> 2267.16 | G22: €/ha | H22: =IF('Gårdens info'!$G$15>0,F22/'Gårdens info'!$G$15,0) -> 0.064776 | I22: €/kg | J22: =F22*'Gårdens info'!$D$15 -> 11335.8 | K22: €/lökareal
C23: Anställd arbetskraft | F23: =IF('Gårdens info'!D15,L171,0) -> 783 | G23: €/ha | H23: =IF('Gårdens info'!$G$15>0,F23/'Gårdens info'!$G$15,0) -> 0.022371429 | I23: €/kg | J23: =F23*'Gårdens info'!$D$15 -> 3915 | K23: €/lökareal
C24: SUMMA | F24: =SUM(F16:F23) -> 9602.16 | G24: €/ha | H24: =SUM(H16:H23) -> 0.27434743 | I24: €/kg | J24: =SUM(J16:J23) -> 48010.8 | K24: €/lökareal
AB25: Istukkaat | AC25: =F16 -> 1900
B26: ALMÄNNA KOSTNADER, lökens andel | F26: =IF('Gårdens info'!D15>0,J26/'Gårdens info'!D15,0) -> 238.29787 | G26: €/ha | H26: =IF('Gårdens info'!G15>0,F26/'Gårdens info'!G15,0) -> 0.0068085106 | I26: €/kg | J26: ='Gårdens info'!G163/'Gårdens info'!D43*'Gårdens info'!D15 -> 1191.4894 | K26: €/lökareal | AB26: =C17 -> Gödsel och kalk | AC26: =F17 -> 1288
B27: HYRESKOSTNADER ÅKER, lökens andel | F27: =IF('Gårdens info'!D15>0,J27/'Gårdens info'!D15,0) -> 187.23404 | G27: €/ha | H27: =IF('Gårdens info'!G15>0,F27/'Gårdens info'!G15,0) -> 0.0053495441 | I27: €/kg | J27: ='Gårdens info'!$D$48/'Gårdens info'!$D$49*'Gårdens info'!$G$48*'Gårdens info'!D15 -> 936.17021 | K27: €/lökareal | AB27: =C18 -> IPM Växtskydd | AC27: =F18 -> 884
B28: Rörliga kostnader sammanlagt | F28: =F24+F26+F27 -> 10027.692 | G28: €/ha | H28: =H24+H26+H27 -> 0.28650548 | I28: €/kg | J28: =J24+J26+J27 -> 50138.46 | K28: €/lökareal | AB28: =C19 -> Packningsmaterial | AC28: =F19 -> 1200
AB29: =C20 -> Fraktkostnader | AC29: =F20 -> 1280
B30: Fasta kostnader, lökens andel | AB30: =C21 -> Maskinkostnader och entreprenad | AC30: =F21 -> 0
B31: BYGGNADER | AB31: =C22 -> Energikostnader | AC31: =F22 -> 2267.16
C32: Avskrivning | F32: =IF('Gårdens info'!$D$15>0,J32/'Gårdens info'!$D$15,0) -> 503.98751 | G32: €/ha | H32: =IF('Gårdens info'!$G$15>0,F32/'Gårdens info'!$G$15,0) -> 0.014399643 | I32: €/kg | J32: =Egendom!AN25 -> 2519.9376 | K32: €/lökareal | AB32: =C23 -> Anställd arbetskraft | AC32: =F23 -> 783
C33: Ränta | F33: =IF('Gårdens info'!$D$15>0,J33/'Gårdens info'!$D$15,0) -> 314.9922 | G33: €/ha | H33: =IF('Gårdens info'!$G$15>0,F33/'Gårdens info'!$G$15,0) -> 0.008999777 | I33: €/kg | J33: =Egendom!BL25 -> 1574.961 | K33: €/lökareal | AB33: Yleiskustannukset | AC33: =F26 -> 238.29787
C34: Reparation och underhåll | F34: =IF('Gårdens info'!$D$15>0,J34/'Gårdens info'!$D$15,0) -> 125.99688 | G34: €/ha | H34: =IF('Gårdens info'!$G$15>0,F34/'Gårdens info'!$G$15,0) -> 0.0035999108 | I34: €/kg | J34: =Egendom!CJ25 -> 629.98439 | K34: €/lökareal | AB34: Pellon vuokrakustannukset | AC34: =F27 -> 187.23404
C35: Försäkringar | F35: =IF('Gårdens info'!$D$15>0,J35/'Gårdens info'!$D$15,0) -> 25.199376 | G35: €/ha | H35: =IF('Gårdens info'!$G$15>0,F35/'Gårdens info'!$G$15,0) -> 0.00071998216 | I35: €/kg | J35: =Egendom!DH25 -> 125.99688 | K35: €/lökareal | AB35: Rakennukset | AC35: =F36 -> 970.17596
C36: SUMMA | F36: =SUM(F32:F35) -> 970.17596 | G36: €/ha | H36: =SUM(H32:H35) -> 0.027719313 | I36: €/kg | J36: =SUM(J32:J35) -> 4850.8798 | K36: €/lökareal | AB36: Koneet ja kalusto | AC36: =F43 -> 580.50411
AB37: Pidempiaikaiset tuotantovälineet | AC37: =F50 -> 38.443676
B38: MASKINER OCH UTRUSTNING | AB38: Salaojat | AC38: =F56 -> 5.106383
C39: Avskrivning | F39: =IF('Gårdens info'!$D$15>0,J39/'Gårdens info'!$D$15,0) -> 312.94022 | G39: €/ha | H39: =IF('Gårdens info'!$G$15>0,F39/'Gårdens info'!$G$15,0) -> 0.0089411492 | I39: €/kg | J39: =Egendom!AN61 -> 1564.7011 | K39: €/lökareal | AB39: Oman työn palkkavaatimus | AC39: =F62 -> 1479
C40: Ränta | F40: =IF('Gårdens info'!$D$15>0,J40/'Gårdens info'!$D$15,0) -> 117.35258 | G40: €/ha | H40: =IF('Gårdens info'!$G$15>0,F40/'Gårdens info'!$G$15,0) -> 0.003352931 | I40: €/kg | J40: =Egendom!BL61 -> 586.76292 | K40: €/lökareal
C41: Reparation och underhåll | F41: =IF('Gårdens info'!$D$15>0,J41/'Gårdens info'!$D$15,0) -> 140.8231 | G41: €/ha | H41: =IF('Gårdens info'!$G$15>0,F41/'Gårdens info'!$G$15,0) -> 0.0040235172 | I41: €/kg | J41: =Egendom!CJ61 -> 704.1155 | K41: €/lökareal
C42: Försäkringar | F42: =IF('Gårdens info'!$D$15>0,J42/'Gårdens info'!$D$15,0) -> 9.3882067 | G42: €/ha | H42: =IF('Gårdens info'!$G$15>0,F42/'Gårdens info'!$G$15,0) -> 0.00026823448 | I42: €/kg | J42: =Egendom!DH61 -> 46.941033 | K42: €/lökareal
C43: SUMMA | F43: =SUM(F39:F42) -> 580.50411 | G43: €/ha | H43: =SUM(H39:H42) -> 0.016585832 | I43: €/kg | J43: =SUM(J39:J42) -> 2902.5206 | K43: €/lökareal
B45: LÅNVARIGA PRODUKTIONSMEDEL
C46: Avskrivning | F46: =IF('Gårdens info'!$D$15>0,J46/'Gårdens info'!$D$15,0) -> 24.691892 | G46: €/ha | H46: =IF('Gårdens info'!$G$15>0,F46/'Gårdens info'!$G$15,0) -> 0.00070548263 | I46: €/kg | J46: =Egendom!AN90 -> 123.45946 | K46: €/lökareal
C47: Ränta | F47: =IF('Gårdens info'!$D$15>0,J47/'Gårdens info'!$D$15,0) -> 4.4648649 | G47: €/ha | H47: =IF('Gårdens info'!$G$15>0,F47/'Gårdens info'!$G$15,0) -> 0.00012756757 | I47: €/kg | J47: =Egendom!BL90 -> 22.324324 | K47: €/lökareal
C48: Reparation och underhåll | F48: =IF('Gårdens info'!$D$15>0,J48/'Gårdens info'!$D$15,0) -> 8.9297297 | G48: €/ha | H48: =IF('Gårdens info'!$G$15>0,F48/'Gårdens info'!$G$15,0) -> 0.00025513514 | I48: €/kg | J48: =Egendom!CJ90 -> 44.648649 | K48: €/lökareal
C49: Försäkringar | F49: =IF('Gårdens info'!$D$15>0,J49/'Gårdens info'!$D$15,0) -> 0.35718919 | G49: €/ha | H49: =IF('Gårdens info'!$G$15>0,F49/'Gårdens info'!$G$15,0) -> 1.0205405e-05 | I49: €/kg | J49: =Egendom!DH90 -> 1.7859459 | K49: €/lökareal
C50: SUMMA | F50: =SUM(F46:F49) -> 38.443676 | G50: €/ha | H50: =SUM(H46:H49) -> 0.0010983907 | I50: €/kg | J50: =SUM(J46:J49) -> 192.21838 | K50: €/lökareal
B52: TÄCKDIKEN
C53: Avskrivning | F53: =IF('Gårdens info'!$D$15>0,J53/'Gårdens info'!$D$15,0) -> 0 | G53: €/ha | H53: =IF('Gårdens info'!$G$15>0,F53/'Gårdens info'!$G$15,0) -> 0 | I53: €/kg | J53: =Egendom!AN93 -> 0 | K53: €/lökareal
C54: Ränta | F54: =IF('Gårdens info'!$D$15>0,J54/'Gårdens info'!$D$15,0) -> 0 | G54: €/ha | H54: =IF('Gårdens info'!$G$15>0,F54/'Gårdens info'!$G$15,0) -> 0 | I54: €/kg | J54: =Egendom!BL93 -> 0 | K54: €/lökareal
C55: Reparation och underhåll | F55: =IF('Gårdens info'!$D$15>0,J55/'Gårdens info'!$D$15,0) -> 5.106383 | G55: €/ha | H55: =IF('Gårdens info'!$G$15>0,F55/'Gårdens info'!$G$15,0) -> 0.00014589666 | I55: €/kg | J55: =Egendom!CJ93 -> 25.531915 | K55: €/lökareal
C56: SUMMA | F56: =SUM(F53:F55) -> 5.106383 | G56: €/ha | H56: =SUM(H53:H55) -> 0.00014589666 | I56: €/kg | J56: =SUM(J53:J55) -> 25.531915 | K56: €/lökareal
B57: Fasta kostnader sammanlagt | F57: =F36+F43+F50+F56 -> 1594.2301 | G57: €/ha | H57: =H36+H43+H50+H56 -> 0.045549432 | I57: €/kg | J57: =J36+J43+J50+J56 -> 7971.1507 | K57: €/lökareal
B59: Lönekrav för eget arbete
C60: Lönekrav för eget arbete | F60: =IF('Gårdens info'!D15>0,H171,0) -> 1479 | G60: €/ha | H60: =IF('Gårdens info'!G15>0,F60/'Gårdens info'!$G$15,0) -> 0.042257143 | I60: €/kg | J60: =F60*'Gårdens info'!D15 -> 7395 | K60: €/lökareal
B62: Lönekrav för eget arbete sammanlagt | F62: =F60 -> 1479 | G62: €/ha | H62: =H60 -> 0.042257143 | I62: €/kg | J62: =J60 -> 7395 | K62: €/lökareal
B64: PRODUKTIONSKOSTNADER | F64: =F28+F57+F62 -> 13100.922 | G64: €/ha | H64: =H28+H57+H62 -> 0.37431206 | I64: €/kg | J64: =J28+J57+J62 -> 65504.61 | K64: €/lökareal
B66: FÖRETAGARENS VINST | F66: =F11-F28-F57-F62 -> 13476.178 | G66: €/ha | H66: =H11-H28-H57-H62 -> 0.38503366 | I66: €/kg | J66: =J11-J28-J57-J62 -> 67380.89 | K66: €/lökareal
B69: SKÖRDEÅRENS KOSTNADER | L69: TILL SIDANS BÖRJAN
B71: UTSÄDE | F71: ANTAL | H71: ENHETSPRIS | J71: HEKTARKOSTNAD | L71: OBSERVERA
C73: Frö | F73: 950000 | G73: kpl | H73: 0.002 | I73: €/kpl | J73: =F73*H73 -> 1900 | K73: €/ha
C74: SUMMA
B76: GÖDSEL OCH KALK | F76: ANTAL | H76: ENHETSPRIS | J76: HEKTARKOSTNAD
C78: Trädgård Y2 | F78: 800 | G78: kg | H78: 0.75 | I78: €/kg | J78: =F78*H78 -> 600 | K78: €/ha
C79: Salpeter | F79: 110 | G79: kg | H79: 0.4 | I79: €/kg | J79: =F79*H79 -> 44 | K79: €/ha
C80: Dolomitkalk utspridd (7 tn med fem års mellanrum) | F80: 1400 | G80: kg | H80: 0.46 | I80: €/kg | J80: =F80*H80 -> 644 | K80: €/ha
C81: gödsel X | G81: kg | I81: €/kg | J81: =F81*H81 -> 0 | K81: €/ha
C82: gödsel X | G82: kg | I82: €/kg | J82: =F82*H82 -> 0 | K82: €/ha
C83: SUMMA | J83: =SUM(J78:J82) -> 1288 | K83: €/ha
B86: IPM VÄXTSKYDD | F86: ANTAL | H86: ENHETSPRIS | J86: HEKTARKOSTNAD
D88: Växtskyddsprogrammet är vägledande, kontrollera godkända ämnen och arter från KemiDigi innan användning.'
B89: KEMISK
C90: Stomp (ogräs före uppkomst) | F90: 4 | G90: l | H90: 28 | I90: €/l | J90: =F90*H90 -> 112 | K90: €/ha
C91: Lentagran (ogräs) | F91: 1 | G91: kg | H91: 67 | I91: €/kg | J91: =F91*H91 -> 67 | K91: €/ha
C92: Shirlan (bladmögel) | F92: 0.5 | G92: l | H92: 230 | I92: €/l | J92: =F92*H92 -> 115 | K92: €/ha
C93: Signum (sjukdomar) | F93: 2 | G93: kg | H93: 295 | I93: €/kg | J93: =F93*H93 -> 590 | K93: €/ha
C94: ämne X | G94: l | I94: €/l | J94: =F94*H94 -> 0 | K94: €/ha
C95: ämne X | G95: l | I95: €/l | J95: =F95*H95 -> 0 | K95: €/ha
C96: ämne X | G96: l | I96: €/l | J96: =F96*H96 -> 0 | K96: €/ha
B98: BIOLOGISK
C99: Mycostop | G99: g | I99: €/g | J99: =F99*H99 -> 0 | K99: €/ha
C100: preparat X | G100: l | I100: €/l | J100: =F100*H100 -> 0 | K100: €/ha
C101: preparat X | G101: l | I101: €/l | J101: =F101*H101 -> 0 | K101: €/ha
C102: preparat X | G102: l | I102: €/l | J102: =F102*H102 -> 0 | K102: €/ha
C103: preparat X | G103: l | I103: €/l | J103: =F103*H103 -> 0 | K103: €/ha
C104: SUMMA | J104: =SUM(J90:J103) -> 884 | K104: €/ha
B107: FÖRPACKNINGSMATERIAL | F107: ANTAL | H107: ENHETSPRIS | J107: HEKTARKOSTNAD
C109: 1 kg påse | F109: =S10*'Gårdens info'!$G$14/1 -> 0 | G109: kpl | H109: 0.01 | I109: €/kpl | J109: =F109*H109 -> 0 | K109: €/ha
C110: 0,25 kg knippe | F110: =S11*'Gårdens info'!$G$14/1 -> 0 | G110: kpl | H110: 0.01 | I110: €/kpl | J110: =F110*H110 -> 0 | K110: €/ha
C111: 0,5 kg påse | F111: =S12*'Gårdens info'!$G$14/1 -> 20000 | G111: kpl | H111: 0.01 | I111: €/kpl | J111: =F111*H111 -> 200 | K111: €/ha
C112: 10 kg säck | F112: =S13*'Gårdens info'!$G$14/1 -> 20000 | G112: kpl | H112: 0.05 | I112: €/kpl | J112: =F112*H112 -> 1000 | K112: €/ha
C113: förpackning X | E113: kg | F113: =IF(S14>0,S14*'Gårdens info'!$G$14/D113,0) -> 0 | G113: kpl | I113: €/kpl | J113: =F113*H113 -> 0 | K113: €/ha
C114: förpackning X | E114: kg | F114: =IF(S15>0,S15*'Gårdens info'!$G$14/D114,0) -> 0 | G114: kpl | I114: €/kpl | J114: =F114*H114 -> 0 | K114: €/ha
C115: förpackning X | E115: kg | F115: =IF(S16>0,S16*'Gårdens info'!$G$14/D115,0) -> 0 | G115: kpl | I115: €/kpl | J115: =F115*H115 -> 0 | K115: €/ha
C116: förpackning X | E116: kg | F116: =IF(S17>0,S17*'Gårdens info'!$G$14/D116,0) -> 0 | G116: kpl | I116: €/kpl | J116: =F116*H116 -> 0 | K116: €/ha
C117: SUMMA | J117: =SUM(J109:J116) -> 1200 | K117: €/ha
B120: FRAKTKOSTNADER SKÖRDEÅR | F120: ANTAL | H120: ENHETSPRIS | J120: HEKTARKOSTNAD
C122: Fraktkostnader | F122: ='Gårdens info'!G14*'Gårdens info'!D14*0.8 -> 64000 | G122: kg | H122: 0.02 | I122: €/kg | J122: =F122*H122 -> 1280 | K122: €/ha
C123: frakt X | G123: kg | I123: €/kg | J123: =F123*H123 -> 0 | K123: €/ha
C124: frakt X | G124: kg | I124: €/kg | J124: =F124*H124 -> 0 | K124: €/ha
C125: SUMMA | J125: =SUM(J122:J124) -> 1280 | K125: €/ha
...

Sheet Trädgårdsärt
B1: TRÄDGÅRDSÄRT
B2: TILL FRAMSIDAN
B4: Lönsamhetskalkylerna består först av inkomsterna. Därefter kommer utgifterna. Kalkylerna innehåller mycket bakgrundsinformation och bakgrundsuträkningar, dit du kommer genom att klicka på de understräckade delarna.
B6: LÖNSAMHET FÖR KONVENTIONELLT ODLAD TRÄDGÅRDSÄRT
B8: Inkomster | N8: Försäljningsinkomster
C9: Försäljningsinkomster | F9: =IF('Gårdens info'!D16>0,H9*'Gårdens info'!G16,0) -> 15200 | G9: €/ha | H9: =IF('Gårdens info'!G16>0,(('Gårdens info'!D16*'Gårdens info'!G16*S10*T10)+('Gårdens info'!D16*'Gårdens info'!G16*S11*T11)+('Gårdens info'!D16*'Gårdens info'!G16*S12*T12)+('Gårdens info'!D16*'Gårdens info'!G16*S13*T13)+('Gårdens info'!D16*'Gårdens info'!G16*S14*T14)+('Gårdens info'!D16*'Gårdens info'!G16*S15*T15)+('Gårdens info'!D16*'Gårdens info'!G16*S16*T16)+('Gårdens info'!D16*'Gårdens info'!G16*S17*T17))/(('Gårdens info'!D16*'Gårdens info'!G16)),0) -> 3.8 | I9: €/kg | J9: =F9*'Gårdens info'!D16 -> 30400 | K9: €/ärtareal | O9: Försäljningsstorlek | S9: ANDEL AV FÖRSÄLJNING | T9: PRIS
C10: Stöd | F10: =IF('Gårdens info'!D16>0,Stöd!L14,0) -> 459.1 | G10: €/ha | H10: =IF('Gårdens info'!G16>0,F10/'Gårdens info'!G16,0) -> 0.114775 | I10: €/kg | J10: =F10*'Gårdens info'!D16 -> 918.2 | K10: €/ärtareal | O10: 1 | P10: kg | Q10: lösvikt | S10: 1 | T10: 3.8 | U10: €/kg
B11: Summa inkomster = omsättning | F11: =F9+F10 -> 15659.1 | G11: €/ha | H11: =H9+H10 -> 3.914775 | I11: €/kg | J11: =J9+J10 -> 31318.2 | K11: €/ärtareal | O11: 0.25 | P11: kg | Q11: knippe | S11: 0 | U11: €/kg
O12: 0.5 | P12: kg | Q12: påse | S12: 0 | U12: €/kg
O13: 10 | P13: kg | Q13: säck | S13: 0 | U13: €/kg
B14: Rörliga kostnader | O14: =D111 -> 0 | P14: kg | Q14: förpackning x | S14: 0 | U14: €/kg
O15: =D112 -> 0 | P15: kg | Q15: förpackning x | S15: 0 | U15: €/kg
C16: Frö | F16: =IF('Gårdens info'!D16>0,J73,0) -> 315 | G16: €/ha | H16: =IF('Gårdens info'!$G$16>0,F16/'Gårdens info'!$G$16,0) -> 0.07875 | I16: €/kg | J16: =F16*'Gårdens info'!$D$16 -> 630 | K16: €/ärtareal | O16: =D113 -> 0 | P16: kg | Q16: förpackning x | S16: 0 | U16: €/kg
C17: Gödsel och kalk | F17: =IF('Gårdens info'!D16>0,J82,0) -> 884 | G17: €/ha | H17: =IF('Gårdens info'!$G$16>0,F17/'Gårdens info'!$G$16,0) -> 0.221 | I17: €/kg | J17: =F17*'Gårdens info'!$D$16 -> 1768 | K17: €/ärtareal | O17: =D114 -> 0 | P17: kg | Q17: förpackning x | S17: 0 | U17: €/kg
C18: IPM Växtskydd | F18: =IF('Gårdens info'!D16>0,J102,0) -> 229.22 | G18: €/ha | H18: =IF('Gårdens info'!$G$16>0,F18/'Gårdens info'!$G$16,0) -> 0.057305 | I18: €/kg | J18: =F18*'Gårdens info'!$D$16 -> 458.44 | K18: €/ärtareal | O18: SUMMA | S18: =SUM(S10:S17) -> 1
C19: Packningsmaterial | F19: =IF('Gårdens info'!D16>0,J115,0) -> 40 | G19: €/ha | H19: =IF('Gårdens info'!$G$16>0,F19/'Gårdens info'!$G$16,0) -> 0.01 | I19: €/kg | J19: =F19*'Gårdens info'!$D$16 -> 80 | K19: €/ärtareal | O19: =IF(S18=100%," ","HUOM! Osuus myyynneistä pitää summautua 100 prosenttiin")
C20: Fraktkostnader | F20: =IF('Gårdens info'!D16>0,122,0) -> 122 | G20: €/ha | H20: =IF('Gårdens info'!$G$16>0,F20/'Gårdens info'!$G$16,0) -> 0.0305 | I20: €/kg | J20: =F20*'Gårdens info'!$D$16 -> 244 | K20: €/ärtareal
C21: Maskinkostnader och entreprenad | F21: =IF('Gårdens info'!D16>0,J131,0) -> 0 | G21: €/ha | H21: =IF('Gårdens info'!$G$16>0,F21/'Gårdens info'!$G$16,0) -> 0 | I21: €/kg | J21: =F21*'Gårdens info'!$D$16 -> 0 | K21: €/ärtareal
C22: Energikostnader | F22: =IF('Gårdens info'!D16>0,J143,0) -> 792.36 | G22: €/ha | H22: =IF('Gårdens info'!$G$16>0,F22/'Gårdens info'!$G$16,0) -> 0.19809 | I22: €/kg | J22: =F22*'Gårdens info'!$D$16 -> 1584.72 | K22: €/ärtareal
C23: Anställd arbetskraft | F23: =IF('Gårdens info'!D16>0,L169,0) -> 5800 | G23: €/ha | H23: =IF('Gårdens info'!$G$16>0,F23/'Gårdens info'!$G$16,0) -> 1.45 | I23: €/kg | J23: =F23*'Gårdens info'!$D$16 -> 11600 | K23: €/ärtareal
C24: SUMMA | F24: =SUM(F16:F23) -> 8182.58 | G24: €/ha | H24: =SUM(H16:H23) -> 2.045645 | I24: €/kg | J24: =SUM(J16:J23) -> 16365.16 | K24: €/ärtareal
AB25: Siemenet | AC25: =F16 -> 315
B26: ALMÄNNA KOSTNADER, ärtens andel | F26: =IF('Gårdens info'!D16>0,J26/'Gårdens info'!D16,0) -> 238.29787 | G26: €/ha | H26: =IF('Gårdens info'!G16>0,F26/'Gårdens info'!G16,0) -> 0.059574468 | I26: €/kg | J26: ='Gårdens info'!G163/'Gårdens info'!D43*'Gårdens info'!D16 -> 476.59574 | K26: €/ärtareal | AB26: =C17 -> Gödsel och kalk | AC26: =F17 -> 884
B27: HYREKOSTNADER ÅKER, ärtens andel | F27: =IF('Gårdens info'!D16>0,J27/'Gårdens info'!D16,0) -> 187.23404 | G27: €/ha | H27: =IF('Gårdens info'!G16>0,F27/'Gårdens info'!G16,0) -> 0.046808511 | I27: €/kg | J27: ='Gårdens info'!$D$48/'Gårdens info'!$D$49*'Gårdens info'!$G$48*'Gårdens info'!D16 -> 374.46809 | K27: €/ärtareal | AB27: =C18 -> IPM Växtskydd | AC27: =F18 -> 229.22
B28: Rörliga kostnader sammanlagt | F28: =F24+F26+F27 -> 8608.1119 | G28: €/ha | H28: =H24+H26+H27 -> 2.152028 | I28: €/kg | J28: =J24+J26+J27 -> 17216.224 | K28: €/ärtareal | AB28: =C19 -> Packningsmaterial | AC28: =F19 -> 40
AB29: =C20 -> Fraktkostnader | AC29: =F20 -> 122
B30: Fasta kostnader, ärtens andel | AB30: =C21 -> Maskinkostnader och entreprenad | AC30: =F21 -> 0
B31: BYGGNADER | AB31: =C22 -> Energikostnader | AC31: =F22 -> 792.36
C32: Avskrivning | F32: =IF('Gårdens info'!$D$16>0,J32/'Gårdens info'!$D$16,0) -> 1589.4192 | G32: €/ha | H32: =IF('Gårdens info'!$G$16>0,F32/'Gårdens info'!$G$16,0) -> 0.3973548 | I32: €/kg | J32: =Egendom!AK25 -> 3178.8384 | K32: €/ärtareal | AB32: =C23 -> Anställd arbetskraft | AC32: =F23 -> 5800
C33: Ränta | F33: =IF('Gårdens info'!$D$16>0,J33/'Gårdens info'!$D$16,0) -> 993.387 | G33: €/ha | H33: =IF('Gårdens info'!$G$16>0,F33/'Gårdens info'!$G$16,0) -> 0.24834675 | I33: €/kg | J33: =Egendom!BI25 -> 1986.774 | K33: €/ärtareal | AB33: =B26 -> ALMÄNNA KOSTNADER, ärtens andel | AC33: =F26 -> 238.29787
C34: Reparation och underhåll | F34: =IF('Gårdens info'!$D$16>0,J34/'Gårdens info'!$D$16,0) -> 397.3548 | G34: €/ha | H34: =IF('Gårdens info'!$G$16>0,F34/'Gårdens info'!$G$16,0) -> 0.0993387 | I34: €/kg | J34: =Egendom!CG25 -> 794.7096 | K34: €/ärtareal | AB34: =B27 -> HYREKOSTNADER ÅKER, ärtens andel | AC34: =F27 -> 187.23404
C35: Försäkringar | F35: =IF('Gårdens info'!$D$16>0,J35/'Gårdens info'!$D$16,0) -> 79.47096 | G35: €/ha | H35: =IF('Gårdens info'!$G$16>0,F35/'Gårdens info'!$G$16,0) -> 0.01986774 | I35: €/kg | J35: =Egendom!DE25 -> 158.94192 | K35: €/ärtareal | AB35: =B31 -> BYGGNADER | AC35: =F36 -> 3059.632
C36: SUMMA | F36: =SUM(F32:F35) -> 3059.632 | G36: €/ha | H36: =SUM(H32:H35) -> 0.76490799 | I36: €/kg | J36: =SUM(J32:J35) -> 6119.2639 | K36: €/ärtareal | AB36: =B38 -> MASKINER OCH UTRUSTNING | AC36: =F43 -> 609.49558
AB37: =B45 -> LÅNVARIGA PRODUKTIONSMEDEL | AC37: =F50 -> 480.54595
B38: MASKINER OCH UTRUSTNING | AB38: =B52 -> TÄCKDIKEN | AC38: =F56 -> 63.829787
C39: Avskrivning | F39: =IF('Gårdens info'!$D$16>0,J39/'Gårdens info'!$D$16,0) -> 328.56904 | G39: €/ha | H39: =IF('Gårdens info'!$G$16>0,F39/'Gårdens info'!$G$16,0) -> 0.082142261 | I39: €/kg | J39: =Egendom!AP61 -> 657.13809 | K39: €/ärtareal | AB39: =B59 -> Lönekrav för eget arbete | AC39: =F62 -> 1261.5
C40: Ränta | F40: =IF('Gårdens info'!$D$16>0,J40/'Gårdens info'!$D$16,0) -> 123.21339 | G40: €/ha | H40: =IF('Gårdens info'!$G$16>0,F40/'Gårdens info'!$G$16,0) -> 0.030803348 | I40: €/kg | J40: =Egendom!BN61 -> 246.42678 | K40: €/ärtareal
C41: Reparation och underhåll | F41: =IF('Gårdens info'!$D$16>0,J41/'Gårdens info'!$D$16,0) -> 147.85607 | G41: €/ha | H41: =IF('Gårdens info'!$G$16>0,F41/'Gårdens info'!$G$16,0) -> 0.036964018 | I41: €/kg | J41: =Egendom!CL61 -> 295.71214 | K41: €/ärtareal
C42: Försäkringar | F42: =IF('Gårdens info'!$D$16>0,J42/'Gårdens info'!$D$16,0) -> 9.8570713 | G42: €/ha | H42: =IF('Gårdens info'!$G$16>0,F42/'Gårdens info'!$G$16,0) -> 0.0024642678 | I42: €/kg | J42: =Egendom!DJ61 -> 19.714143 | K42: €/ärtareal
C43: SUMMA | F43: =SUM(F39:F42) -> 609.49558 | G43: €/ha | H43: =SUM(H39:H42) -> 0.15237389 | I43: €/kg | J43: =SUM(J39:J42) -> 1218.9912 | K43: €/ärtareal
B45: LÅNVARIGA PRODUKTIONSMEDEL
C46: Avskrivning | F46: =IF('Gårdens info'!$D$16>0,J46/'Gårdens info'!$D$16,0) -> 308.64865 | G46: €/ha | H46: =IF('Gårdens info'!$G$16>0,F46/'Gårdens info'!$G$16,0) -> 0.077162162 | I46: €/kg | J46: =Egendom!AK90 -> 617.2973 | K46: €/ärtareal
C47: Ränta | F47: =IF('Gårdens info'!$D$16>0,J47/'Gårdens info'!$D$16,0) -> 55.810811 | G47: €/ha | H47: =IF('Gårdens info'!$G$16>0,F47/'Gårdens info'!$G$16,0) -> 0.013952703 | I47: €/kg | J47: =Egendom!BI90 -> 111.62162 | K47: €/ärtareal
C48: Reparation och underhåll | F48: =IF('Gårdens info'!$D$16>0,J48/'Gårdens info'!$D$16,0) -> 111.62162 | G48: €/ha | H48: =IF('Gårdens info'!$G$16>0,F48/'Gårdens info'!$G$16,0) -> 0.027905405 | I48: €/kg | J48: =Egendom!CG90 -> 223.24324 | K48: €/ärtareal
C49: Försäkringar | F49: =IF('Gårdens info'!$D$16>0,J49/'Gårdens info'!$D$16,0) -> 4.4648649 | G49: €/ha | H49: =IF('Gårdens info'!$G$16>0,F49/'Gårdens info'!$G$16,0) -> 0.0011162162 | I49: €/kg | J49: =Egendom!DE90 -> 8.9297297 | K49: €/ärtareal
C50: SUMMA | F50: =SUM(F46:F49) -> 480.54595 | G50: €/ha | H50: =SUM(H46:H49) -> 0.12013649 | I50: €/kg | J50: =SUM(J46:J49) -> 961.09189 | K50: €/ärtareal
B52: TÄCKDIKEN
C53: Avskrivning | F53: =IF('Gårdens info'!$D$16>0,J53/'Gårdens info'!$D$16,0) -> 0 | G53: €/ha | H53: =IF('Gårdens info'!$G$16>0,F53/'Gårdens info'!$G$16,0) -> 0 | I53: €/kg | J53: =Egendom!AK93 -> 0 | K53: €/ärtareal
C54: Ränta | F54: =IF('Gårdens info'!$D$16>0,J54/'Gårdens info'!$D$16,0) -> 0 | G54: €/ha | H54: =IF('Gårdens info'!$G$16>0,F54/'Gårdens info'!$G$16,0) -> 0 | I54: €/kg | J54: =Egendom!BI93 -> 0 | K54: €/ärtareal
C55: Reparation och underhåll | F55: =IF('Gårdens info'!$D$16>0,J55/'Gårdens info'!$D$16,0) -> 63.829787 | G55: €/ha | H55: =IF('Gårdens info'!$G$16>0,F55/'Gårdens info'!$G$16,0) -> 0.015957447 | I55: €/kg | J55: =Egendom!CG93 -> 127.65957 | K55: €/ärtareal
C56: SUMMA | F56: =SUM(F53:F55) -> 63.829787 | G56: €/ha | H56: =SUM(H53:H55) -> 0.015957447 | I56: €/kg | J56: =SUM(J53:J55) -> 127.65957 | K56: €/ärtareal
B57: Fasta kostnader sammanlagt | F57: =F36+F43+F50+F56 -> 4213.5033 | G57: €/ha | H57: =H36+H43+H50+H56 -> 1.0533758 | I57: €/kg | J57: =J36+J43+J50+J56 -> 8427.0066 | K57: €/ärtareal
B59: Lönekrav för eget arbete
C60: Lönekrav för eget arbete | F60: =IF('Gårdens info'!D16>0,H169,0) -> 1261.5 | G60: €/ha | H60: =IF('Gårdens info'!G16>0,F60/'Gårdens info'!$G$16,0) -> 0.315375 | I60: €/kg | J60: =F60*'Gårdens info'!D12 -> 12615 | K60: €/ärtareal
B62: Lönekrav för eget arbete sammanlagt | F62: =F60 -> 1261.5 | G62: €/ha | H62: =H60 -> 0.315375 | I62: €/kg | J62: =J60 -> 12615 | K62: €/ärtareal
B64: PRODUKTIONSKOSTNADER | F64: =F28+F57+F62 -> 14083.115 | G64: €/ha | H64: =H28+H57+H62 -> 3.5207788 | I64: €/kg | J64: =J28+J57+J62 -> 38258.23 | K64: €/ärtareal
B66: FÖRETAGARENS VINST | F66: =F11-F28-F57-F62 -> 1575.9848 | G66: €/ha | H66: =H11-H28-H57-H62 -> 0.3939962 | I66: €/kg | J66: =J11-J28-J57-J62 -> -6940.0304 | K66: €/ärtareal
B69: SKÖRDEÅRENS KOSTNADER | L69: TILL SIDANS BÖRJAN
B71: UTSÄDE | F71: ANTAL | H71: ENHETSPRIS | J71: HEKTARKOSTNAD | L71: OBSERVERA
C73: Ärt | F73: 150 | G73: kg/ha | H73: 2.1 | I73: €/kg | J73: =F73*H73 -> 315 | K73: €/ha
C74: SUMMA
B76: GÖDSEL OCH KALK | F76: ANTAL | H76: ENHETSPRIS | J76: HEKTARKOSTNAD
C78: YaraMila HEVI3 | F78: 300 | G78: kg | H78: 0.8 | I78: €/kg | J78: =F78*H78 -> 240 | K78: €/ha
C79: Dolomitkalk utspridd (7 tn med fem års mellanrum) | F79: 1400 | G79: kg | H79: 0.46 | I79: €/kg | J79: =F79*H79 -> 644 | K79: €/ha
C80: gödsel X | G80: kg | I80: €/kg | J80: =F80*H80 -> 0 | K80: €/ha
C81: gödsel X | G81: kg | I81: €/kg | J81: =F81*H81 -> 0 | K81: €/ha
C82: SUMMA | J82: =SUM(J78:J81) -> 884 | K82: €/ha
B85: IPM VÄXTSKYDD | F85: ANTAL | H85: ENHETSPRIS | J85: HEKTARKOSTNAD
D87: Växtskyddsprogrammet är vägledande, kontrollera godkända ämnen och arter från KemiDigi innan användning.'
B88: KEMISK
C89: Fenix | F89: 0.9 | G89: l | H89: 26.8 | I89: €/l | J89: =F89*H89 -> 24.12 | K89: €/ha
C90: Basagran SG | F90: 1.5 | G90: kg | H90: 83 | I90: €/kg | J90: =F90*H90 -> 124.5 | K90: €/ha
C91: Decis Mega EW 50 | F91: 0.4 | G91: l | H91: 39 | I91: €/l | J91: =F91*H91 -> 15.6 | K91: €/ha
C92: ämne x | G92: l | I92: €/l | J92: =F92*H92 -> 0 | K92: €/ha
C93: ämne x | G93: l | I93: €/l | J93: =F93*H93 -> 0 | K93: €/ha
C94: ämne x | G94: l | I94: €/l | J94: =F94*H94 -> 0 | K94: €/ha
B96: BIOLOGISK
C97: Mycostop | F97: 5 | G97: g | H97: 13 | I97: €/g | J97: =F97*H97 -> 65 | K97: €/ha
C98: preparat x | G98: l | I98: €/l | J98: =F98*H98 -> 0 | K98: €/ha
C99: preparat x | G99: l | I99: €/l | J99: =F99*H99 -> 0 | K99: €/ha
C100: preparat x | G100: l | I100: €/l | J100: =F100*H100 -> 0 | K100: €/ha
C101: preparat x | G101: l | I101: €/l | J101: =F101*H101 -> 0 | K101: €/ha
C102: SUMMA | J102: =SUM(J89:J101) -> 229.22 | K102: €/ha
B105: FÖRPACKNINGSMATERIAL | F105: ANTAL | H105: ENHETSPRIS | J105: HEKTARKOSTNAD
C107: 1 kg lösvikt, påsar | F107: =S10*'Gårdens info'!$G$16/1 -> 4000 | G107: kpl | H107: 0.01 | I107: €/kpl | J107: =F107*H107 -> 40 | K107: €/ha
C108: 0,25 kg knippe | F108: =S11*'Gårdens info'!$G$16/1 -> 0 | G108: kpl | H108: 0.01 | I108: €/kpl | J108: =F108*H108 -> 0 | K108: €/ha
C109: 0,5 kg påse | F109: =S12*'Gårdens info'!$G$16/1 -> 0 | G109: kpl | H109: 0.01 | I109: €/kpl | J109: =F109*H109 -> 0 | K109: €/ha
C110: 10 kg säck | F110: =S13*'Gårdens info'!$G$16/1 -> 0 | G110: kpl | H110: 0.05 | I110: €/kpl | J110: =F110*H110 -> 0 | K110: €/ha
C111: förpackning X | E111: kg | F111: =IF(S14>0,S14*'Gårdens info'!$G$16/D111,0) -> 0 | G111: kpl | I111: €/kpl | J111: =F111*H111 -> 0 | K111: €/ha
C112: förpackning X | E112: kg | F112: =IF(S15>0,S15*'Gårdens info'!$G$16/D112,0) -> 0 | G112: kpl | I112: €/kpl | J112: =F112*H112 -> 0 | K112: €/ha
C113: förpackning X | E113: kg | F113: =IF(S16>0,S16*'Gårdens info'!$G$16/D113,0) -> 0 | G113: kpl | I113: €/kpl | J113: =F113*H113 -> 0 | K113: €/ha
C114: förpackning X | E114: kg | F114: =IF(S17>0,S17*'Gårdens info'!$G$16/D114,0) -> 0 | G114: kpl | I114: €/kpl | J114: =F114*H114 -> 0 | K114: €/ha
C115: SUMMA | J115: =SUM(J107:J114) -> 40 | K115: €/ha
B118: FRAKTKOSTNADER SKÖRDEÅR | F118: ANTAL | H118: ENHETSPRIS | J118: HEKTARKOSTNAD
C120: Fraktkostnader | F120: ='Gårdens info'!G12*'Gårdens info'!D12*0.9 -> 540000 | G120: kg | H120: 0.02 | I120: €/kg | J120: =F120*H120 -> 10800 | K120: €/ha
C121: frakt X | G121: kg | I121: €/kg | J121: =F121*H121 -> 0 | K121: €/ha
C122: frakt X | G122: kg | I122: €/kg | J122: =F122*H122 -> 0 | K122: €/ha
C123: SUMMA | J123: =SUM(J120:J122) -> 10800 | K123: €/ha
B126: MASKINHYRA OCH ENTREPRENADTJÄNSTER | F126: ANTAL | H126: ENHETSPRIS | J126: HEKTARKOSTNAD
C128: Entreprenad X | G128: ha | I128: €/ha | J128: =F128*H128 -> 0 | K128: €/ha
...

Sheet Grönsak från frö 1
B1: GRÖNSAK FRÅN FRÖ 1
B2: TILL FRAMSIDAN
B4: Lönsamhetskalkylerna består först av inkomsterna. Därefter kommer utgifterna. Kalkylerna innehåller mycket bakgrundsinformation och bakgrundsuträkningar, dit du kommer genom att klicka på de understräckade delarna.
B6: LÖNSAMHET FÖR GRÖNSAK FRÅN FRÖ 1
B8: Inkomster | N8: Försäljningsinkomster
C9: Försäljningsinkomster | F9: =IF('Gårdens info'!D17>0,H9*'Gårdens info'!G17,0) -> 0 | G9: €/ha | H9: =IF('Gårdens info'!G17>0,(('Gårdens info'!D17*'Gårdens info'!G17*S10*T10)+('Gårdens info'!D17*'Gårdens info'!G17*S11*T11)+('Gårdens info'!D17*'Gårdens info'!G17*S12*T12)+('Gårdens info'!D17*'Gårdens info'!G17*S13*T13)+('Gårdens info'!D17*'Gårdens info'!G17*S14*T14)+('Gårdens info'!D17*'Gårdens info'!G17*S15*T15)+('Gårdens info'!D17*'Gårdens info'!G17*S16*T16)+('Gårdens info'!D17*'Gårdens info'!G17*S17*T17))/(('Gårdens info'!D17*'Gårdens info'!G17)),0) -> 0 | I9: €/kg | J9: =F9*'Gårdens info'!D12 -> 0 | K9: €/grönsaksareal | O9: Försäljningsstorlek | S9: ANDEL AV FÖRSÄLJNING | T9: PRIS
C10: Stöd | F10: =IF('Gårdens info'!D17>0,Stöd!L15,0) -> 0 | G10: €/ha | H10: =IF('Gårdens info'!G17>0,F10/'Gårdens info'!G17,0) -> 0 | I10: €/kg | J10: =F10*'Gårdens info'!D12 -> 0 | K10: €/grönsaksareal | O10: 1 | P10: kg | Q10: påse | S10: 0.4 | T10: 0.9 | U10: €/kg
B11: Summa inkomster = omsättning | F11: =F9+F10 -> 0 | G11: €/ha | H11: =H9+H10 -> 0 | I11: €/kg | J11: =J9+J10 -> 0 | K11: €/grönsaksareal | O11: 0.25 | P11: kg | Q11: knippe | S11: 0 | U11: €/kg
O12: 0.5 | P12: kg | Q12: påse | S12: 0.4 | T12: 0.92 | U12: €/kg
O13: 10 | P13: kg | Q13: säck | S13: 0.2 | T13: 0.88 | U13: €/kg
B14: Rörliga kostnader | O14: =D114 -> 0 | P14: kg | Q14: förpackning x | S14: 0 | U14: €/kg
O15: =D115 -> 0 | P15: kg | Q15: förpackning x | S15: 0 | U15: €/kg
C16: Frö | F16: =IF('Gårdens info'!D17>0,J73,0) -> 0 | G16: €/ha | H16: =IF('Gårdens info'!$G$17>0,F16/'Gårdens info'!$G$17,0) -> 0 | I16: €/kg | J16: =F16*'Gårdens info'!$D$17 -> 0 | K16: €/grönsaksareal | O16: =D116 -> 0 | P16: kg | Q16: förpackning x | S16: 0 | U16: €/kg
C17: Gödsel och kalk | F17: =IF('Gårdens info'!D17>0,J84,0) -> 0 | G17: €/ha | H17: =IF('Gårdens info'!$G$17>0,F17/'Gårdens info'!$G$17,0) -> 0 | I17: €/kg | J17: =F17*'Gårdens info'!$D$17 -> 0 | K17: €/grönsaksareal | O17: =D117 -> 0 | P17: kg | Q17: förpackning x | S17: 0 | U17: €/kg
C18: IPM Växtskydd | F18: =IF('Gårdens info'!D17>0,J105,0) -> 0 | G18: €/ha | H18: =IF('Gårdens info'!$G$17>0,F18/'Gårdens info'!$G$17,0) -> 0 | I18: €/kg | J18: =F18*'Gårdens info'!$D$17 -> 0 | K18: €/grönsaksareal | O18: SUMMA | S18: =SUM(S10:S17) -> 1
C19: Packningsmaterial | F19: =IF('Gårdens info'!D17>0,J118,0) -> 0 | G19: €/ha | H19: =IF('Gårdens info'!$G$17>0,F19/'Gårdens info'!$G$17,0) -> 0 | I19: €/kg | J19: =F19*'Gårdens info'!$D$17 -> 0 | K19: €/grönsaksareal | O19: =IF(S18=100%," ","HUOM! Osuus myyynneistä pitää summautua 100 prosenttiin")
C20: Fraktkostnader | F20: =IF('Gårdens info'!D17>0,122,0) -> 0 | G20: €/ha | H20: =IF('Gårdens info'!$G$17>0,F20/'Gårdens info'!$G$17,0) -> 0 | I20: €/kg | J20: =F20*'Gårdens info'!$D$17 -> 0 | K20: €/grönsaksareal
C21: Maskinkostnader och entreprenad | F21: =IF('Gårdens info'!D17>0,J134,0) -> 0 | G21: €/ha | H21: =IF('Gårdens info'!$G$17>0,F21/'Gårdens info'!$G$17,0) -> 0 | I21: €/kg | J21: =F21*'Gårdens info'!$D$17 -> 0 | K21: €/grönsaksareal
C22: Energikostnader | F22: =IF('Gårdens info'!D17>0,J146,0) -> 0 | G22: €/ha | H22: =IF('Gårdens info'!$G$17>0,F22/'Gårdens info'!$G$17,0) -> 0 | I22: €/kg | J22: =F22*'Gårdens info'!$D$17 -> 0 | K22: €/grönsaksareal
C23: Anställd arbetskraft | F23: =IF('Gårdens info'!D17>0,L173,0) -> 0 | G23: €/ha | H23: =IF('Gårdens info'!$G$17>0,F23/'Gårdens info'!$G$17,0) -> 0 | I23: €/kg | J23: =F23*'Gårdens info'!$D$17 -> 0 | K23: €/grönsaksareal
C24: SUMMA | F24: =SUM(F16:F23) -> 0 | G24: €/ha | H24: =SUM(H16:H23) -> 0 | I24: €/kg | J24: =SUM(J16:J23) -> 0 | K24: €/grönsaksareal
AB25: Siemenet | AC25: =F16 -> 0
B26: ALMÄNNA KOSTNADER, grönsakens andel | F26: =IF('Gårdens info'!D17>0,J26/'Gårdens info'!D17,0) -> 0 | G26: €/ha | H26: =IF('Gårdens info'!G17>0,F26/'Gårdens info'!G17,0) -> 0 | I26: €/kg | J26: ='Gårdens info'!G163/'Gårdens info'!D43*'Gårdens info'!D17 -> 0 | K26: €/grönsaksareal | AB26: =C17 -> Gödsel och kalk | AC26: =F17 -> 0
B27: HYREKOSTNADER ÅKER, grönsakens andel | F27: =IF('Gårdens info'!D17>0,J27/'Gårdens info'!D17,0) -> 0 | G27: €/ha | H27: =IF('Gårdens info'!G17>0,F27/'Gårdens info'!G17,0) -> 0 | I27: €/kg | J27: ='Gårdens info'!$D$48/'Gårdens info'!$D$49*'Gårdens info'!$G$48*'Gårdens info'!D17 -> 0 | K27: €/grönsaksareal | AB27: =C18 -> IPM Växtskydd | AC27: =F18 -> 0
B28: Rörliga kostnader sammanlagt | F28: =F24+F26+F27 -> 0 | G28: €/ha | H28: =H24+H26+H27 -> 0 | I28: €/kg | J28: =J24+J26+J27 -> 0 | K28: €/grönsaksareal | AB28: =C19 -> Packningsmaterial | AC28: =F19 -> 0
AB29: =C20 -> Fraktkostnader | AC29: =F20 -> 0
B30: Fasta kostnader, grönsakens andel | AB30: =C21 -> Maskinkostnader och entreprenad | AC30: =F21 -> 0
B31: BYGGNADER | AB31: =C22 -> Energikostnader | AC31: =F22 -> 0
C32: Avskrivning | F32: =IF('Gårdens info'!$D$17>0,J32/'Gårdens info'!$D$17,0) -> 0 | G32: €/ha | H32: =IF('Gårdens info'!$G$17>0,F32/'Gårdens info'!$G$17,0) -> 0 | I32: €/kg | J32: =Egendom!AQ25 -> 0 | K32: €/grönsaksareal | AB32: =C23 -> Anställd arbetskraft | AC32: =F23 -> 0
C33: Ränta | F33: =IF('Gårdens info'!$D$17>0,J33/'Gårdens info'!$D$17,0) -> 0 | G33: €/ha | H33: =IF('Gårdens info'!$G$17>0,F33/'Gårdens info'!$G$17,0) -> 0 | I33: €/kg | J33: =Egendom!BO25 -> 0 | K33: €/grönsaksareal | AB33: Yleiskustannukset | AC33: =F26 -> 0
C34: Reparation och underhåll | F34: =IF('Gårdens info'!$D$17>0,J34/'Gårdens info'!$D$17,0) -> 0 | G34: €/ha | H34: =IF('Gårdens info'!$G$17>0,F34/'Gårdens info'!$G$17,0) -> 0 | I34: €/kg | J34: =Egendom!CM25 -> 0 | K34: €/grönsaksareal | AB34: Hyreskostnader åker | AC34: =F27 -> 0
C35: Försäkringar | F35: =IF('Gårdens info'!$D$17>0,J35/'Gårdens info'!$D$17,0) -> 0 | G35: €/ha | H35: =IF('Gårdens info'!$G$17>0,F35/'Gårdens info'!$G$17,0) -> 0 | I35: €/kg | J35: =Egendom!DK25 -> 0 | K35: €/grönsaksareal | AB35: Byggnader | AC35: =F36 -> 0
C36: SUMMA | F36: =IF('Gårdens info'!$D$17>0,J36/'Gårdens info'!$D$17,0) -> 0 | G36: €/ha | H36: =SUM(H32:H35) -> 0 | I36: €/kg | J36: =SUM(J32:J35) -> 0 | K36: €/grönsaksareal | AB36: Maskiner och utrustning | AC36: =F43 -> 0
AB37: Långvariga produktionsmedel | AC37: =F50 -> 0
B38: MASKINER OCH UTRUSTNING | AB38: Täckdiken | AC38: =F56 -> 0
C39: Avskrivning | F39: =IF('Gårdens info'!$D$17>0,J39/'Gårdens info'!$D$17,0) -> 0 | G39: €/ha | H39: =IF('Gårdens info'!$G$17>0,F39/'Gårdens info'!$G$17,0) -> 0 | I39: €/kg | J39: =Egendom!AQ61 -> 0 | K39: €/grönsaksareal | AB39: Lönekrav för eget arbete | AC39: =F62 -> 0
C40: Ränta | F40: =IF('Gårdens info'!$D$17>0,J40/'Gårdens info'!$D$17,0) -> 0 | G40: €/ha | H40: =IF('Gårdens info'!$G$17>0,F40/'Gårdens info'!$G$17,0) -> 0 | I40: €/kg | J40: =Egendom!BO61 -> 0 | K40: €/grönsaksareal
C41: Reparation och underhåll | F41: =IF('Gårdens info'!$D$17>0,J41/'Gårdens info'!$D$17,0) -> 0 | G41: €/ha | H41: =IF('Gårdens info'!$G$17>0,F41/'Gårdens info'!$G$17,0) -> 0 | I41: €/kg | J41: =Egendom!CM61 -> 0 | K41: €/grönsaksareal
C42: Försäkringar | F42: =IF('Gårdens info'!$D$17>0,J42/'Gårdens info'!$D$17,0) -> 0 | G42: €/ha | H42: =IF('Gårdens info'!$G$17>0,F42/'Gårdens info'!$G$17,0) -> 0 | I42: €/kg | J42: =Egendom!DK61 -> 0 | K42: €/grönsaksareal
C43: SUMMA | F43: =SUM(F39:F42) -> 0 | G43: €/ha | H43: =SUM(H39:H42) -> 0 | I43: €/kg | J43: =SUM(J39:J42) -> 0 | K43: €/grönsaksareal
B45: LÅNVARIGA PRODUKTIONSMEDEL
C46: Avskrivning | F46: =IF('Gårdens info'!$D$17>0,J46/'Gårdens info'!$D$17,0) -> 0 | G46: €/ha | H46: =IF('Gårdens info'!$G$17>0,F46/'Gårdens info'!$G$17,0) -> 0 | I46: €/kg | J46: =Egendom!AQ90 -> 0 | K46: €/grönsaksareal
C47: Ränta | F47: =IF('Gårdens info'!$D$17>0,J47/'Gårdens info'!$D$17,0) -> 0 | G47: €/ha | H47: =IF('Gårdens info'!$G$17>0,F47/'Gårdens info'!$G$17,0) -> 0 | I47: €/kg | J47: =Egendom!BO90 -> 0 | K47: €/grönsaksareal
C48: Reparation och underhåll | F48: =IF('Gårdens info'!$D$17>0,J48/'Gårdens info'!$D$17,0) -> 0 | G48: €/ha | H48: =IF('Gårdens info'!$G$17>0,F48/'Gårdens info'!$G$17,0) -> 0 | I48: €/kg | J48: =Egendom!CM90 -> 0 | K48: €/grönsaksareal
C49: Försäkringar | F49: =IF('Gårdens info'!$D$17>0,J49/'Gårdens info'!$D$17,0) -> 0 | G49: €/ha | H49: =IF('Gårdens info'!$G$17>0,F49/'Gårdens info'!$G$17,0) -> 0 | I49: €/kg | J49: =Egendom!DK90 -> 0 | K49: €/grönsaksareal
C50: SUMMA | F50: =SUM(F46:F49) -> 0 | G50: €/ha | H50: =SUM(H46:H49) -> 0 | I50: €/kg | J50: =SUM(J46:J49) -> 0 | K50: €/grönsaksareal
B52: TÄCKDIKEN
C53: Avskrivning | F53: =IF('Gårdens info'!$D$17>0,J53/'Gårdens info'!$D$17,0) -> 0 | G53: €/ha | H53: =IF('Gårdens info'!$G$17>0,F53/'Gårdens info'!$G$17,0) -> 0 | I53: €/kg | J53: =Egendom!AQ93 -> 0 | K53: €/grönsaksareal
C54: Ränta | F54: =IF('Gårdens info'!$D$17>0,J54/'Gårdens info'!$D$17,0) -> 0 | G54: €/ha | H54: =IF('Gårdens info'!$G$17>0,F54/'Gårdens info'!$G$17,0) -> 0 | I54: €/kg | J54: =Egendom!BO93 -> 0 | K54: €/grönsaksareal
C55: Reparation och underhåll | F55: =IF('Gårdens info'!$D$17>0,J55/'Gårdens info'!$D$17,0) -> 0 | G55: €/ha | H55: =IF('Gårdens info'!$G$17>0,F55/'Gårdens info'!$G$17,0) -> 0 | I55: €/kg | J55: =Egendom!CM93 -> 0 | K55: €/grönsaksareal
C56: SUMMA | F56: =SUM(F53:F55) -> 0 | G56: €/ha | H56: =SUM(H53:H55) -> 0 | I56: €/kg | J56: =SUM(J53:J55) -> 0 | K56: €/grönsaksareal
B57: Fasta kostnader sammanlagt | F57: =F36+F43+F50+F56 -> 0 | G57: €/ha | H57: =H36+H43+H50+H56 -> 0 | I57: €/kg | J57: =J36+J43+J50+J56 -> 0 | K57: €/grönsaksareal
B59: Lönekrav för eget arbete
C60: Lönekrav för eget arbete | F60: =IF('Gårdens info'!D17>0,H173,0) -> 0 | G60: €/ha | H60: =IF('Gårdens info'!G17>0,F60/'Gårdens info'!$G$17,0) -> 0 | I60: €/kg | J60: =F60*'Gårdens info'!D12 -> 0 | K60: €/grönsaksareal
B62: Lönekrav för eget arbete sammanlagt | F62: =F60 -> 0 | G62: €/ha | H62: =H60 -> 0 | I62: €/kg | J62: =J60 -> 0 | K62: €/grönsaksareal
B64: PRODUKTIONSKOSTNADER | F64: =F28+F57+F62 -> 0 | G64: €/ha | H64: =H28+H57+H62 -> 0 | I64: €/kg | J64: =J28+J57+J62 -> 0 | K64: €/grönsaksareal
B66: FÖRETAGARENS VINST | F66: =F11-F28-F57-F62 -> 0 | G66: €/ha | H66: =H11-H28-H57-H62 -> 0 | I66: €/kg | J66: =J11-J28-J57-J62 -> 0 | K66: €/grönsaksareal
B69: SKÖRDEÅRENS KOSTNADER | L69: TILL SIDANS BÖRJAN
B71: UTSÄDE | F71: ANTAL | H71: ENHETSPRIS | J71: HEKTARKOSTNAD | L71: OBSERVERA
C73: Frö | F73: 1000000 | G73: kpl/ha | H73: 0.0007 | I73: €/kpl | J73: =F73*H73 -> 700 | K73: €/ha
C74: SUMMA
B76: GÖDSEL OCH KALK | F76: ANTAL | H76: ENHETSPRIS | J76: HEKTARKOSTNAD
C78: Trädgård Y2 | F78: 600 | G78: kg | H78: 0.75 | I78: €/kg | J78: =F78*H78 -> 450 | K78: €/ha
C79: Trädgård NK | F79: 200 | G79: kg | H79: 0.59 | I79: €/kg | J79: =F79*H79 -> 118 | K79: €/ha
C80: Salpeter | F80: 200 | G80: kg | H80: 0.4 | I80: €/kg | J80: =F80*H80 -> 80 | K80: €/ha
C81: Dolomitkalk utspridd (7 tn med fem års mellanrum) | F81: 1400 | G81: kg | H81: 0.46 | I81: €/kg | J81: =F81*H81 -> 644 | K81: €/ha
C82: gödsel X | G82: kg | I82: €/kg | J82: =F82*H82 -> 0 | K82: €/ha
C83: gödsel X | G83: kg | I83: €/kg | J83: =F83*H83 -> 0 | K83: €/ha
C84: SUMMA | J84: =SUM(J78:J83) -> 1292 | K84: €/ha
B87: IPM VÄXTSKYDD | F87: ANTAL | H87: ENHETSPRIS | J87: HEKTARKOSTNAD
D89: Växtskyddsprogrammet är vägledande, kontrollera godkända ämnen och arter från KemiDigi innan användning.'
B90: KEMISK
C91: Fenix | F91: 3 | G91: l | H91: 26.8 | I91: €/l | J91: =F91*H91 -> 80.4 | K91: €/ha
C92: Senkor SC100 | F92: 0.2 | G92: kg | H92: 47.45 | I92: €/kg | J92: =F92*H92 -> 9.49 | K92: €/ha
C93: Amistar | F93: 1 | G93: l | H93: 46.47 | I93: €/l | J93: =F93*H93 -> 46.47 | K93: €/ha
C94: Sumi Alpha | F94: 0.6 | G94: l | H94: 20.48 | I94: €/l | J94: =F94*H94 -> 12.288 | K94: €/ha
C95: ämne x | G95: l | I95: €/l | J95: =F95*H95 -> 0 | K95: €/ha
C96: ämne x | G96: l | I96: €/l | J96: =F96*H96 -> 0 | K96: €/ha
C97: ämne x | G97: l | I97: €/l | J97: =F97*H97 -> 0 | K97: €/ha
B99: BIOLOGISK
C100: Mycostop | F100: 5 | G100: g | H100: 13 | I100: €/g | J100: =F100*H100 -> 65 | K100: €/ha
C101: preparat x | G101: l | I101: €/l | J101: =F101*H101 -> 0 | K101: €/ha
C102: preparat x | G102: l | I102: €/l | J102: =F102*H102 -> 0 | K102: €/ha
C103: preparat x | G103: l | I103: €/l | J103: =F103*H103 -> 0 | K103: €/ha
C104: preparat x | G104: l | I104: €/l | J104: =F104*H104 -> 0 | K104: €/ha
C105: SUMMA | J105: =SUM(J91:J104) -> 213.648 | K105: €/ha
B108: FÖRPACKNINGSMATERIAL | F108: ANTAL | H108: ENHETSPRIS | J108: HEKTARKOSTNAD
C110: 1 kg påse | F110: =S10*'Gårdens info'!$G$17/1 -> 0 | G110: kpl | H110: 0.01 | I110: €/kpl | J110: =F110*H110 -> 0 | K110: €/ha
C111: 0,25 kg knippe | F111: =S11*'Gårdens info'!$G$17/1 -> 0 | G111: kpl | H111: 0.01 | I111: €/kpl | J111: =F111*H111 -> 0 | K111: €/ha
C112: 0,5 kg påse | F112: =S12*'Gårdens info'!$G$17/1 -> 0 | G112: kpl | H112: 0.01 | I112: €/kpl | J112: =F112*H112 -> 0 | K112: €/ha
C113: 10 kg säck | F113: =S13*'Gårdens info'!$G$17/1 -> 0 | G113: kpl | H113: 0.05 | I113: €/kpl | J113: =F113*H113 -> 0 | K113: €/ha
C114: förpackning X | E114: kg | F114: =IF(S14>0,S14*'Gårdens info'!$G$17/D114,0) -> 0 | G114: kpl | I114: €/kpl | J114: =F114*H114 -> 0 | K114: €/ha
C115: förpackning X | E115: kg | F115: =IF(S15>0,S15*'Gårdens info'!$G$17/D115,0) -> 0 | G115: kpl | I115: €/kpl | J115: =F115*H115 -> 0 | K115: €/ha
C116: förpackning X | E116: kg | F116: =IF(S16>0,S16*'Gårdens info'!$G$17/D116,0) -> 0 | G116: kpl | I116: €/kpl | J116: =F116*H116 -> 0 | K116: €/ha
C117: förpackning X | E117: kg | F117: =IF(S17>0,S17*'Gårdens info'!$G$17/D117,0) -> 0 | G117: kpl | I117: €/kpl | J117: =F117*H117 -> 0 | K117: €/ha
C118: SUMMA | J118: =SUM(J110:J117) -> 0 | K118: €/ha
B121: FRAKTKOSTNADER SKÖRDEÅR | F121: ANTAL | H121: ENHETSPRIS | J121: HEKTARKOSTNAD
C123: Fraktkostnader | F123: ='Gårdens info'!G17*'Gårdens info'!D17*0.9 -> 0 | G123: kg | H123: 0.02 | I123: €/kg | J123: =F123*H123 -> 0 | K123: €/ha
C124: frakt X | G124: kg | I124: €/kg | J124: =F124*H124 -> 0 | K124: €/ha
C125: frakt X | G125: kg | I125: €/kg | J125: =F125*H125 -> 0 | K125: €/ha
...

Sheet Grönsak från frö 2
B1: GRÖNSAK FRÅN FRÖ 2
B2: TILL FRAMSIDAN
B4: Lönsamhetskalkylerna består först av inkomsterna. Därefter kommer utgifterna. Kalkylerna innehåller mycket bakgrundsinformation och bakgrundsuträkningar, dit du kommer genom att klicka på de understräckade delarna.
B6: LÖNSAMHET FÖR GRÖNSAK FRÅN FRÖ 2
B8: Inkomster | N8: Försäljningsinkomster
C9: Försäljningsinkomster | F9: =IF('Gårdens info'!D18>0,H9*'Gårdens info'!G18,0) -> 0 | G9: €/ha | H9: =IF('Gårdens info'!G18>0,(('Gårdens info'!D18*'Gårdens info'!G18*S10*T10)+('Gårdens info'!D18*'Gårdens info'!G18*S11*T11)+('Gårdens info'!D18*'Gårdens info'!G18*S12*T12)+('Gårdens info'!D18*'Gårdens info'!G18*S13*T13)+('Gårdens info'!D18*'Gårdens info'!G18*S14*T14)+('Gårdens info'!D18*'Gårdens info'!G18*S15*T15)+('Gårdens info'!D18*'Gårdens info'!G18*S16*T16)+('Gårdens info'!D18*'Gårdens info'!G18*S17*T17))/(('Gårdens info'!D18*'Gårdens info'!G18)),0) -> 0 | I9: €/kg | J9: =F9*'Gårdens info'!D18 -> 0 | K9: €/grönsaksareal | O9: Försäljningsstorlek | S9: ANDEL AV FÖRSÄLJNING | T9: PRIS
C10: Stöd | F10: =IF('Gårdens info'!D18>0,Stöd!L15,0) -> 0 | G10: €/ha | H10: =IF('Gårdens info'!G18>0,F10/'Gårdens info'!G18,0) -> 0 | I10: €/kg | J10: =F10*'Gårdens info'!D18 -> 0 | K10: €/grönsaksareal | O10: 1 | P10: kg | Q10: påse | S10: 0.4 | T10: 0.9 | U10: €/kg
B11: Summa inkomster = omsättning | F11: =F9+F10 -> 0 | G11: €/ha | H11: =H9+H10 -> 0 | I11: €/kg | J11: =J9+J10 -> 0 | K11: €/grönsaksareal | O11: 0.25 | P11: kg | Q11: knippe | S11: 0 | U11: €/kg
O12: 0.5 | P12: kg | Q12: påse | S12: 0.4 | T12: 0.92 | U12: €/kg
O13: 10 | P13: kg | Q13: säck | S13: 0.2 | T13: 0.88 | U13: €/kg
B14: Rörliga kostnader | O14: =D114 -> 0 | P14: kg | Q14: förpackning x | S14: 0 | U14: €/kg
O15: =D115 -> 0 | P15: kg | Q15: förpackning x | S15: 0 | U15: €/kg
C16: Frö | F16: =IF('Gårdens info'!D18>0,J73,0) -> 0 | G16: €/ha | H16: =IF('Gårdens info'!$G$18>0,F16/'Gårdens info'!$G$18,0) -> 0 | I16: €/kg | J16: =F16*'Gårdens info'!$D$18 -> 0 | K16: €/grönsaksareal | O16: =D116 -> 0 | P16: kg | Q16: förpackning x | S16: 0 | U16: €/kg
C17: Gödsel och kalk | F17: =IF('Gårdens info'!D18>0,J84,0) -> 0 | G17: €/ha | H17: =IF('Gårdens info'!$G$18>0,F17/'Gårdens info'!$G$18,0) -> 0 | I17: €/kg | J17: =F17*'Gårdens info'!$D$18 -> 0 | K17: €/grönsaksareal | O17: =D117 -> 0 | P17: kg | Q17: förpackning x | S17: 0 | U17: €/kg
C18: IPM Växtskydd | F18: =IF('Gårdens info'!D18>0,J105,0) -> 0 | G18: €/ha | H18: =IF('Gårdens info'!$G$18>0,F18/'Gårdens info'!$G$18,0) -> 0 | I18: €/kg | J18: =F18*'Gårdens info'!$D$18 -> 0 | K18: €/grönsaksareal | O18: SUMMA | S18: =SUM(S10:S17) -> 1
C19: Packningsmaterial | F19: =IF('Gårdens info'!D12>0,J118,0) -> 0 | G19: €/ha | H19: =IF('Gårdens info'!$G$18>0,F19/'Gårdens info'!$G$18,0) -> 0 | I19: €/kg | J19: =F19*'Gårdens info'!$D$18 -> 0 | K19: €/grönsaksareal | O19: =IF(S18=100%," ","HUOM! Osuus myyynneistä pitää summautua 100 prosenttiin")
C20: Fraktkostnader | F20: =IF('Gårdens info'!D18>0,122,0) -> 0 | G20: €/ha | H20: =IF('Gårdens info'!$G$18>0,F20/'Gårdens info'!$G$18,0) -> 0 | I20: €/kg | J20: =F20*'Gårdens info'!$D$18 -> 0 | K20: €/grönsaksareal
C21: Maskinkostnader och entreprenad | F21: =IF('Gårdens info'!D18>0,J134,0) -> 0 | G21: €/ha | H21: =IF('Gårdens info'!$G$18>0,F21/'Gårdens info'!$G$18,0) -> 0 | I21: €/kg | J21: =F21*'Gårdens info'!$D$18 -> 0 | K21: €/grönsaksareal
C22: Energikostnader | F22: =IF('Gårdens info'!D18>0,J146,0) -> 0 | G22: €/ha | H22: =IF('Gårdens info'!$G$18>0,F22/'Gårdens info'!$G$18,0) -> 0 | I22: €/kg | J22: =F22*'Gårdens info'!$D$18 -> 0 | K22: €/grönsaksareal
C23: Anställd arbetskraft | F23: =IF('Gårdens info'!D18>0,L173,0) -> 0 | G23: €/ha | H23: =IF('Gårdens info'!$G$18>0,F23/'Gårdens info'!$G$18,0) -> 0 | I23: €/kg | J23: =F23*'Gårdens info'!$D$18 -> 0 | K23: €/grönsaksareal
C24: SUMMA | F24: =SUM(F16:F23) -> 0 | G24: €/ha | H24: =SUM(H16:H23) -> 0 | I24: €/kg | J24: =SUM(J16:J23) -> 0 | K24: €/grönsaksareal
AB25: Siemenet | AC25: =F16 -> 0
B26: ALMÄNNA KOSTNADER, grönsakens andel | F26: =IF('Gårdens info'!D18>0,J26/'Gårdens info'!D18,0) -> 0 | G26: €/ha | H26: =IF('Gårdens info'!G18>0,F26/'Gårdens info'!G18,0) -> 0 | I26: €/kg | J26: ='Gårdens info'!G163/'Gårdens info'!D43*'Gårdens info'!D18 -> 0 | K26: €/grönsaksareal | AB26: =C17 -> Gödsel och kalk | AC26: =F17 -> 0
B27: HYREKOSTNADER ÅKER, grönsakens andel | F27: =IF('Gårdens info'!D18>0,J27/'Gårdens info'!D18,0) -> 0 | G27: €/ha | H27: =IF('Gårdens info'!G18>0,F27/'Gårdens info'!G18,0) -> 0 | I27: €/kg | J27: ='Gårdens info'!$D$48/'Gårdens info'!$D$49*'Gårdens info'!$G$48*'Gårdens info'!D18 -> 0 | K27: €/grönsaksareal | AB27: =C18 -> IPM Växtskydd | AC27: =F18 -> 0
B28: Rörliga kostnader sammanlagt | F28: =F24+F26+F27 -> 0 | G28: €/ha | H28: =H24+H26+H27 -> 0 | I28: €/kg | J28: =J24+J26+J27 -> 0 | K28: €/grönsaksareal | AB28: =C19 -> Packningsmaterial | AC28: =F19 -> 0
AB29: =C20 -> Fraktkostnader | AC29: =F20 -> 0
B30: Fasta kostnader, grönsakens andel | AB30: =C21 -> Maskinkostnader och entreprenad | AC30: =F21 -> 0
B31: BYGGNADER | AB31: =C22 -> Energikostnader | AC31: =F22 -> 0
C32: Avskrivning | F32: =IF('Gårdens info'!$D$18>0,J32/'Gårdens info'!$D$18,0) -> 0 | G32: €/ha | H32: =IF('Gårdens info'!$G$18>0,F32/'Gårdens info'!$G$18,0) -> 0 | I32: €/kg | J32: =Egendom!AR25 -> 0 | K32: €/grönsaksareal | AB32: =C23 -> Anställd arbetskraft | AC32: =F23 -> 0
C33: Ränta | F33: =IF('Gårdens info'!$D$18>0,J33/'Gårdens info'!$D$18,0) -> 0 | G33: €/ha | H33: =IF('Gårdens info'!$G$18>0,F33/'Gårdens info'!$G$18,0) -> 0 | I33: €/kg | J33: =Egendom!BP25 -> 0 | K33: €/grönsaksareal | AB33: Almänna kostnader | AC33: =F26 -> 0
C34: Reparation och underhåll | F34: =IF('Gårdens info'!$D$18>0,J34/'Gårdens info'!$D$18,0) -> 0 | G34: €/ha | H34: =IF('Gårdens info'!$G$18>0,F34/'Gårdens info'!$G$18,0) -> 0 | I34: €/kg | J34: =Egendom!CN25 -> 0 | K34: €/grönsaksareal | AB34: Hyreskostnader åker | AC34: =F27 -> 0
C35: Försäkringar | F35: =IF('Gårdens info'!$D$18>0,J35/'Gårdens info'!$D$18,0) -> 0 | G35: €/ha | H35: =IF('Gårdens info'!$G$18>0,F35/'Gårdens info'!$G$18,0) -> 0 | I35: €/kg | J35: =Egendom!DL25 -> 0 | K35: €/grönsaksareal | AB35: Byggnader | AC35: =F36 -> 0
C36: SUMMA | F36: =SUM(F32:F35) -> 0 | G36: €/ha | H36: =SUM(H32:H35) -> 0 | I36: €/kg | J36: =SUM(J32:J35) -> 0 | K36: €/grönsaksareal | AB36: Maskiner och utrustning | AC36: =F43 -> 0
AB37: Långvariga produktionsmedel | AC37: =F50 -> 0
B38: MASKINER OCH UTRUSTNING | AB38: Täckdiken | AC38: =F56 -> 0
C39: Avskrivning | F39: =IF('Gårdens info'!$D$18>0,J39/'Gårdens info'!$D$18,0) -> 0 | G39: €/ha | H39: =IF('Gårdens info'!$G$18>0,F39/'Gårdens info'!$G$18,0) -> 0 | I39: €/kg | J39: =Egendom!AR61 -> 0 | K39: €/grönsaksareal | AB39: Lönekrav för eget arbete | AC39: =F62 -> 0
C40: Ränta | F40: =IF('Gårdens info'!$D$18>0,J40/'Gårdens info'!$D$18,0) -> 0 | G40: €/ha | H40: =IF('Gårdens info'!$G$18>0,F40/'Gårdens info'!$G$18,0) -> 0 | I40: €/kg | J40: =Egendom!BP61 -> 0 | K40: €/grönsaksareal
C41: Reparation och underhåll | F41: =IF('Gårdens info'!$D$18>0,J41/'Gårdens info'!$D$18,0) -> 0 | G41: €/ha | H41: =IF('Gårdens info'!$G$18>0,F41/'Gårdens info'!$G$18,0) -> 0 | I41: €/kg | J41: =Egendom!CN61 -> 0 | K41: €/grönsaksareal
C42: Försäkringar | F42: =IF('Gårdens info'!$D$18>0,J42/'Gårdens info'!$D$18,0) -> 0 | G42: €/ha | H42: =IF('Gårdens info'!$G$18>0,F42/'Gårdens info'!$G$18,0) -> 0 | I42: €/kg | J42: =Egendom!DL61 -> 0 | K42: €/grönsaksareal
C43: SUMMA | F43: =SUM(F39:F42) -> 0 | G43: €/ha | H43: =SUM(H39:H42) -> 0 | I43: €/kg | J43: =SUM(J39:J42) -> 0 | K43: €/grönsaksareal
B45: LÅNVARIGA PRODUKTIONSMEDEL
C46: Avskrivning | F46: =IF('Gårdens info'!$D$18>0,J46/'Gårdens info'!$D$18,0) -> 0 | G46: €/ha | H46: =IF('Gårdens info'!$G$18>0,F46/'Gårdens info'!$G$18,0) -> 0 | I46: €/kg | J46: =Egendom!AR90 -> 0 | K46: €/grönsaksareal
C47: Ränta | F47: =IF('Gårdens info'!$D$18>0,J47/'Gårdens info'!$D$18,0) -> 0 | G47: €/ha | H47: =IF('Gårdens info'!$G$18>0,F47/'Gårdens info'!$G$18,0) -> 0 | I47: €/kg | J47: =Egendom!BP90 -> 0 | K47: €/grönsaksareal
C48: Reparation och underhåll | F48: =IF('Gårdens info'!$D$18>0,J48/'Gårdens info'!$D$18,0) -> 0 | G48: €/ha | H48: =IF('Gårdens info'!$G$18>0,F48/'Gårdens info'!$G$18,0) -> 0 | I48: €/kg | J48: =Egendom!CN90 -> 0 | K48: €/grönsaksareal
C49: Försäkringar | F49: =IF('Gårdens info'!$D$18>0,J49/'Gårdens info'!$D$18,0) -> 0 | G49: €/ha | H49: =IF('Gårdens info'!$G$18>0,F49/'Gårdens info'!$G$18,0) -> 0 | I49: €/kg | J49: =Egendom!DL90 -> 0 | K49: €/grönsaksareal
C50: SUMMA | F50: =SUM(F46:F49) -> 0 | G50: €/ha | H50: =SUM(H46:H49) -> 0 | I50: €/kg | J50: =SUM(J46:J49) -> 0 | K50: €/grönsaksareal
B52: TÄCKDIKEN
C53: Avskrivning | F53: =IF('Gårdens info'!$D$18>0,J53/'Gårdens info'!$D$18,0) -> 0 | G53: €/ha | H53: =IF('Gårdens info'!$G$18>0,F53/'Gårdens info'!$G$18,0) -> 0 | I53: €/kg | J53: =Egendom!AR93 -> 0 | K53: €/grönsaksareal
C54: Ränta | F54: =IF('Gårdens info'!$D$18>0,J54/'Gårdens info'!$D$18,0) -> 0 | G54: €/ha | H54: =IF('Gårdens info'!$G$18>0,F54/'Gårdens info'!$G$18,0) -> 0 | I54: €/kg | J54: =Egendom!BP93 -> 0 | K54: €/grönsaksareal
C55: Reparation och underhåll | F55: =IF('Gårdens info'!$D$18>0,J55/'Gårdens info'!$D$18,0) -> 0 | G55: €/ha | H55: =IF('Gårdens info'!$G$18>0,F55/'Gårdens info'!$G$18,0) -> 0 | I55: €/kg | J55: =Egendom!CN93 -> 0 | K55: €/grönsaksareal
C56: SUMMA | F56: =SUM(F53:F55) -> 0 | G56: €/ha | H56: =SUM(H53:H55) -> 0 | I56: €/kg | J56: =SUM(J53:J55) -> 0 | K56: €/grönsaksareal
B57: Fasta kostnader sammanlagt | F57: =F36+F43+F50+F56 -> 0 | G57: €/ha | H57: =H36+H43+H50+H56 -> 0 | I57: €/kg | J57: =J36+J43+J50+J56 -> 0 | K57: €/grönsaksareal
B59: Lönekrav för eget arbete
C60: Lönekrav för eget arbete | F60: =IF('Gårdens info'!D18>0,H173,0) -> 0 | G60: €/ha | H60: =IF('Gårdens info'!G18>0,F60/'Gårdens info'!$G$18,0) -> 0 | I60: €/kg | J60: =F60*'Gårdens info'!D18 -> 0 | K60: €/grönsaksareal
B62: Lönekrav för eget arbete sammanlagt | F62: =F60 -> 0 | G62: €/ha | H62: =H60 -> 0 | I62: €/kg | J62: =J60 -> 0 | K62: €/grönsaksareal
B64: PRODUKTIONSKOSTNADER | F64: =F28+F57+F62 -> 0 | G64: €/ha | H64: =H28+H57+H62 -> 0 | I64: €/kg | J64: =J28+J57+J62 -> 0 | K64: €/grönsaksareal
B66: FÖRETAGARENS VINST | F66: =F11-F28-F57-F62 -> 0 | G66: €/ha | H66: =H11-H28-H57-H62 -> 0 | I66: €/kg | J66: =J11-J28-J57-J62 -> 0 | K66: €/grönsaksareal
B69: SKÖRDEÅRENS KOSTNADER | L69: TILL SIDANS BÖRJAN
B71: FRÖ | F71: ANTAL | H71: ENHETSPRIS | J71: HEKTARKOSTNAD | L71: OBSERVERA
C73: Frö | F73: 1000000 | G73: kpl/ha | H73: 0.0007 | I73: €/kpl | J73: =F73*H73 -> 700 | K73: €/ha
C74: SUMMA
B76: GÖDSEL OCH KALK | F76: ANTAL | H76: ENHETSPRIS | J76: HEKTARKOSTNAD
C78: Trädgård Y2 | F78: 600 | G78: kg | H78: 0.75 | I78: €/kg | J78: =F78*H78 -> 450 | K78: €/ha
C79: Trädgård NK | F79: 200 | G79: kg | H79: 0.59 | I79: €/kg | J79: =F79*H79 -> 118 | K79: €/ha
C80: Salpeter | F80: 200 | G80: kg | H80: 0.4 | I80: €/kg | J80: =F80*H80 -> 80 | K80: €/ha
C81: Dolomitkalk utspridd (7 tn med fem års mellanrum) | F81: 1400 | G81: kg | H81: 0.46 | I81: €/kg | J81: =F81*H81 -> 644 | K81: €/ha
C82: gödsel X | G82: kg | I82: €/kg | J82: =F82*H82 -> 0 | K82: €/ha
C83: gödsel X | G83: kg | I83: €/kg | J83: =F83*H83 -> 0 | K83: €/ha
C84: SUMMA | J84: =SUM(J78:J83) -> 1292 | K84: €/ha
B87: IPM VÄXTSKYDD | F87: ANTAL | H87: ENHETSPRIS | J87: HEKTARKOSTNAD
D89: Växtskyddsprogrammet är vägledande, kontrollera godkända ämnen och arter från KemiDigi innan användning.'
B90: KEMISK
C91: Fenix | F91: 3 | G91: l | H91: 26.8 | I91: €/l | J91: =F91*H91 -> 80.4 | K91: €/ha
C92: Senkor SC100 | F92: 0.2 | G92: kg | H92: 47.45 | I92: €/kg | J92: =F92*H92 -> 9.49 | K92: €/ha
C93: Amistar | F93: 1 | G93: l | H93: 46.47 | I93: €/l | J93: =F93*H93 -> 46.47 | K93: €/ha
C94: Sumi Alpha | F94: 0.6 | G94: l | H94: 20.48 | I94: €/l | J94: =F94*H94 -> 12.288 | K94: €/ha
C95: ämne x | G95: l | I95: €/l | J95: =F95*H95 -> 0 | K95: €/ha
C96: ämne x | G96: l | I96: €/l | J96: =F96*H96 -> 0 | K96: €/ha
C97: ämne x | G97: l | I97: €/l | J97: =F97*H97 -> 0 | K97: €/ha
B99: BIOLOGISK
C100: Mycostop | F100: 5 | G100: g | H100: 13 | I100: €/g | J100: =F100*H100 -> 65 | K100: €/ha
C101: preparat x | G101: l | I101: €/l | J101: =F101*H101 -> 0 | K101: €/ha
C102: preparat x | G102: l | I102: €/l | J102: =F102*H102 -> 0 | K102: €/ha
C103: preparat x | G103: l | I103: €/l | J103: =F103*H103 -> 0 | K103: €/ha
C104: preparat x | G104: l | I104: €/l | J104: =F104*H104 -> 0 | K104: €/ha
C105: SUMMA | J105: =SUM(J91:J104) -> 213.648 | K105: €/ha
B108: FÖRPACKNINGSMATERIAL | F108: ANTAL | H108: ENHETSPRIS | J108: HEKTARKOSTNAD
C110: 1 kg påse | F110: =S10*'Gårdens info'!$G$18/1 -> 0 | G110: kpl | H110: 0.01 | I110: €/kpl | J110: =F110*H110 -> 0 | K110: €/ha
C111: 0,25 kg knippe | F111: =S11*'Gårdens info'!$G$18/1 -> 0 | G111: kpl | H111: 0.01 | I111: €/kpl | J111: =F111*H111 -> 0 | K111: €/ha
C112: 0,5 kg påse | F112: =S12*'Gårdens info'!$G$18/1 -> 0 | G112: kpl | H112: 0.01 | I112: €/kpl | J112: =F112*H112 -> 0 | K112: €/ha
C113: 10 kg säck | F113: =S13*'Gårdens info'!$G$18/1 -> 0 | G113: kpl | H113: 0.05 | I113: €/kpl | J113: =F113*H113 -> 0 | K113: €/ha
C114: förpackning X | E114: kg | F114: =IF(S14>0,S14*'Gårdens info'!$G$18/D114,0) -> 0 | G114: kpl | I114: €/kpl | J114: =F114*H114 -> 0 | K114: €/ha
C115: förpackning X | E115: kg | F115: =IF(S15>0,S15*'Gårdens info'!$G$18/D115,0) -> 0 | G115: kpl | I115: €/kpl | J115: =F115*H115 -> 0 | K115: €/ha
C116: förpackning X | E116: kg | F116: =IF(S16>0,S16*'Gårdens info'!$G$18/D116,0) -> 0 | G116: kpl | I116: €/kpl | J116: =F116*H116 -> 0 | K116: €/ha
C117: förpackning X | E117: kg | F117: =IF(S17>0,S17*'Gårdens info'!$G$18/D117,0) -> 0 | G117: kpl | I117: €/kpl | J117: =F117*H117 -> 0 | K117: €/ha
C118: SUMMA | J118: =SUM(J110:J117) -> 0 | K118: €/ha
B121: FRAKTKOSTNADER SKÖRDEÅR | F121: ANTAL | H121: ENHETSPRIS | J121: HEKTARKOSTNAD
C123: Fraktkostnader | F123: ='Gårdens info'!G18*'Gårdens info'!D18*0.9 -> 0 | G123: kg | H123: 0.02 | I123: €/kg | J123: =F123*H123 -> 0 | K123: €/ha
C124: frakt X | G124: kg | I124: €/kg | J124: =F124*H124 -> 0 | K124: €/ha
C125: frakt X | G125: kg | I125: €/kg | J125: =F125*H125 -> 0 | K125: €/ha
...

Sheet Grönsak planterad 1
B1: GRÖNSAK PLANTERAD 1
B2: TILL FRAMSIDAN
B4: Lönsamhetskalkylerna består först av inkomsterna. Därefter kommer utgifterna. Kalkylerna innehåller mycket bakgrundsinformation och bakgrundsuträkningar, dit du kommer genom att klicka på de understräckade delarna.
B6: LÖNSAMHET FÖR GRÖNSAK PLANTERAD 1
B8: Inkomster | N8: Försäljningsinkomster
C9: Försäljningsinkomster | F9: =H9*'Gårdens info'!G19 -> 0 | G9: €/ha | H9: =IF('Gårdens info'!G19>0,(('Gårdens info'!D19*'Gårdens info'!G19*S10*T10)+('Gårdens info'!D19*'Gårdens info'!G19*S11*T11)+('Gårdens info'!D19*'Gårdens info'!G19*S12*T12)+('Gårdens info'!D19*'Gårdens info'!G19*S13*T13)+('Gårdens info'!D19*'Gårdens info'!G19*S14*T14)+('Gårdens info'!D19*'Gårdens info'!G19*S15*T15)+('Gårdens info'!D19*'Gårdens info'!G19*S16*T16)+('Gårdens info'!D19*'Gårdens info'!G19*S17*T17))/(('Gårdens info'!D19*'Gårdens info'!G19)),0) -> 0 | I9: €/kg | J9: =F9*'Gårdens info'!D19 -> 0 | K9: €/grönsaksareal | O9: Försäljningsstorlek | S9: ANDEL AV FÖRSÄLJNING | T9: PRIS
C10: Stöd | F10: =IF('Gårdens info'!D19>0,Stöd!L15,0) -> 0 | G10: €/ha | H10: =IF('Gårdens info'!G19>0,F10/'Gårdens info'!G19,0) -> 0 | I10: €/kg | J10: =F10*'Gårdens info'!D19 -> 0 | K10: €/grönsaksareal | O10: 1 | P10: kg | Q10: påse | S10: 0 | U10: €/kg
B11: Summa inkomster = omsättning | F11: =F9+F10 -> 0 | G11: €/ha | H11: =H9+H10 -> 0 | I11: €/kg | J11: =J9+J10 -> 0 | K11: €/grönsaksareal | O11: 0.25 | P11: kg | Q11: knippe | S11: 0 | U11: €/kg
O12: 0.5 | P12: kg | Q12: påse | S12: 0 | U12: €/kg
O13: 10 | P13: kg | Q13: säck | S13: 1 | T13: 0.76 | U13: €/kg
B14: Rörliga kostnader | O14: =D111 -> 0 | P14: kg | Q14: förpackning x | S14: 0 | U14: €/kg
O15: =D112 -> 0 | P15: kg | Q15: förpackning x | S15: 0 | U15: €/kg
C16: Plantor | F16: =IF('Gårdens info'!D19>0,J73,0) -> 0 | G16: €/ha | H16: =IF('Gårdens info'!$G$19>0,F16/'Gårdens info'!$G$19,) -> 0 | I16: €/kg | J16: =F16*'Gårdens info'!$D$19 -> 0 | K16: €/grönsaksareal | O16: =D113 -> 0 | Q16: förpackning x | S16: 0 | U16: €/kg
C17: Gödsel och kalk | F17: =IF('Gårdens info'!D19>0,J83,0) -> 0 | G17: €/ha | H17: =IF('Gårdens info'!$G$19>0,F17/'Gårdens info'!$G$19,) -> 0 | I17: €/kg | J17: =F17*'Gårdens info'!$D$19 -> 0 | K17: €/grönsaksareal | O17: =D114 -> 0 | P17: kg | Q17: förpackning x | S17: 0 | U17: €/kg
C18: IPM Växtskydd | F18: =IF('Gårdens info'!D19>0,J102,0) -> 0 | G18: €/ha | H18: =IF('Gårdens info'!$G$19>0,F18/'Gårdens info'!$G$19,) -> 0 | I18: €/kg | J18: =F18*'Gårdens info'!$D$19 -> 0 | K18: €/grönsaksareal | O18: SUMMA | S18: =SUM(S10:S17) -> 1
C19: Packningsmaterial | F19: =IF('Gårdens info'!D19>0,J115,0) -> 0 | G19: €/ha | H19: =IF('Gårdens info'!$G$19>0,F19/'Gårdens info'!$G$19,) -> 0 | I19: €/kg | J19: =F19*'Gårdens info'!$D$19 -> 0 | K19: €/grönsaksareal | O19: =IF(S18=100%," ","HUOM! Osuus myyynneistä pitää summautua 100 prosenttiin")
C20: Fraktkostnader | F20: =IF('Gårdens info'!D19>0,J123,0) -> 0 | G20: €/ha | H20: =IF('Gårdens info'!$G$19>0,F20/'Gårdens info'!$G$19,) -> 0 | I20: €/kg | J20: =F20*'Gårdens info'!$D$19 -> 0 | K20: €/grönsaksareal
C21: Maskinkostnader och entreprenad | F21: =IF('Gårdens info'!D19>0,J131,0) -> 0 | G21: €/ha | H21: =IF('Gårdens info'!$G$19>0,F21/'Gårdens info'!$G$19,) -> 0 | I21: €/kg | J21: =F21*'Gårdens info'!$D$19 -> 0 | K21: €/grönsaksareal
C22: Energikostnader | F22: =IF('Gårdens info'!D19>0,J143,0) -> 0 | G22: €/ha | H22: =IF('Gårdens info'!$G$19>0,F22/'Gårdens info'!$G$19,) -> 0 | I22: €/kg | J22: =F22*'Gårdens info'!$D$19 -> 0 | K22: €/grönsaksareal
C23: Anställd arbetskraft | F23: =IF('Gårdens info'!D19>0,L169,0) -> 0 | G23: €/ha | H23: =IF('Gårdens info'!$G$19>0,F23/'Gårdens info'!$G$19,) -> 0 | I23: €/kg | J23: =F23*'Gårdens info'!$D$19 -> 0 | K23: €/grönsaksareal
C24: SUMMA | F24: =SUM(F16:F23) -> 0 | G24: €/ha | H24: =SUM(H16:H23) -> 0 | I24: €/kg | J24: =SUM(J16:J23) -> 0 | K24: €/grönsaksareal
AB25: Taimet | AC25: =F16 -> 0
B26: ALMÄNNA KOSTNADER, grönsakens andel | F26: =IF('Gårdens info'!D19>0,J26/'Gårdens info'!D19,0) -> 0 | G26: €/ha | H26: =IF('Gårdens info'!G19>0,F26/'Gårdens info'!G19,0) -> 0 | I26: €/kg | J26: ='Gårdens info'!G163/'Gårdens info'!D43*'Gårdens info'!D19 -> 0 | K26: €/grönsaksareal | AB26: =C17 -> Gödsel och kalk | AC26: =F17 -> 0
B27: HYREKOSTNADER ÅKER, grönsakens andel | F27: =IF('Gårdens info'!D19>0,J27/'Gårdens info'!D19,0) -> 0 | G27: €/ha | H27: =IF('Gårdens info'!G19>0,F27/'Gårdens info'!G19,0) -> 0 | I27: €/kg | J27: ='Gårdens info'!$D$48/'Gårdens info'!$D$49*'Gårdens info'!$G$48*'Gårdens info'!D19 -> 0 | K27: €/grönsaksareal | AB27: =C18 -> IPM Växtskydd | AC27: =F18 -> 0
B28: Rörliga kostnader sammanlagt | F28: =F24+F26+F27 -> 0 | G28: €/ha | H28: =H24+H26+H27 -> 0 | I28: €/kg | J28: =J24+J26+J27 -> 0 | K28: €/grönsaksareal | AB28: =C19 -> Packningsmaterial | AC28: =F19 -> 0
AB29: =C20 -> Fraktkostnader | AC29: =F20 -> 0
B30: Fasta kostnader, grönsakens andel | AB30: =C21 -> Maskinkostnader och entreprenad | AC30: =F21 -> 0
B31: BYGGNADER | AB31: =C22 -> Energikostnader | AC31: =F22 -> 0
C32: Avskrivning | F32: =IF('Gårdens info'!$D$19>0,J32/'Gårdens info'!$D$19,0) -> 0 | G32: €/ha | H32: =IF('Gårdens info'!$G$19>0,F32/'Gårdens info'!$G$19,0) -> 0 | I32: €/kg | J32: =Egendom!AS25 -> 0 | K32: €/grönsaksareal | AB32: =C23 -> Anställd arbetskraft | AC32: =F23 -> 0
C33: Ränta | F33: =IF('Gårdens info'!$D$19>0,J33/'Gårdens info'!$D$19,0) -> 0 | G33: €/ha | H33: =IF('Gårdens info'!$G$19>0,F33/'Gårdens info'!$G$19,0) -> 0 | I33: €/kg | J33: =Egendom!BQ25 -> 0 | K33: €/grönsaksareal | AB33: Almänna kostnader | AC33: =F26 -> 0
C34: Reparation och underhåll | F34: =IF('Gårdens info'!$D$19>0,J34/'Gårdens info'!$D$19,0) -> 0 | G34: €/ha | H34: =IF('Gårdens info'!$G$19>0,F34/'Gårdens info'!$G$19,0) -> 0 | I34: €/kg | J34: =Egendom!CO25 -> 0 | K34: €/grönsaksareal | AB34: Hyreskostnader åker | AC34: =F27 -> 0
C35: Försäkringar | F35: =IF('Gårdens info'!$D$19>0,J35/'Gårdens info'!$D$19,0) -> 0 | G35: €/ha | H35: =IF('Gårdens info'!$G$19>0,F35/'Gårdens info'!$G$19,0) -> 0 | I35: €/kg | J35: =Egendom!DM25 -> 0 | K35: €/grönsaksareal | AB35: Byggnader | AC35: =F36 -> 0
C36: SUMMA | F36: =SUM(F32:F35) -> 0 | G36: €/ha | H36: =SUM(H32:H35) -> 0 | I36: €/kg | J36: =SUM(J32:J35) -> 0 | K36: €/grönsaksareal | AB36: Maskiner och utrustning | AC36: =F43 -> 0
AB37: Långvariga produktionsmedel | AC37: =F50 -> 0
B38: MASKINER OCH UTRUSTNING | AB38: Täckdiken | AC38: =F56 -> 0
C39: Avskrivning | F39: =IF('Gårdens info'!$D$19>0,J39/'Gårdens info'!$D$19,0) -> 0 | G39: €/ha | H39: =IF('Gårdens info'!$G$19>0,F39/'Gårdens info'!$G$19,0) -> 0 | I39: €/kg | J39: =Egendom!AS61 -> 0 | K39: €/grönsaksareal | AB39: Lönekrav för eget arbete | AC39: =F62 -> 0
C40: Ränta | F40: =IF('Gårdens info'!$D$19>0,J40/'Gårdens info'!$D$19,0) -> 0 | G40: €/ha | H40: =IF('Gårdens info'!$G$19>0,F40/'Gårdens info'!$G$19,0) -> 0 | I40: €/kg | J40: =Egendom!BQ61 -> 0 | K40: €/grönsaksareal
C41: Reparation och underhåll | F41: =IF('Gårdens info'!$D$19>0,J41/'Gårdens info'!$D$19,0) -> 0 | G41: €/ha | H41: =IF('Gårdens info'!$G$19>0,F41/'Gårdens info'!$G$19,0) -> 0 | I41: €/kg | J41: =Egendom!CO61 -> 0 | K41: €/grönsaksareal
C42: Försäkringar | F42: =IF('Gårdens info'!$D$19>0,J42/'Gårdens info'!$D$19,0) -> 0 | G42: €/ha | H42: =IF('Gårdens info'!$G$19>0,F42/'Gårdens info'!$G$19,0) -> 0 | I42: €/kg | J42: =Egendom!DM61 -> 0 | K42: €/grönsaksareal
C43: SUMMA | F43: =SUM(F39:F42) -> 0 | G43: €/ha | H43: =SUM(H39:H42) -> 0 | I43: €/kg | J43: =SUM(J39:J42) -> 0 | K43: €/grönsaksareal
B45: LÅNVARIGA PRODUKTIONSMEDEL
C46: Avskrivning | F46: =IF('Gårdens info'!$D$19>0,J46/'Gårdens info'!$D$19,0) -> 0 | G46: €/ha | H46: =IF('Gårdens info'!$G$19>0,F46/'Gårdens info'!$G$19,0) -> 0 | I46: €/kg | J46: =Egendom!AS90 -> 0 | K46: €/grönsaksareal
C47: Ränta | F47: =IF('Gårdens info'!$D$19>0,J47/'Gårdens info'!$D$19,0) -> 0 | G47: €/ha | H47: =IF('Gårdens info'!$G$19>0,F47/'Gårdens info'!$G$19,0) -> 0 | I47: €/kg | J47: =Egendom!BQ90 -> 0 | K47: €/grönsaksareal
C48: Reparation och underhåll | F48: =IF('Gårdens info'!$D$19>0,J48/'Gårdens info'!$D$19,0) -> 0 | G48: €/ha | H48: =IF('Gårdens info'!$G$19>0,F48/'Gårdens info'!$G$19,0) -> 0 | I48: €/kg | J48: =Egendom!CO90 -> 0 | K48: €/grönsaksareal
C49: Försäkringar | F49: =IF('Gårdens info'!$D$19>0,J49/'Gårdens info'!$D$19,0) -> 0 | G49: €/ha | H49: =IF('Gårdens info'!$G$19>0,F49/'Gårdens info'!$G$19,0) -> 0 | I49: €/kg | J49: =Egendom!DM90 -> 0 | K49: €/grönsaksareal
C50: SUMMA | F50: =SUM(F46:F49) -> 0 | G50: €/ha | H50: =SUM(H46:H49) -> 0 | I50: €/kg | J50: =SUM(J46:J49) -> 0 | K50: €/grönsaksareal
B52: TÄCKDIKEN
C53: Avskrivning | F53: =IF('Gårdens info'!$D$19>0,J53/'Gårdens info'!$D$19,0) -> 0 | G53: €/ha | H53: =IF('Gårdens info'!$G$19>0,F53/'Gårdens info'!$G$19,0) -> 0 | I53: €/kg | J53: =Egendom!AS93 -> 0 | K53: €/grönsaksareal
C54: Ränta | F54: =IF('Gårdens info'!$D$19>0,J54/'Gårdens info'!$D$19,0) -> 0 | G54: €/ha | H54: =IF('Gårdens info'!$G$19>0,F54/'Gårdens info'!$G$19,0) -> 0 | I54: €/kg | J54: =Egendom!BQ93 -> 0 | K54: €/grönsaksareal
C55: Reparation och underhåll | F55: =IF('Gårdens info'!$D$19>0,J55/'Gårdens info'!$D$19,0) -> 0 | G55: €/ha | H55: =IF('Gårdens info'!$G$19>0,F55/'Gårdens info'!$G$19,0) -> 0 | I55: €/kg | J55: =Egendom!CO93 -> 0 | K55: €/grönsaksareal
C56: SUMMA | F56: =SUM(F53:F55) -> 0 | G56: €/ha | H56: =SUM(H53:H55) -> 0 | I56: €/kg | J56: =SUM(J53:J55) -> 0 | K56: €/grönsaksareal
B57: Fasta kostnader sammanlagt | F57: =F36+F43+F50+F56 -> 0 | G57: €/ha | H57: =H36+H43+H50+H56 -> 0 | I57: €/kg | J57: =J36+J43+J50+J56 -> 0 | K57: €/grönsaksareal
B59: Lönekrav för eget arbete
C60: Lönekrav för eget arbete | F60: =IF('Gårdens info'!D19>0,H169,0) -> 0 | G60: €/ha | H60: =IF('Gårdens info'!G19>0,F60/'Gårdens info'!$G$19,0) -> 0 | I60: €/kg | J60: =F60*'Gårdens info'!D19 -> 0 | K60: €/grönsaksareal
B62: Lönekrav för eget arbete sammanlagt | F62: =F60 -> 0 | G62: €/ha | H62: =H60 -> 0 | I62: €/kg | J62: =J60 -> 0 | K62: €/grönsaksareal
B64: PRODUKTIONSKOSTNADER | F64: =F28+F57+F62 -> 0 | G64: €/ha | H64: =H28+H57+H62 -> 0 | I64: €/kg | J64: =J28+J57+J62 -> 0 | K64: €/grönsaksareal
B66: FÖRETAGARENS VINST | F66: =F11-F28-F57-F62 -> 0 | G66: €/ha | H66: =H11-H28-H57-H62 -> 0 | I66: €/kg | J66: =J11-J28-J57-J62 -> 0 | K66: €/grönsaksareal
B69: SKÖRDEÅRENS KOSTNADER | L69: TILL SIDANS BÖRJAN
B71: UTSÄDE | F71: ANTAL | H71: ENHETSPRIS | J71: HEKTARKOSTNAD | L71: OBSERVERA
C73: Plantor | F73: 30000 | G73: kpl/ha | H73: 0.045 | I73: €/kpl | J73: =F73*H73 -> 1350 | K73: €/ha
C74: SUMMA
B76: GÖDSEL OCH KALK | F76: ANTAL | H76: ENHETSPRIS | J76: HEKTARKOSTNAD
C78: Trädgård Y3 | F78: 800 | G78: kg | H78: 0.75 | I78: €/kg | J78: =F78*H78 -> 600 | K78: €/ha
C79: Salpeter | F79: 500 | G79: kg | H79: 0.4 | I79: €/kg | J79: =F79*H79 -> 200 | K79: €/ha
C80: Dolomitkalk utspridd (7 tn med fem års mellanrum) | F80: 2000 | G80: kg | H80: 0.46 | I80: €/kg | J80: =F80*H80 -> 920 | K80: €/ha
C81: gödsel X | G81: kg | I81: €/kg | J81: =F81*H81 -> 0 | K81: €/ha
C82: gödsel X | G82: kg | I82: €/kg | J82: =F82*H82 -> 0 | K82: €/ha
C83: SUMMA | J83: =SUM(J78:J82) -> 1720 | K83: €/ha
B86: IPM VÄXTSKYDD | F86: ANTAL | H86: ENHETSPRIS | J86: HEKTARKOSTNAD
D88: Växtskyddsprogrammet är vägledande, kontrollera godkända ämnen och arter från KemiDigi innan användning.'
B89: KEMISK
C90: Devrinol | F90: 2 | G90: l | H90: 18.8 | I90: €/l | J90: =F90*H90 -> 37.6 | K90: €/ha
C91: Decis | F91: 0.1 | G91: l | H91: 39.2 | I91: €/kg | J91: =F91*H91 -> 3.92 | K91: €/ha
C92: Mavrik | F92: 0.3 | G92: l | H92: 48 | I92: €/l | J92: =F92*H92 -> 14.4 | K92: €/ha
C93: ämne x | G93: l | I93: €/l | J93: =F93*H93 -> 0 | K93: €/ha
C94: ämne x | G94: l | I94: €/l | J94: =F94*H94 -> 0 | K94: €/ha
C95: ämne x | G95: l | I95: €/l | J95: =F95*H95 -> 0 | K95: €/ha
B97: BIOLOGISK
C98: preparat x | G98: l | I98: €/l | J98: =F98*H98 -> 0 | K98: €/ha
C99: preparat x | G99: l | I99: €/l | J99: =F99*H99 -> 0 | K99: €/ha
C100: preparat x | G100: l | I100: €/l | J100: =F100*H100 -> 0 | K100: €/ha
C101: preparat x | G101: l | I101: €/l | J101: =F101*H101 -> 0 | K101: €/ha
C102: SUMMA | J102: =SUM(J90:J101) -> 55.92 | K102: €/ha
B105: FÖRPACKNINGSMATERIAL | F105: ANTAL | H105: ENHETSPRIS | J105: HEKTARKOSTNAD
C107: 1 kg påse | F107: =S10*'Gårdens info'!$G$19/1 -> 0 | G107: kpl | H107: 0.01 | I107: €/kpl | J107: =F107*H107 -> 0 | K107: €/ha
C108: 0,25 kg knippe | F108: =S11*'Gårdens info'!$G$19/1 -> 0 | G108: kpl | H108: 0.01 | I108: €/kpl | J108: =F108*H108 -> 0 | K108: €/ha
C109: 0,5 kg påse | F109: =S12*'Gårdens info'!$G$19/1 -> 0 | G109: kpl | H109: 0.01 | I109: €/kpl | J109: =F109*H109 -> 0 | K109: €/ha
C110: 10 kg säck | F110: =S13*'Gårdens info'!$G$19/1 -> 0 | G110: kpl | H110: 0.05 | I110: €/kpl | J110: =F110*H110 -> 0 | K110: €/ha
C111: förpackning X | E111: kg | F111: =IF(S14>0,S14*'Gårdens info'!$G$19/D111,0) -> 0 | G111: kpl | I111: €/kpl | J111: =F111*H111 -> 0 | K111: €/ha
C112: förpackning X | E112: kg | F112: =IF(S15>0,S15*'Gårdens info'!$G$19/D112,0) -> 0 | G112: kpl | I112: €/kpl | J112: =F112*H112 -> 0 | K112: €/ha
C113: förpackning X | E113: kg | F113: =IF(S16>0,S16*'Gårdens info'!$G$19/D113,0) -> 0 | G113: kpl | I113: €/kpl | J113: =F113*H113 -> 0 | K113: €/ha
C114: förpackning X | E114: kg | F114: =IF(S17>0,S17*'Gårdens info'!$G$19/D114,0) -> 0 | G114: kpl | I114: €/kpl | J114: =F114*H114 -> 0 | K114: €/ha
C115: SUMMA | G115: kpl | J115: =SUM(J107:J114) -> 0 | K115: €/ha
B118: FRAKTKOSTNADER SKÖRDEÅR | F118: ANTAL | H118: ENHETSPRIS | J118: HEKTARKOSTNAD
C120: Fraktkostnader | F120: ='Gårdens info'!G19*'Gårdens info'!D19*0.9 -> 0 | G120: kg | H120: 0.02 | I120: €/kg | J120: =F120*H120 -> 0 | K120: €/ha
C121: frakt X | G121: kg | I121: €/kg | J121: =F121*H121 -> 0 | K121: €/ha
C122: frakt X | G122: kg | I122: €/kg | J122: =F122*H122 -> 0 | K122: €/ha
C123: SUMMA | J123: =SUM(J120:J122) -> 0 | K123: €/ha
B126: MASKINHYRA OCH ENTREPRENADTJÄNSTER | F126: ANTAL | H126: ENHETSPRIS | J126: HEKTARKOSTNAD
C128: Entreprenad X | G128: ha | I128: €/ha | J128: =F128*H128 -> 0 | K128: €/ha
...

Sheet Grönsak planterad 2
B1: GRÖNSAK PLANTERAD 2
B2: TILL FRAMSIDAN
B4: Lönsamhetskalkylerna består först av inkomsterna. Därefter kommer utgifterna. Kalkylerna innehåller mycket bakgrundsinformation och bakgrundsuträkningar, dit du kommer genom att klicka på de understräckade delarna.
B6: LÖNSAMHET FÖR GRÖNSAK PLANTERAD 2
B8: Inkomster | N8: Försäljningsinkomster
C9: Försäljningsinkomster | F9: =H9*'Gårdens info'!G20 -> 0 | G9: €/ha | H9: =IF('Gårdens info'!G20>0,(('Gårdens info'!D20*'Gårdens info'!G20*S10*T10)+('Gårdens info'!D20*'Gårdens info'!G20*S11*T11)+('Gårdens info'!D20*'Gårdens info'!G20*S12*T12)+('Gårdens info'!D20*'Gårdens info'!G20*S13*T13)+('Gårdens info'!D20*'Gårdens info'!G20*S14*T14)+('Gårdens info'!D20*'Gårdens info'!G20*S15*T15)+('Gårdens info'!D20*'Gårdens info'!G20*S16*T16)+('Gårdens info'!D20*'Gårdens info'!G20*S17*T17))/(('Gårdens info'!D20*'Gårdens info'!G20)),0) -> 0 | I9: €/kg | J9: =F9*'Gårdens info'!D20 -> 0 | K9: €/grönsaksareal | O9: Försäljningsstorlek | S9: ANDEL AV FÖRSÄLJNING | T9: PRIS
C10: Stöd | F10: =IF('Gårdens info'!D20>0,Stöd!L15,0) -> 0 | G10: €/ha | H10: =IF('Gårdens info'!G20>0,F10/'Gårdens info'!G20,0) -> 0 | I10: €/kg | J10: =F10*'Gårdens info'!D20 -> 0 | K10: €/grönsaksareal | O10: 1 | P10: kg | Q10: påse | S10: 0 | U10: €/kg
B11: Summa inkomster = omsättning | F11: =F9+F10 -> 0 | G11: €/ha | H11: =H9+H10 -> 0 | I11: €/kg | J11: =J9+J10 -> 0 | K11: €/grönsaksareal | O11: 0.25 | P11: kg | Q11: knippe | S11: 0 | U11: €/kg
O12: 0.5 | P12: kg | Q12: påse | S12: 0 | U12: €/kg
O13: 10 | P13: kg | Q13: säck | S13: 1 | T13: 0.76 | U13: €/kg
B14: Rörliga kostnader | O14: =D111 -> 0 | P14: kg | Q14: förpackning x | S14: 0 | U14: €/kg
O15: =D112 -> 0 | P15: kg | Q15: förpackning x | S15: 0 | U15: €/kg
C16: Plantor | F16: =IF('Gårdens info'!D20>0,J73,0) -> 0 | G16: €/ha | H16: =IF('Gårdens info'!$G$20>0,F16/'Gårdens info'!$G$20,) -> 0 | I16: €/kg | J16: =F16*'Gårdens info'!$D$20 -> 0 | K16: €/grönsaksareal | O16: =D113 -> 0 | P16: kg | Q16: förpackning x | S16: 0 | U16: €/kg
C17: Gödsel och kalk | F17: =IF('Gårdens info'!D20>0,J83,0) -> 0 | G17: €/ha | H17: =IF('Gårdens info'!$G$20>0,F17/'Gårdens info'!$G$20,) -> 0 | I17: €/kg | J17: =F17*'Gårdens info'!$D$20 -> 0 | K17: €/grönsaksareal | O17: =D114 -> 0 | P17: kg | Q17: förpackning x | S17: 0 | U17: €/kg
