Workbook
Name Annat_område: 'Gårdens info'!$G$57
Name HÄRIFRÅN_KOMMER_DU_TILL_KALKYLERNA: INLEDNING!$B$62

Sheet INLEDNING
B62: HÄRIFRÅN_KOMMER_DU_TILL_KALKYLERNA

Sheet Gårdens info
B2: AREALER
B4: Du kan fylla i din egen gårds arealer och medelskördar i de ljusblåa rutorna i tabellen nedan. De övriga rutorna innehåller formler, ifall du byter ut innehåller i dessa rutor fungerar kalkylbladet inte som det skall.
B6: Genom att klicka på växtens namn kan du förflytta dig till det växtspecifika kalkylbladet.
B8: POTATIS | D8: AREAL | G8: SÅLD SKÖRD
B9: POTATIS | D9: 10 | E9: ha | G9: 30000 | H9: kg/ha | K9: =IF(AND(D9=0, G9>0),"HUOM! Ei voi olla satoa, jos ei ole viljelyalaa!", " ") | P9: =IF(AND(F9=0, I9>0),"HUOM! Satoa ei voi tulla, mikäli kokonaisala on 0 ha. Korjaathan sadon nollaksi!"," ")
B11: FRILANDSGRÖNSAKER | D11: AREAL | G11: SÅLD SKÖRD
B12: MOROT | D12: 10 | E12: ha | G12: 60000 | H12: kg/ha | K12: =IF(AND(D12=0, G12>0),"HUOM! Ei voi olla satoa, jos ei ole viljelyalaa!", " ") | P12: =IF(AND(F12=0, I12>0),"HUOM! Satoa ei voi tulla, mikäli kokonaisala on 0 ha. Korjaathan sadon nollaksi!"," ")
B13: KÅL | D13: 10 | E13: ha | G13: 50000 | H13: kg/ha | K13: =IF(AND(D13=0, G13>0),"HUOM! Ei voi olla satoa, jos ei ole viljelyalaa!", " ")
B14: LÖK | D14: 2 | E14: ha | G14: 40000 | H14: kg/ha | K14: =IF(AND(D14=0, G14>0),"HUOM! Ei voi olla satoa, jos ei ole viljelyalaa!", " ")
B15: SÄTTLÖK | D15: 5 | E15: ha | G15: 35000 | H15: kg/ha | K15: =IF(AND(D15=0, G15>0),"HUOM! Ei voi olla satoa, jos ei ole viljelyalaa!", " ")
B16: TRÄDGÅRSÄRT | D16: 2 | E16: ha | G16: 4000 | H16: kg/ha | K16: =IF(AND(D16=0, G16>0),"HUOM! Ei voi olla satoa, jos ei ole viljelyalaa!", " ")
B17: GRÖNSAK FRÅN FRÖ 1 | D17: 0 | E17: ha | G17: 0 | H17: kg/ha | K17: =IF(AND(D17=0, G17>0),"HUOM! Ei voi olla satoa, jos ei ole viljelyalaa!", " ")
B18: GRÖNSAK FRÅN FRÖ 2 | D18: 0 | E18: ha | G18: 0 | H18: kg/ha | K18: =IF(AND(D18=0, G18>0),"HUOM! Ei voi olla satoa, jos ei ole viljelyalaa!", " ")
B19: GRÖNSAK PLANTERAD 1 | D19: 0 | E19: ha | G19: 0 | H19: kg/ha | K19: =IF(AND(D19=0, G19>0),"HUOM! Ei voi olla satoa, jos ei ole viljelyalaa!", " ") | R19: BÄR OCH FRUKT | S19: Hela arealen | U19: Etableringsareal | W19: Förkultiveringsareal | Y19: Skördeareal | AA19: Avslutande areal
B20: GRÖNSAK PLANTERAD 2 | D20: 0 | E20: ha | G20: 0 | H20: kg/ha | K20: =IF(AND(D20=0, G20>0),"HUOM! Ei voi olla satoa, jos ei ole viljelyalaa!", " ") | R20: JORDGUBBE FRILAND | S20: =U20+W20+Y20+AA20 -> 5 | T20: ha | U20: 1 | V20: ha | X20: ha | Y20: 4 | Z20: ha | AB20: ha
B21: GRÖNSAK PLANTERAD 3 | D21: 0 | E21: ha | G21: 0 | H21: kg/ha | K21: =IF(AND(D21=0, G21>0),"HUOM! Ei voi olla satoa, jos ei ole viljelyalaa!", " ") | R21: Skörd | S21: =(U21*U20+W21*W20+Y21*Y20+AA21*AA20)/S20 -> 3400 | T21: kg/ha | U21: 3000 | V21: kg/ha | X21: kg/ha | Y21: 3500 | Z21: kg/ha | AB21: kg/ha
B23: FÖRKULTIVERING AV KÅL | D23: 0 | E23: m2 | G23: 46000 | H23: kpl
B24: ANVÄNDNING AV INSÄKTSNÄT | D24: Separat kalkyl, kål som exempelgröda
B26: BÄR OCH FRUKT | D26: AREAL | G26: SÅLD SKÖRD | I26: SKÖRDEÅR | K26: FÖRKULTIVERINGSÅR | R26: JORDGUBBE TUNNEL | S26: =U26+W26+Y26+AA26 -> 1 | T26: ha | V26: ha | X26: ha | Y26: 1 | Z26: ha | AB26: ha
B27: Fleråriga växters helhetsareal består av växter i olika växtskeden: planteringsareal, etableringsareal och skördeareal. Varje växtskede har sin egen skördenivå. Genom att klicka på stjärnan före växtnamnet kan du redigera arealer och skördar. I punkten för såld skörd finns ett vägt medeltal för medelskörden för de olika växtskedena. Denna medelskörd används i beräkningarna som skörd. | R27: Skörd | S27: =(U27*U26+W27*W26+Y27*Y26+AA27*AA26)/S26 -> 8000 | T27: kg/ha | V27: kg/ha | X27: kg/ha | Y27: 8000 | Z27: kg/ha | AB27: kg/ha
A28: ☆ | B28: JORDGUBBE FRILAND | D28: 3 | E28: ha | G28: =IF(S20>0,S21,0) -> 3400 | H28: kg/ha | I28: 3 | J28: år
A29: ☆ | B29: JORDGUBBE TUNNEL | D29: 0 | E29: ha | G29: =IF(S26>0,S27,0) -> 8000 | H29: kg/ha | I29: 1 | J29: år | R29: HALLON FRILAND | S29: =U29+W29+Y29+AA29 -> 4 | T29: ha | U29: 0.5 | V29: ha | W29: 0.5 | X29: ha | Y29: 3 | Z29: ha | AB29: ha
A30: ☆ | B30: HALLON FRILAND | D30: 0 | E30: ha | G30: =IF(S29>S273,S30,0) -> 2375 | H30: kg/ha | I30: 8 | J30: år | R30: Skörd | S30: =(U30*U29+W30*W29+Y30*Y29+AA30*AA29)/S29 -> 2375 | T30: kg/ha | V30: kg/ha | W30: 1000 | X30: kg/ha | Y30: 3000 | Z30: kg/ha | AB30: kg/ha
A31: ☆ | B31: HALLON TUNNEL | D31: 0 | E31: ha | G31: =IF(S32>S274,S33,0) -> 4500 | H31: kg/ha | I31: 1 | J31: år
A32: ☆ | B32: SVARTA VINBÄR | D32: 0 | E32: ha | G32: =IF(S35>0,S36,0) -> 5800 | H32: kg/ha | I32: 10 | J32: år | K32: 2 | L32: år | R32: HALLON TUNNEL | S32: =U32+W32+Y32+AA32 -> 1 | T32: ha | V32: ha | X32: ha | Y32: 1 | Z32: ha | AB32: ha
A33: ☆ | B33: BUSKBLÅBÄR | D33: 0 | E33: ha | G33: =IF(S38>0,S39,0) -> 4500 | H33: kg/ha | I33: 10 | J33: år | K33: 2 | L33: år | R33: Skörd | S33: =(U33*U32+W33*W32+Y33*Y32+AA33*AA32)/S32 -> 4500 | T33: kg/ha | V33: kg/ha | X33: kg/ha | Y33: 4500 | Z33: kg/ha | AB33: kg/ha
A34: ☆ | B34: ÄPPLE | D34: 5 | E34: ha | G34: =IF(S41>0,S42,0) -> 13666.667 | H34: kg/ha | I34: 15 | J34: år | K34: 3 | L34: år
R35: SVARTA VINBÄR | S35: =U35+W35+Y35+AA35 -> 5 | T35: ha | V35: ha | W35: 1 | X35: ha | Y35: 4 | Z35: ha | AB35: ha
B36: ÅKERVÄXTER | D36: AREAL | G36: SÅLD SKÖRD | R36: Skörd | S36: =(U36*U35+W36*W35+Y36*Y35+AA36*AA35)/S35 -> 5800 | T36: kg/ha | V36: kg/ha | W36: 3000 | X36: kg/ha | Y36: 6500 | Z36: kg/ha | AB36: kg/ha
B37: HAVRE | D37: 0 | E37: ha | G37: 0 | H37: kg/ha | K37: =IF(AND(D37=0, G37>0),"HUOM! Ei voi olla satoa, jos ei ole viljelyalaa!", " ")
B38: KORN | D38: 0 | E38: ha | G38: 0 | H38: kg/ha | K38: =IF(AND(D38=0, G38>0),"HUOM! Ei voi olla satoa, jos ei ole viljelyalaa!", " ") | R38: BUSKEBLÅBÄR | S38: =U38+W38+Y38+AA38 -> 1 | T38: ha | V38: ha | X38: ha | Y38: 1 | Z38: ha | AB38: ha
B39: VETE | D39: 0 | E39: ha | G39: 0 | H39: kg/ha | K39: =IF(AND(D39=0, G39>0),"HUOM! Ei voi olla satoa, jos ei ole viljelyalaa!", " ") | R39: Skörd | S39: =(U39*U38+W39*W38+Y39*Y38+AA39*AA38)/S38 -> 4500 | T39: kg/ha | V39: kg/ha | X39: kg/ha | Y39: 4500 | Z39: kg/ha | AB39: kg/ha
B40: HÖSTRÅG | D40: 0 | E40: ha | G40: 0 | H40: kg/ha | K40: =IF(AND(D40=0, G40>0),"HUOM! Ei voi olla satoa, jos ei ole viljelyalaa!", " ")
B41: NATURVÅRDSÅKER | D41: 0 | E41: ha | G41: 0 | H41: kg/ha | K41: =IF(AND(D41=0, G41>0),"HUOM! Ei voi olla satoa, jos ei ole viljelyalaa!", " ") | R41: ÄPPLE | S41: =U41+W41+Y41+AA41 -> 3 | T41: ha | U41: 0.5 | V41: ha | W41: 0.5 | X41: ha | Y41: 2 | Z41: ha | AB41: ha
B42: VALL | D42: 0 | E42: ha | G42: 0 | H42: kg/ha | K42: =IF(AND(D42=0, G42>0),"HUOM! Ei voi olla satoa, jos ei ole viljelyalaa!", " ") | R42: Skörd | S42: =(U42*U41+W42*W41+Y42*Y41+AA42*AA41)/S41 -> 13666.667 | T42: kg/ha | V42: kg/ha | W42: 2000 | X42: kg/ha | Y42: 20000 | Z42: kg/ha | AB42: kg/ha
B43: SUMMA | D43: =SUM(D9,D12:D21,D23,D28:D34,D37:D42) -> 47 | E43: ha
B47: EGEN ÅKER | D47: 25 | E47: ha
B48: ARRENDERAD ÅKER | D48: 22 | E48: ha | G48: 400 | H48: €/ha | K48: =IF(D43=D49," ","HUOM! Viljelykasvien alojen summa ja oman sekä vuokrapellon summa eivät täsmää.")
B49: TOTALT | D49: =SUM(D47:D48) -> 47 | E49: ha
B51: STÖD
...

Sheet Hela gårdens lönsamhet
B2: HELA GÅRDENS LÖNSAMHET
B4: Kalkyleringen nedan beskriver hela gårdens lönsamhet. Dessa siffror kommer från Gårdens info (arealer) samt från de växtspecifika uträkningarna. Ifall du vill byta ut värden i denna tabell gå till de växtspecifika kalkylerna.
B6: Intäkter
B7: Försäljningsintäkter
C8: Matpotatis | F8: ='Gårdens info'!D9 -> 10 | G8: ha | H8: =Matpotatis!F9 -> 6510 | I8: €/ha | J8: =F8*H8 -> 65100 | K8: €/gård
C9: Morot | F9: ='Gårdens info'!D12 -> 10 | G9: ha | H9: =Morot!F9 -> 42000 | I9: €/ha | J9: =F9*H9 -> 420000 | K9: €/gård
C10: Kål | F10: ='Gårdens info'!D13 -> 10 | G10: ha | H10: =Kål!F10 -> 37000 | I10: €/ha | J10: =F10*H10 -> 370000 | K10: €/gård
C11: Lök | F11: ='Gårdens info'!D14 -> 2 | G11: ha | H11: =Lök!F9 -> 29200 | I11: €/ha | J11: =F11*H11 -> 58400 | K11: €/gård
C12: Sättlök | F12: ='Gårdens info'!D15 -> 5 | G12: ha | H12: =Sättlök!F9 -> 25550 | I12: €/ha | J12: =Sättlök!J9 -> 127750 | K12: €/gård
C13: Trädgårdsärt | F13: ='Gårdens info'!D16 -> 2 | G13: ha | H13: =Trädgårdsärt!F9 -> 15200 | I13: €/ha | J13: =F13*H13 -> 30400 | K13: €/gård
C14: Grönsak från frö 1 | F14: ='Gårdens info'!D17 -> 0 | G14: ha | H14: ='Grönsak från frö 1'!F9 -> 0 | I14: €/ha | J14: =F14*H14 -> 0 | K14: €/gård
C15: Grönsak från frö 2 | F15: ='Gårdens info'!D18 -> 0 | G15: ha | H15: ='Grönsak från frö 2'!F9 -> 0 | I15: €/ha | J15: =F15*H15 -> 0 | K15: €/gård
C16: Grönsak planterad 1 | F16: ='Gårdens info'!D19 -> 0 | G16: ha | H16: ='Grönsak planterad 1'!F9 -> 0 | I16: €/ha | J16: =F16*H16 -> 0 | K16: €/gård
C17: Grönsak planterad 2 | F17: ='Gårdens info'!D20 -> 0 | G17: ha | H17: ='Grönsak planterad 2'!F9 -> 0 | I17: €/ha | J17: =F17*H17 -> 0 | K17: €/gård
C18: Grönsak planterad 3 | F18: ='Gårdens info'!D21 -> 0 | G18: ha | H18: ='Grönsak planterad 3'!F9 -> 0 | I18: €/ha | J18: =F18*H18 -> 0 | K18: €/gård
C19: Jordgubbe friland | F19: ='Gårdens info'!D28 -> 3 | G19: ha | H19: =IF(F19>0,'Jordgubbe friland'!F9,0) -> 21688.6 | I19: €/ha | J19: =F19*H19 -> 65065.8 | K19: €/gård
C20: Jordgubbe tunnel | F20: ='Gårdens info'!D29 -> 0 | G20: ha | H20: =IF(F20>0,'Jordgubbe tunnel'!F9,0) -> 0 | I20: €/ha | J20: =F20*H20 -> 0 | K20: €/gård
C21: Hallon friland | F21: ='Gårdens info'!D30 -> 0 | G21: ha | H21: =IF(F21>0,'Hallon friland'!F9,0) -> 0 | I21: €/ha | J21: =F21*H21 -> 0 | K21: €/gård
C22: Hallon tunnel | F22: ='Gårdens info'!D31 -> 0 | G22: ha | H22: =IF(F22>0,'Hallon tunnel'!F9,0) -> 0 | I22: €/ha | J22: =F22*H22 -> 0 | K22: €/gård
C23: Svart vinbär | F23: ='Gårdens info'!D32 -> 0 | G23: ha | H23: =IF(F23>0,'Svarta vinbär'!F9,0) -> 0 | I23: €/ha | J23: =F23*H23 -> 0 | K23: €/gård
C24: Buskblåbär | F24: ='Gårdens info'!D33 -> 0 | G24: ha | H24: =IF(F24>0,Buskblåbär!F9,0) -> 0 | I24: €/ha | J24: =F24*H24 -> 0 | K24: €/gård
C25: Äpple | F25: ='Gårdens info'!D34 -> 5 | G25: ha | H25: =IF(F25>0,Äpple!F9,0) -> 23233.333 | I25: €/ha | J25: =F25*H25 -> 116166.67 | K25: €/gård
C26: Havre | F26: ='Gårdens info'!D37 -> 0 | G26: ha | H26: =IF(F26>0,Havre!F9,0) -> 0 | I26: €/ha | J26: =F26*H26 -> 0 | K26: €/gård
C27: Korn | F27: ='Gårdens info'!D38 -> 0 | G27: ha | H27: =IF(F27>0,Korn!F9,0) -> 0 | I27: €/ha | J27: =F27*H27 -> 0 | K27: €/gård
C28: Vete | F28: ='Gårdens info'!D39 -> 0 | G28: ha | H28: =IF(F28>0,Vete!F9,0) -> 0 | I28: €/ha | J28: =F28*H28 -> 0 | K28: €/gård
C29: Höstråg | F29: ='Gårdens info'!D40 -> 0 | G29: ha | H29: =Höstråg!F9 -> 0 | I29: €/ha | J29: =F29*H29 -> 0 | K29: €/gård
C30: Naturvårdsåker | F30: ='Gårdens info'!D41 -> 0 | G30: ha | H30: =IF(F30>0,Naturvårdsåker!F9,0) -> 0 | I30: €/ha | J30: =F30*H30 -> 0 | K30: €/gård
C31: Vall | F31: ='Gårdens info'!D42 -> 0 | G31: ha | H31: =Vall!F9 -> 0 | I31: €/ha | J31: =F31*H31 -> 0 | K31: €/gård
C32: SUMMA | F32: =SUM(F19:F31) -> 8 | G32: ha | J32: =SUM(J8:J31) -> 1252882.5 | K32: €/gård
B34: STÖD | C34: Tuet | F34: ='Gårdens info'!D43 -> 47 | G34: ha | H34: =J34/F34 -> 772.81277 | I34: €/ha | J34: =Matpotatis!J10+Morot!J10+Kål!J11+Lök!J10+Trädgårdsärt!J10+'Grönsak från frö 1'!J10+'Grönsak från frö 2'!J10+'Grönsak planterad 1'!J10+'Grönsak planterad 2'!J10+'Grönsak planterad 3'!J10+'Jordgubbe friland'!J10+'Hallon friland'!J10+'Svarta vinbär'!J10+Buskblåbär!J10+Äpple!J10+Havre!J10+Korn!J10+Vete!J10+Höstråg!J10+Naturvårdsåker!J10+Vall!J10 -> 36322.2 | K34: €/gård
B36: Intäkter sammanlagt = omsättning | J36: =J34+J32 -> 1289204.7 | K36: €/gård
B38: Rörliga kostnader
C39: Matpotatis | F39: ='Gårdens info'!D9 -> 10 | G39: ha | H39: =Matpotatis!F28 -> 3409.1219 | I39: €/ha | J39: =F39*H39 -> 34091.219 | K39: €/gård
C40: Morot | F40: ='Gårdens info'!D12 -> 10 | G40: ha | H40: =Morot!F28 -> 5307.7219 | I40: €/ha | J40: =F40*H40 -> 53077.219 | K40: €/gård
C41: Kål | F41: ='Gårdens info'!D13 -> 10 | G41: ha | H41: =Kål!F29 -> 8435.2052 | I41: €/ha | J41: =F41*H41 -> 84352.052 | K41: €/gård
C42: Lök | F42: ='Gårdens info'!D14 -> 2 | G42: ha | H42: =Lök!F28 -> 8935.9254 | I42: €/ha | J42: =F42*H42 -> 17871.851 | K42: €/gård
C43: Sättlök | F43: ='Gårdens info'!D15 -> 5 | G43: ha | H43: =Sättlök!F28 -> 10027.692 | I43: €/ha | J43: =Sättlök!J28 -> 50138.46 | K43: €/gård
C44: Trädgårdslök | F44: ='Gårdens info'!D16 -> 2 | G44: ha | H44: =Trädgårdsärt!F28 -> 8608.1119 | I44: €/ha | J44: =F44*H44 -> 17216.224 | K44: €/gård
C45: Grönsak från frö 1 | F45: ='Gårdens info'!D17 -> 0 | G45: ha | H45: ='Grönsak från frö 1'!F24 -> 0 | I45: €/ha | J45: =F45*H45 -> 0 | K45: €/gård
C46: Grönsak från frö 2 | F46: ='Gårdens info'!D18 -> 0 | G46: ha | H46: ='Grönsak från frö 2'!F24 -> 0 | I46: €/ha | J46: =F46*H46 -> 0 | K46: €/gård
...

Sheet Matpotatis
B1: MATPOTATIS
B2: TILL FRAMSIDAN
B4: Lönsamhetskalkylerna består först av inkomsterna. Därefter kommer utgifterna. Kalkylerna innehåller mycket bakgrundsinformation och bakgrundsuträkningar dit du kommer genom att klicka på de understräckade delarna.
B6: LÖNSAMHET FÖR KONVENTIONELLT ODLAD POTATIS
B8: Inkomster | N8: Försäljningsinkomster
C9: Försäljningsinkomster | F9: =IF('Gårdens info'!D9>0,H9*'Gårdens info'!G9,0) -> 6510 | G9: €/ha | H9: =IF('Gårdens info'!G9>0,(('Gårdens info'!D9*'Gårdens info'!G9*S10*T10)+('Gårdens info'!D9*'Gårdens info'!G9*S11*T11)+('Gårdens info'!D9*'Gårdens info'!G9*S12*T12)+('Gårdens info'!D9*'Gårdens info'!G9*S13*T13)+('Gårdens info'!D9*'Gårdens info'!G9*S14*T14)+('Gårdens info'!D9*'Gårdens info'!G9*S15*T15)+('Gårdens info'!D9*'Gårdens info'!G9*S16*T16)+('Gårdens info'!D9*'Gårdens info'!G9*S17*T17))/(('Gårdens info'!D9*'Gårdens info'!G9)),0) -> 0.217 | I9: €/kg | J9: =F9*'Gårdens info'!D9 -> 65100 | K9: €/potatis-areal | O9: Försäljningsstorlek | S9: ANDEL AV FÖRSÄLJNING | T9: PRIS
C10: Stöd | F10: =IF('Gårdens info'!D9>0,Stöd!L14,0) -> 459.1 | G10: €/ha | H10: =IF('Gårdens info'!G9>0,F10/'Gårdens info'!G9,0) -> 0.015303333 | I10: €/kg | J10: =F10*'Gårdens info'!D9 -> 4591 | K10: €/potatis-areal | O10: 2 | P10: kg | Q10: påse | S10: 1 | T10: 0.217 | U10: €/kg
B11: Summa inkomster = omsättning | F11: =F9+F10 -> 6969.1 | G11: €/ha | H11: =H9+H10 -> 0.23230333 | I11: €/kg | J11: =J9+J10 -> 69691 | K11: €/potatis-areal | O11: 0.5 | P11: kg | Q11: påse | S11: 0 | T11: 0.217 | U11: €/kg
O12: 10 | P12: kg | Q12: säck | S12: 0 | T12: 0.217 | U12: €/kg
O13: =D114 -> 0 | P13: kg | Q13: Förpackning X | S13: 0 | U13: €/kg
B14: Rörliga kostnader | O14: =D115 -> 0 | P14: kg | Q14: Förpackning X | S14: 0 | U14: €/kg
O15: =D116 -> 0 | P15: kg | Q15: Förpackning X | S15: 0 | U15: €/kg
C16: Frö | F16: =IF('Gårdens info'!D9>0,J73,0) -> 700 | G16: €/ha | H16: =IF('Gårdens info'!$G$9>0,F16/'Gårdens info'!$G$9,0) -> 0.023333333 | I16: €/kg | J16: =F16*'Gårdens info'!$D$9 -> 7000 | K16: €/potatis-areal | O16: =D117 -> 0 | P16: kg | Q16: Förpackning X | S16: 0 | U16: €/kg
C17: Gödsel och kalk | F17: =IF('Gårdens info'!D9>0,J84,0) -> 780.3 | G17: €/ha | H17: =IF('Gårdens info'!$G$9>0,F17/'Gårdens info'!$G$9,0) -> 0.02601 | I17: €/kg | J17: =F17*'Gårdens info'!$D$9 -> 7803 | K17: €/potatis-areal | O17: SUMMA | S17: =SUM(S10:S16) -> 1
C18: IPM Växtskydd | F18: =IF('Gårdens info'!D9>0,J106,0) -> 249.09 | G18: €/ha | H18: =IF('Gårdens info'!$G$9>0,F18/'Gårdens info'!$G$9,0) -> 0.008303 | I18: €/kg | J18: =F18*'Gårdens info'!$D$9 -> 2490.9 | K18: €/potatis-areal | O18: =IF(S17=100%," ","HUOM! Osuus myyynneistä pitää summautua 100 prosenttiin")
C19: Packningsmaterial | F19: =IF('Gårdens info'!D9>0,J118,0) -> 150 | G19: €/ha | H19: =IF('Gårdens info'!$G$9>0,F19/'Gårdens info'!$G$9,0) -> 0.005 | I19: €/kg | J19: =F19*'Gårdens info'!$D$9 -> 1500 | K19: €/potatis-areal
C20: Fraktkostnader | F20: =IF('Gårdens info'!D9>0,122,0) -> 122 | G20: €/ha | H20: =IF('Gårdens info'!$G$9>0,F20/'Gårdens info'!$G$9,0) -> 0.0040666667 | I20: €/kg | J20: =F20*'Gårdens info'!$D$9 -> 1220 | K20: €/potatis-areal
C21: Maskinkostnader och entreprenad | F21: =IF('Gårdens info'!D9>0,J134,0) -> 0 | G21: €/ha | H21: =IF('Gårdens info'!$G$9>0,F21/'Gårdens info'!$G$9,0) -> 0 | I21: €/kg | J21: =F21*'Gårdens info'!$D$9 -> 0 | K21: €/potatis-areal
C22: Energikostnader | F22: =IF('Gårdens info'!D9>0,J146,0) -> 982.2 | G22: €/ha | H22: =IF('Gårdens info'!$G$9>0,F22/'Gårdens info'!$G$9,0) -> 0.03274 | I22: €/kg | J22: =F22*'Gårdens info'!$D$9 -> 9822 | K22: €/potatis-areal
C23: Anställd arbetskraft | F23: =IF('Gårdens info'!D9>0,L173,0) -> 0 | G23: €/ha | H23: =IF('Gårdens info'!$G$9>0,F23/'Gårdens info'!$G$9,0) -> 0 | I23: €/kg | J23: =F23*'Gårdens info'!$D$9 -> 0 | K23: €/potatis-areal
C24: SUMMA | F24: =SUM(F16:F23) -> 2983.59 | G24: €/ha | H24: =SUM(H16:H23) -> 0.099453 | I24: €/kg | J24: =SUM(J16:J23) -> 29835.9 | K24: €/potatis-areal
AB25: =C16 -> Frö | AC25: =F16 -> 700
B26: ALMÄNNA KOSTNADER, potatisens andel | F26: =IF('Gårdens info'!D9>0,J26/'Gårdens info'!D9,0) -> 238.29787 | G26: €/ha | H26: =IF('Gårdens info'!G9>0,F26/'Gårdens info'!G9,0) -> 0.0079432624 | I26: €/kg | J26: ='Gårdens info'!G163/'Gårdens info'!D43*'Gårdens info'!D9 -> 2382.9787 | K26: €/potatis-areal | AB26: =C17 -> Gödsel och kalk | AC26: =F17 -> 780.3
B27: HYRESKOSTNADER ÅKER, potatisens andel | F27: =IF('Gårdens info'!D9>0,J27/'Gårdens info'!D9,0) -> 187.23404 | G27: €/ha | H27: =IF('Gårdens info'!G9>0,F27/'Gårdens info'!G9,0) -> 0.0062411348 | I27: €/kg | J27: ='Gårdens info'!$D$48/'Gårdens info'!$D$49*'Gårdens info'!$G$48*'Gårdens info'!D9 -> 1872.3404 | K27: €/potatis-areal | AB27: =C18 -> IPM Växtskydd | AC27: =F18 -> 249.09
B28: Rörliga kostnader sammanlagt | F28: =F24+F26+F27 -> 3409.1219 | G28: €/ha | H28: =H24+H26+H27 -> 0.1136374 | I28: €/kg | J28: =J24+J26+J27 -> 34091.219 | K28: €/potatis-areal | AB28: =C19 -> Packningsmaterial | AC28: =F19 -> 150
AB29: =C20 -> Fraktkostnader | AC29: =F20 -> 122
B30: Fasta kostnader, potatisens andel | AB30: =C21 -> Maskinkostnader och entreprenad | AC30: =F21 -> 0
B31: BYGGNADER | AB31: =C22 -> Energikostnader | AC31: =F22 -> 982.2
C32: Avskrivning | F32: =IF('Gårdens info'!$D$9>0,J32/'Gårdens info'!$D$9,0) -> 467.82979 | G32: €/ha | H32: =IF('Gårdens info'!$G$9>0,F32/'Gårdens info'!$G$9,0) -> 0.015594326 | I32: €/kg | J32: =Egendom!AL25 -> 4678.2979 | K32: €/potatis-areal | AB32: =C23 -> Anställd arbetskraft | AC32: =F23 -> 0
C33: Ränta | F33: =IF('Gårdens info'!$D$9>0,J33/'Gårdens info'!$D$9,0) -> 292.39362 | G33: €/ha | H33: =IF('Gårdens info'!$G$9>0,F33/'Gårdens info'!$G$9,0) -> 0.0097464539 | I33: €/kg | J33: =Egendom!BJ25 -> 2923.9362 | K33: €/potatis-areal | AB33: Allmänna kostnader | AC33: =F26 -> 238.29787
C34: Reparation och underhåll | F34: =IF('Gårdens info'!$D$9>0,J34/'Gårdens info'!$D$9,0) -> 116.95745 | G34: €/ha | H34: =IF('Gårdens info'!$G$9>0,F34/'Gårdens info'!$G$9,0) -> 0.0038985816 | I34: €/kg | J34: =Egendom!CH25 -> 1169.5745 | K34: €/potatis-areal | AB34: Hyrestkostnader åker | AC34: =F27 -> 187.23404
C35: Försäkringar | F35: =IF('Gårdens info'!$D$9>0,J35/'Gårdens info'!$D$9,0) -> 23.391489 | G35: €/ha | H35: =IF('Gårdens info'!$G$9>0,F35/'Gårdens info'!$G$9,0) -> 0.00077971631 | I35: €/kg | J35: =Egendom!DF25 -> 233.91489 | K35: €/potatis-areal | AB35: Byggnader | AC35: =F36 -> 900.57234
C36: SUMMA | F36: =SUM(F32:F35) -> 900.57234 | G36: €/ha | H36: =SUM(H32:H35) -> 0.030019078 | I36: €/kg | J36: =SUM(J32:J35) -> 9005.7234 | K36: €/potatis-areal | AB36: Maskiner och utrustning | AC36: =F43 -> 1247.2603
AB37: Långvariga produktionsmedel | AC37: =F50 -> 223.125
B38: MASKINER OCH UTRUSTNING | AB38: Täckdik | AC38: =F56 -> 12.765957
C39: Avskrivning | F39: =IF('Gårdens info'!$D$9>0,J39/'Gårdens info'!$D$9,0) -> 530.92199 | G39: €/ha | H39: =IF('Gårdens info'!$G$9>0,F39/'Gårdens info'!$G$9,0) -> 0.0176974 | I39: €/kg | J39: =Egendom!AL61 -> 5309.2199 | K39: €/potatis-areal | AB39: Lönekrav för eget arbete | AC39: =F62 -> 2327.25
C40: Ränta | F40: =IF('Gårdens info'!$D$9>0,J40/'Gårdens info'!$D$9,0) -> 199.09574 | G40: €/ha | H40: =IF('Gårdens info'!$G$9>0,F40/'Gårdens info'!$G$9,0) -> 0.0066365248 | I40: €/kg | J40: =Egendom!BJ61 -> 1990.9574 | K40: €/potatis-areal
C41: Reparation och underhåll | F41: =IF('Gårdens info'!$D$9>0,J41/'Gårdens info'!$D$9,0) -> 484.91489 | G41: €/ha | H41: =IF('Gårdens info'!$G$9>0,F41/'Gårdens info'!$G$9,0) -> 0.01616383 | I41: €/kg | J41: =Egendom!CH61 -> 4849.1489 | K41: €/potatis-areal
C42: Försäkringar | F42: =IF('Gårdens info'!$D$9>0,J42/'Gårdens info'!$D$9,0) -> 32.32766 | G42: €/ha | H42: =IF('Gårdens info'!$G$9>0,F42/'Gårdens info'!$G$9,0) -> 0.0010775887 | I42: €/kg | J42: =Egendom!DF61 -> 323.2766 | K42: €/potatis-areal
C43: SUMMA | F43: =SUM(F39:F42) -> 1247.2603 | G43: €/ha | H43: =SUM(H39:H42) -> 0.041575343 | I43: €/kg | J43: =SUM(J39:J42) -> 12472.603 | K43: €/potatis-areal
...

Sheet Morot
B1: MOROT
B2: TILL FRMASIDAN | AE2: MÅNATLIGA ARBETAANVÄNDNING, H/HA
AE3: I tabellen nedan listas den månatliga arbetsanvändningen, uppdelad i början och slutet av varje månad. Du kan fritt redigera siffrorna i de blåmarkerade cellerna. De årliga totalsummorna från tabellen nedan överförs automatiskt till kalkylens ARBETSANVÄNDNING-tabell.
B4: Lönsamhetskalkylerna består först av inkomsterna. Därefter kommer utgifterna. Kalkylerna innehåller mycket bakgrundsinformation och bakgrundsuträkningar dit du kommer genom att klicka på de understräckade delarna.
AF5: januari | AH5: februari | AJ5: mars | AL5: april | AN5: maj | AP5: juni | AR5: juli | AT5: augusti | AV5: september | AX5: oktober | AZ5: november | BB5: december | BD5: Arbetet sammanlagt
B6: LÖNSAMHET FÖR KONVENTIONELLT ODLAD MOROT | AE6: Odlingsplanering, dokumentation och kvalitetssystem | AH6: 1 | AJ6: 1 | AL6: 1 | AN6: 1 | AP6: 1 | AR6: 1 | AT6: 1 | AV6: 1 | AX6: 1 | AZ6: 1 | BB6: 1 | BD6: =SUM(AF6:BB6) -> 11 | BE6: timmar/ha
AE7: Produktionsavtal | AZ7: 1 | BB7: 1 | BD7: =SUM(AF7:BB7) -> 2
B8: Inkomster | N8: Försäljningsinkomster | AE8: Jordbearbetning | AL8: 2 | AM8: 1 | AN8: 1 | BD8: =SUM(AF8:BB8) -> 4
C9: Försäljningsinkomster | F9: =IF('Gårdens info'!D12>0,H9*'Gårdens info'!G12,0) -> 42000 | G9: €/ha | H9: =IF('Gårdens info'!G12>0,(('Gårdens info'!D12*'Gårdens info'!G12*S10*T10)+('Gårdens info'!D12*'Gårdens info'!G12*S11*T11)+('Gårdens info'!D12*'Gårdens info'!G12*S12*T12)+('Gårdens info'!D12*'Gårdens info'!G12*S13*T13)+('Gårdens info'!D12*'Gårdens info'!G12*S14*T14)+('Gårdens info'!D12*'Gårdens info'!G12*S15*T15)+('Gårdens info'!D12*'Gårdens info'!G12*S16*T16)+('Gårdens info'!D12*'Gårdens info'!G12*S17*T17))/(('Gårdens info'!D12*'Gårdens info'!G12)),0) -> 0.7 | I9: €/kg | J9: =F9*'Gårdens info'!D12 -> 420000 | K9: €/morots-areal | O9: Försäljningsstorlek | S9: ANDEL AV FÖRSÄLJNING | T9: PRIS | AE9: Bäddbearbetning och sådd | AL9: 3 | AM9: 3 | AN9: 3 | BD9: =SUM(AF9:BB9) -> 9
C10: Stöd | F10: =IF('Gårdens info'!D12>0,Stöd!L15,0) -> 1027.1 | G10: €/ha | H10: =IF('Gårdens info'!G12>0,F10/'Gårdens info'!G12,0) -> 0.017118333 | I10: €/kg | J10: =F10*'Gårdens info'!D12 -> 10271 | K10: €/morots-areal | O10: 1 | P10: kg | Q10: påse | S10: 0.4 | T10: 0.7 | U10: €/kg | AE10: Gödsel | AL10: 1 | AM10: 1 | AN10: 1 | AR10: 1 | AS10: 1 | AT10: 1 | BD10: =SUM(AF10:BB10) -> 6
B11: Summa inkomster = omsättning | F11: =F9+F10 -> 43027.1 | G11: €/ha | H11: =H9+H10 -> 0.71711833 | I11: €/kg | J11: =J9+J10 -> 430271 | K11: €/morots-areal | O11: 0.25 | P11: kg | Q11: knippe | S11: 0 | U11: €/kg | AE11: Installation av bevattningsutrustning | AN11: 4 | BD11: =SUM(AF11:BB11) -> 4
O12: 0.5 | P12: kg | Q12: påse | S12: 0.4 | T12: 0.72 | U12: €/kg | AE12: Bevattning | AN12: 3 | AO12: 3 | AP12: 3 | AQ12: 3 | AR12: 3 | AS12: 3 | BD12: =SUM(AF12:BB12) -> 18
O13: 10 | P13: kg | Q13: säck | S13: 0.2 | T13: 0.66 | U13: €/kg | AE13: Höstunderhåll av bevattningsutrustning | AT13: 4 | BD13: =SUM(AF13:BB13) -> 4
B14: Rörliga kostnader | O14: =D114 -> 0 | P14: kg | Q14: =C114 -> förpackning X | S14: 0 | U14: €/kg | AE14: Växtskydd, ogräs | AO14: 2 | AP14: 2 | AW14: 2 | BD14: =SUM(AF14:BB14) -> 6
O15: =D115 -> 0 | P15: kg | Q15: =C115 -> förpackning X | S15: 0 | U15: €/kg | AE15: Växtskydd, sjukdomar | AR15: 1 | AS15: 1 | BD15: =SUM(AF15:BB15) -> 2
C16: Frö | F16: =IF('Gårdens info'!D12>0,J73,0) -> 700 | G16: €/ha | H16: =IF('Gårdens info'!$G$12>0,F16/'Gårdens info'!$G$12,0) -> 0.011666667 | I16: €/kg | J16: =F16*'Gårdens info'!$D$12 -> 7000 | K16: €/morots-areal | O16: =D116 -> 0 | P16: kg | Q16: =C116 -> förpackning X | S16: 0 | U16: €/kg | AE16: Växtskydd, skadedjur | AP16: 1 | AQ16: 1 | BD16: =SUM(AF16:BB16) -> 2
C17: Gödsel och kalk | F17: =IF('Gårdens info'!D12>0,J84,0) -> 1292 | G17: €/ha | H17: =IF('Gårdens info'!$G$12>0,F17/'Gårdens info'!$G$12,0) -> 0.021533333 | I17: €/kg | J17: =F17*'Gårdens info'!$D$12 -> 12920 | K17: €/morots-areal | O17: =D117 -> 0 | P17: kg | Q17: =C117 -> förpackning X | S17: 0 | U17: €/kg | AE17: Radrensning och kupning | AP17: 2 | AQ17: 2 | BD17: =SUM(AF17:BB17) -> 4
C18: IPM Växtskydd | F18: =IF('Gårdens info'!D12>0,J105,0) -> 481 | G18: €/ha | H18: =IF('Gårdens info'!$G$12>0,F18/'Gårdens info'!$G$12,0) -> 0.0080166667 | I18: €/kg | J18: =F18*'Gårdens info'!$D$12 -> 4810 | K18: €/morots-areal | O18: SUMMA | S18: =SUM(S10:S17) -> 1 | AE18: Rengöring av lager och andra utrymmen | AG18: 3 | AI18: 3 | AK18: 3 | BD18: =SUM(AF18:BB18) -> 9
C19: Packningsmaterial | F19: =IF('Gårdens info'!D12>0,J118,0) -> 780 | G19: €/ha | H19: =IF('Gårdens info'!$G$12>0,F19/'Gårdens info'!$G$12,0) -> 0.013 | I19: €/kg | J19: =F19*'Gårdens info'!$D$12 -> 7800 | K19: €/morots-areal | O19: =IF(S18=100%," ","HUOM! Osuus myyynneistä pitää summautua 100 prosenttiin") | AE19: Skörd | AS19: 5 | AT19: 5 | AU19: 5 | AV19: 5 | AW19: 5 | AX19: 5 | AY19: 5 | BD19: =SUM(AF19:BB19) -> 35
C20: Fraktkostnader | F20: =IF('Gårdens info'!D12>0,122,0) -> 122 | G20: €/ha | H20: =IF('Gårdens info'!$G$12>0,F20/'Gårdens info'!$G$12,0) -> 0.0020333333 | I20: €/kg | J20: =F20*'Gårdens info'!$D$12 -> 1220 | K20: €/morots-areal | AE20: Hantering och transport av skörd från fält till lager | AS20: 2 | AT20: 2 | AU20: 2 | AV20: 2 | AW20: 2 | AX20: 2 | AY20: 2 | BD20: =SUM(AF20:BB20) -> 14
C21: Maskinkostnader och entreprenad | F21: =IF('Gårdens info'!D12>0,J134,0) -> 0 | G21: €/ha | H21: =IF('Gårdens info'!$G$12>0,F21/'Gårdens info'!$G$12,0) -> 0 | I21: €/kg | J21: =F21*'Gårdens info'!$D$12 -> 0 | K21: €/morots-areal | AE21: Iordningställande och förpackning för försäljning | AS21: 6 | AT21: 6 | AU21: 6 | AV21: 6 | AW21: 6 | AX21: 6 | AY21: 6 | AZ21: 6 | BA21: 6 | BB21: 6 | BC21: 6 | BD21: =SUM(AF21:BC21) -> 66
C22: Energikostnader | F22: =IF('Gårdens info'!D12>0,J146,0) -> 673.44 | G22: €/ha | H22: =IF('Gårdens info'!$G$12>0,F22/'Gårdens info'!$G$12,0) -> 0.011224 | I22: €/kg | J22: =F22*'Gårdens info'!$D$12 -> 6734.4 | K22: €/morots-areal | AE22: Utbildning, skatter, stöd, odling | AF22: 6 | AG22: 6 | BD22: =SUM(AF22:BB22) -> 12
C23: Anställd arbetskraft | F23: =IF('Gårdens info'!D12>0,L179,0) -> 833.75 | G23: €/ha | H23: =IF('Gårdens info'!$G$12>0,F23/'Gårdens info'!$G$12,0) -> 0.013895833 | I23: €/kg | J23: =F23*'Gårdens info'!$D$12 -> 8337.5 | K23: €/morots-areal | AE23: Bokslut | AH23: 6 | BD23: =SUM(AF23:BB23) -> 6
C24: SUMMA | F24: =SUM(F16:F23) -> 4882.19 | G24: €/ha | H24: =SUM(H16:H23) -> 0.081369833 | I24: €/kg | J24: =SUM(J16:J23) -> 48821.9 | K24: €/morots-areal | AE24: Företagshälsovård | AF24: 2 | BD24: =SUM(AF24:BB24) -> 2
AB25: =C16 -> Frö | AC25: =F16 -> 700 | AE25: Strategisk planering | AF25: 4 | BD25: =SUM(AF25:BB25) -> 4
B26: ALMÄNNA KOSTNADER, morotens andel | F26: =IF('Gårdens info'!D12>0,J26/'Gårdens info'!D12,0) -> 238.29787 | G26: €/ha | H26: =IF('Gårdens info'!G12>0,F26/'Gårdens info'!G12,0) -> 0.0039716312 | I26: €/kg | J26: ='Gårdens info'!G163/'Gårdens info'!D43*'Gårdens info'!D12 -> 2382.9787 | K26: €/morots-areal | AB26: =C17 -> Gödsel och kalk | AC26: =F17 -> 1292 | AE26: Inköp av produktionsinsatser | AF26: 1 | AH26: 1 | AJ26: 1 | AL26: 1 | AN26: 1 | AP26: 1 | AR26: 1 | AT26: 1 | AV26: 1 | AX26: 1 | AZ26: 1 | BB26: 1 | BD26: =SUM(AF26:BB26) -> 12
B27: HYRESKOSTNADER ÅKER, morotens andel | F27: =IF('Gårdens info'!D12>0,J27/'Gårdens info'!D12,0) -> 187.23404 | G27: €/ha | H27: =IF('Gårdens info'!G12>0,F27/'Gårdens info'!G12,0) -> 0.0031205674 | I27: €/kg | J27: ='Gårdens info'!$D$48/'Gårdens info'!$D$49*'Gårdens info'!$G$48*'Gårdens info'!D12 -> 1872.3404 | K27: €/morots-areal | AB27: =C18 -> IPM Växtskydd | AC27: =F18 -> 481 | AE27: Personalledning | AH27: 2 | AJ27: 2 | AL27: 2 | AN27: 4 | AP27: 4 | AR27: 4 | AT27: 4 | AV27: 4 | AX27: 2 | AZ27: 2 | BD27: =SUM(AF27:BB27) -> 30
B28: Rörliga kostnader sammanlagt | F28: =F24+F26+F27 -> 5307.7219 | G28: €/ha | H28: =H24+H26+H27 -> 0.088462032 | I28: €/kg | J28: =J24+J26+J27 -> 53077.219 | K28: €/morots-areal | AB28: =C19 -> Packningsmaterial | AC28: =F19 -> 780 | AE28: Marknadsföring | AH28: 1 | AJ28: 1 | AL28: 1 | AN28: 1 | AP28: 1 | AR28: 1 | AT28: 1 | AV28: 1 | AX28: 1 | AZ28: 1 | BD28: =SUM(AF28:BB28) -> 10
AB29: =C20 -> Fraktkostnader | AC29: =F20 -> 122 | AE29: Arbetsmoment X | BD29: =SUM(AF29:BB29) -> 0
B30: Fasta kostnader, morotens andel | AB30: =C21 -> Maskinkostnader och entreprenad | AC30: =F21 -> 0 | AE30: Arbetsmoment X | BD30: =SUM(AF30:BB30) -> 0
B31: BYGGNADER | AB31: =C22 -> Energikostnader | AC31: =F22 -> 673.44 | AE31: Arbetsmoment X | BD31: =SUM(AF31:BB31) -> 0
C32: Avskrivning | F32: =IF('Gårdens info'!$D$12>0,J32/'Gårdens info'!$D$12,0) -> 317.88384 | G32: €/ha | H32: =IF('Gårdens info'!$G$12>0,F32/'Gårdens info'!$G$12,0) -> 0.005298064 | I32: €/kg | J32: =Egendom!AK25 -> 3178.8384 | K32: €/morots-areal | AB32: =C23 -> Anställd arbetskraft | AC32: =F23 -> 833.75 | AE32: SUMMA, H/HA | AF32: =SUM(AF6:AF31) -> 13 | AG32: =SUM(AG6:AG31) -> 9 | AH32: =SUM(AH6:AH31) -> 11 | AI32: =SUM(AI6:AI31) -> 3 | AJ32: =SUM(AJ6:AJ31) -> 5 | AK32: =SUM(AK6:AK31) -> 3 | AL32: =SUM(AL6:AL31) -> 11 | AM32: =SUM(AM6:AM31) -> 5 | ... BD32: =SUM(BD6:BD31) -> 272
C33: Ränta | F33: =IF('Gårdens info'!$D$12>0,J33/'Gårdens info'!$D$12,0) -> 198.6774 | G33: €/ha | H33: =IF('Gårdens info'!$G$12>0,F33/'Gårdens info'!$G$12,0) -> 0.00331129 | I33: €/kg | J33: =Egendom!BI25 -> 1986.774 | K33: €/morots-areal | AB33: Allmänna kostnader | AC33: =F26 -> 238.29787
C34: Reparation och underhåll | F34: =IF('Gårdens info'!$D$12>0,J34/'Gårdens info'!$D$12,0) -> 79.47096 | G34: €/ha | H34: =IF('Gårdens info'!$G$12>0,F34/'Gårdens info'!$G$12,0) -> 0.001324516 | I34: €/kg | J34: =Egendom!CG25 -> 794.7096 | K34: €/morots-areal | AB34: Hyrestkostnader åker | AC34: =F27 -> 187.23404
C35: Försäkringar | F35: =IF('Gårdens info'!$D$12>0,J35/'Gårdens info'!$D$12,0) -> 15.894192 | G35: €/ha | H35: =IF('Gårdens info'!$G$12>0,F35/'Gårdens info'!$G$12,0) -> 0.0002649032 | I35: €/kg | J35: =Egendom!DE25 -> 158.94192 | K35: €/morots-areal | AB35: Byggnader | AC35: =F36 -> 611.92639
C36: SUMMA | F36: =SUM(F32:F35) -> 611.92639 | G36: €/ha | H36: =SUM(H32:H35) -> 0.010198773 | I36: €/kg | J36: =SUM(J32:J35) -> 6119.2639 | K36: €/morots-areal | AB36: Maskiner och utrustning | AC36: =F43 -> 1566.0936
AB37: Långvariga produktionsmedel | AC37: =F50 -> 96.109189
B38: MASKINER OCH UTRUSTNING | AB38: Täckdik | AC38: =F56 -> 12.765957
C39: Avskrivning | F39: =IF('Gårdens info'!$D$12>0,J39/'Gårdens info'!$D$12,0) -> 844.25532 | G39: €/ha | H39: =IF('Gårdens info'!$G$12>0,F39/'Gårdens info'!$G$12,0) -> 0.014070922 | I39: €/kg | J39: =Egendom!AK61 -> 8442.5532 | K39: €/morots-areal | AB39: Lönekrav för eget arbete | AC39: =F62 -> 3944
C40: Ränta | F40: =IF('Gårdens info'!$D$12>0,J40/'Gårdens info'!$D$12,0) -> 316.59574 | G40: €/ha | H40: =IF('Gårdens info'!$G$12>0,F40/'Gårdens info'!$G$12,0) -> 0.0052765957 | I40: €/kg | J40: =Egendom!BI61 -> 3165.9574 | K40: €/morots-areal
...

Sheet Kål
B1: KÅL
B2: TILL FRAMSIDAN | AE2: MÅNATLIGA ARBETAANVÄNDNING, H/HA
AE3: I tabellen nedan listas den månatliga arbetsanvändningen, uppdelad i början och slutet av varje månad. Du kan fritt redigera siffrorna i de blåmarkerade cellerna. De årliga totalsummorna från tabellen nedan överförs automatiskt till kalkylens ARBETSANVÄNDNING-tabell.
B4: Lönsamhetskalkylerna består först av inkomsterna. Därefter kommer utgifterna. Kalkylerna innehåller mycket bakgrundsinformation och bakgrundsuträkningar, dit du kommer genom att klicka på de understräckade delarna.
AF5: januari | AH5: februari | AJ5: mars | AL5: april | AN5: maj | AP5: juni | AR5: juli | AT5: augusti | AV5: semptember | AX5: oktober | AZ5: november | BB5: december | BD5: Arbetet sammanlagt
B6: LÖNSAMHET FÖR KONVENTIONELLT ODLAD KÅL | AE6: Odlingsplanering, dokumentation och kvalitetssystem | AH6: 1 | AJ6: 1 | AL6: 1 | AN6: 1 | AP6: 1 | AR6: 1 | AT6: 1 | AV6: 1 | AX6: 1 | AZ6: 1 | BB6: 1 | BD6: =SUM(AF6:BB6) -> 11 | BE6: timmar/ha
AE7: Produktionsavtal | BD7: =SUM(AF7:BB7) -> 0
B8: Inkomster | N8: Försäljningsinkomster | AE8: Jordbearbetning | AN8: 3 | BD8: =SUM(AF8:BB8) -> 3
AE9: Mottagning och skötsel av plantor | AN9: 1 | BD9: =SUM(AF9:BB9) -> 1
C10: Försäljningsinkomster | F10: =IF('Gårdens info'!D13>0,H10*'Gårdens info'!G13,0) -> 37000 | G10: €/ha | H10: =IF('Gårdens info'!G13>0,(('Gårdens info'!D13*'Gårdens info'!G13*S11*T11)+('Gårdens info'!D13*'Gårdens info'!G13*S12*T12)+('Gårdens info'!D13*'Gårdens info'!G13*S13*T13)+('Gårdens info'!D13*'Gårdens info'!G13*S14*T14)+('Gårdens info'!D13*'Gårdens info'!G13*S15*T15)+('Gårdens info'!D13*'Gårdens info'!G13*S16*T16)+('Gårdens info'!D13*'Gårdens info'!G13*S17*T17)+('Gårdens info'!D13*'Gårdens info'!G13*S18*T18))/(('Gårdens info'!D13*'Gårdens info'!G13)),0) -> 0.74 | I10: €/kg | J10: =F10*'Gårdens info'!D13 -> 370000 | K10: €/kålareal | O10: Försäljningsstorlek | S10: ANDEL AV FÖRSÄLJNING | T10: PRIS | AE10: Sådd | AO10: 10 | BD10: =SUM(AF10:BB10) -> 10
C11: Stöd | F11: =IF('Gårdens info'!D13>0,Stöd!L15,0) -> 1027.1 | G11: €/ha | H11: =IF('Gårdens info'!G13>0,F11/'Gårdens info'!G13,0) -> 0.020542 | I11: €/kg | J11: =F11*'Gårdens info'!D13 -> 10271 | K11: €/kålareal | O11: 1 | P11: kg | Q11: påse | S11: 0 | U11: €/kg | AE11: Gödsel | AN11: 2 | AQ11: 2 | AR11: 2 | BD11: =SUM(AF11:BB11) -> 6
B12: Summa inkomster = omsättning | F12: =F10+F11 -> 38027.1 | G12: €/ha | H12: =H10+H11 -> 0.760542 | I12: €/kg | J12: =J10+J11 -> 380271 | K12: €/kålareal | O12: 0.25 | P12: kg | Q12: knippe | S12: 0 | U12: €/kg | AE12: Installation av bevattningsutrustning | AN12: 4 | BD12: =SUM(AF12:BB12) -> 4
O13: 0.5 | P13: kg | Q13: påse | S13: 0 | U13: €/kg | AE13: Bevattning | AN13: 3 | AO13: 3 | AP13: 3 | AQ13: 3 | AR13: 3 | AS13: 3 | BD13: =SUM(AF13:BB13) -> 18
O14: 10 | P14: kg | Q14: säck | S14: 0.5 | T14: 0.76 | U14: €/kg | AE14: Höstunderhåll av bevattningsutrustning | AT14: 4 | BD14: =SUM(AF14:BB14) -> 4
B15: Rörliga kostnader | O15: 300 | P15: kg | Q15: =C112 -> Lagerlådssäck | S15: 0.5 | T15: 0.72 | U15: €/kg | AE15: Växtskydd, ogräs | AO15: 2 | AP15: 2 | AW15: 2 | BD15: =SUM(AF15:BB15) -> 6
O16: =D113 -> 0 | P16: kg | Q16: förpackning X | S16: 0 | U16: €/kg | AE16: Växtskydd, sjukdomar | AP16: 1 | AQ16: 1 | BD16: =SUM(AF16:BB16) -> 2
C17: Plantor | F17: =IF('Gårdens info'!D13>0,J74,0) -> 1350 | G17: €/ha | H17: =IF('Gårdens info'!$G$13>0,F17/'Gårdens info'!$G$13,) -> 0.027 | I17: €/kg | J17: =F17*'Gårdens info'!$D$13 -> 13500 | K17: €/kålareal | O17: =D114 -> 0 | P17: kg | Q17: förpackning X | S17: 0 | U17: €/kg | AE17: Växtskydd, skadedjur | AR17: 3 | AS17: 3 | BD17: =SUM(AF17:BB17) -> 6
C18: Gödsel och kalk | F18: =IF('Gårdens info'!D13>0,J84,0) -> 1720 | G18: €/ha | H18: =IF('Gårdens info'!$G$13>0,F18/'Gårdens info'!$G$13,) -> 0.0344 | I18: €/kg | J18: =F18*'Gårdens info'!$D$13 -> 17200 | K18: €/kålareal | O18: =D115 -> 0 | P18: kg | Q18: förpackning X | S18: 0 | U18: €/kg | AE18: Radrensning | AR18: 20 | AS18: 20 | BD18: =SUM(AF18:BB18) -> 40
C19: IPM Växtskydd | F19: =IF('Gårdens info'!D13>0,J103,0) -> 800.1 | G19: €/ha | H19: =IF('Gårdens info'!$G$13>0,F19/'Gårdens info'!$G$13,) -> 0.016002 | I19: €/kg | J19: =F19*'Gårdens info'!$D$13 -> 8001 | K19: €/kålareal | O19: SUMMA | S19: =SUM(S11:S18) -> 1 | AE19: Rengöring av lager och andra utrymmen | AG19: 3 | AI19: 3 | AK19: 3 | BD19: =SUM(AF19:BB19) -> 9
C20: Packningsmaterial | F20: =IF('Gårdens info'!D13>0,J116,0) -> 833.33333 | G20: €/ha | H20: =IF('Gårdens info'!$G$13>0,F20/'Gårdens info'!$G$13,) -> 0.016666667 | I20: €/kg | J20: =F20*'Gårdens info'!$D$13 -> 8333.3333 | K20: €/kålareal | O20: =IF(S19=100%," ","HUOM! Osuus myyynneistä pitää summautua 100 prosenttiin") | AE20: Skörd | AW20: 10 | AX20: 10 | BD20: =SUM(AF20:BB20) -> 20
C21: Fraktkostnader | F21: =IF('Gårdens info'!D13>0,J124,0) -> 900 | G21: €/ha | H21: =IF('Gårdens info'!$G$13>0,F21/'Gårdens info'!$G$13,) -> 0.018 | I21: €/kg | J21: =F21*'Gårdens info'!$D$13 -> 9000 | K21: €/kålareal | AE21: Hantering och transport av skörd från fält till lager | AW21: 5 | AX21: 5 | BD21: =SUM(AF21:BB21) -> 10
C22: Maskinkostnader och entreprenad | F22: =IF('Gårdens info'!D13>0,J132,0) -> 0 | G22: €/ha | H22: =IF('Gårdens info'!$G$13>0,F22/'Gårdens info'!$G$13,) -> 0 | I22: €/kg | J22: =F22*'Gårdens info'!$D$13 -> 0 | K22: €/kålareal | AE22: Iordningställande och förpackning för försäljning | AW22: 6 | AX22: 6 | AY22: 6 | AZ22: 6 | BA22: 6 | BB22: 6 | BC22: 6 | BD22: =SUM(AF22:BC22) -> 42
C23: Energikostnader | F23: =IF('Gårdens info'!D13>0,J144,0) -> 1304.24 | G23: €/ha | H23: =IF('Gårdens info'!$G$13>0,F23/'Gårdens info'!$G$13,) -> 0.0260848 | I23: €/kg | J23: =F23*'Gårdens info'!$D$13 -> 13042.4 | K23: €/kålareal | AE23: Avslutning | AY23: 2 | AZ23: 2 | BD23: =SUM(AF23:BC23) -> 4
C24: Anställd arbetskraft | F24: =L181 -> 1102 | G24: €/ha | H24: =IF('Gårdens info'!$G$13>0,F24/'Gårdens info'!$G$13,) -> 0.02204 | I24: €/kg | J24: =F24*'Gårdens info'!$D$13 -> 11020 | K24: €/kålareal | AE24: Utbildning, skatter, stöd, odling | AF24: 6 | AG24: 6 | BD24: =SUM(AF24:BB24) -> 12
C25: SUMMA | F25: =SUM(F17:F24) -> 8009.6733 | G25: €/ha | H25: =SUM(H17:H24) -> 0.16019347 | I25: €/kg | J25: =SUM(J17:J24) -> 80096.733 | K25: €/kålareal | AE25: Bokslut | AH25: 6 | BD25: =SUM(AF25:BB25) -> 6
AB26: Taimet | AC26: =F17 -> 1350 | AE26: Företagshälsovård | AF26: 2 | BD26: =SUM(AF26:BB26) -> 2
B27: ALMÄNNA KOSTNADER, kålens andel | F27: =IF('Gårdens info'!D13>0,J27/'Gårdens info'!D13,0) -> 238.29787 | G27: €/ha | H27: =IF('Gårdens info'!G13>0,F27/'Gårdens info'!G13,0) -> 0.0047659574 | I27: €/kg | J27: ='Gårdens info'!G163/'Gårdens info'!D43*'Gårdens info'!D13 -> 2382.9787 | K27: €/kålareal | AB27: =C18 -> Gödsel och kalk | AC27: =F18 -> 1720 | AE27: Strategisk planering | AF27: 4 | BD27: =SUM(AF27:BB27) -> 4
B28: HYRESKOSTNADER ÅKER, kålens andel | F28: =IF('Gårdens info'!D13>0,J28/'Gårdens info'!D13,0) -> 187.23404 | G28: €/ha | H28: =IF('Gårdens info'!G13>0,F28/'Gårdens info'!G13,0) -> 0.0037446809 | I28: €/kg | J28: ='Gårdens info'!$D$48/'Gårdens info'!$D$49*'Gårdens info'!$G$48*'Gårdens info'!D13 -> 1872.3404 | K28: €/kålareal | AB28: =C19 -> IPM Växtskydd | AC28: =F19 -> 800.1 | AE28: Inköp av produktionsinsatser | AF28: 1 | AH28: 1 | AJ28: 1 | AL28: 1 | AN28: 1 | AP28: 1 | AR28: 1 | AT28: 1 | AV28: 1 | AX28: 1 | AZ28: 1 | BB28: 1 | BD28: =SUM(AF28:BB28) -> 12
B29: Rörliga kostnader sammanlagt | F29: =F25+F27+F28 -> 8435.2052 | G29: €/ha | H29: =H25+H27+H28 -> 0.1687041 | I29: €/kg | J29: =J25+J27+J28 -> 84352.052 | K29: €/kålareal | AB29: =C20 -> Packningsmaterial | AC29: =F20 -> 833.33333 | AE29: Personalledning | AH29: 2 | AJ29: 2 | AL29: 2 | AN29: 4 | AP29: 4 | AR29: 4 | AT29: 4 | AV29: 4 | AX29: 2 | AZ29: 2 | BD29: =SUM(AF29:BB29) -> 30
AB30: =C21 -> Fraktkostnader | AC30: =F21 -> 900 | AE30: Marknadsföring | AH30: 1 | AJ30: 1 | AL30: 1 | AN30: 1 | AP30: 1 | AR30: 1 | AT30: 1 | AV30: 1 | AX30: 1 | AZ30: 1 | BD30: =SUM(AF30:BB30) -> 10
B31: Fasta kostnader, kålens andel | AB31: =C22 -> Maskinkostnader och entreprenad | AC31: =F22 -> 0 | AE31: Arbetsmoment X | BD31: =SUM(AF31:BB31) -> 0
B32: BYGGNADER | AB32: =C23 -> Energikostnader | AC32: =F23 -> 1304.24 | AE32: Arbetsmoment X | BD32: =SUM(AF32:BB32) -> 0
C33: Avskrivning | F33: =IF('Gårdens info'!$D$13>0,J33/'Gårdens info'!$D$13,0) -> 317.88384 | G33: €/ha | H33: =IF('Gårdens info'!$G$13>0,F33/'Gårdens info'!$G$13,0) -> 0.0063576768 | I33: €/kg | J33: =Egendom!AM25 -> 3178.8384 | K33: €/kålareal | AB33: =C24 -> Anställd arbetskraft | AC33: =F24 -> 1102 | AE33: Arbetsmoment X | BD33: =SUM(AF33:BB33) -> 0
C34: Ränta | F34: =IF('Gårdens info'!$D$13>0,J34/'Gårdens info'!$D$13,0) -> 198.6774 | G34: €/ha | H34: =IF('Gårdens info'!$G$13>0,F34/'Gårdens info'!$G$13,0) -> 0.003973548 | I34: €/kg | J34: =Egendom!BK25 -> 1986.774 | K34: €/kålareal | AB34: Allmänna kostnader | AC34: =F27 -> 238.29787 | AE34: SUMMA, H/HA | AF34: =SUM(AF6:AF33) -> 13 | AG34: =SUM(AG6:AG33) -> 9 | AH34: =SUM(AH6:AH33) -> 11 | AI34: =SUM(AI6:AI33) -> 3 | AJ34: =SUM(AJ6:AJ33) -> 5 | AK34: =SUM(AK6:AK33) -> 3 | AL34: =SUM(AL6:AL33) -> 5 | AM34: =SUM(AM6:AM33) -> 0 | ... BD34: =SUM(BD6:BD33) -> 272
C35: Reparation och underhåll | F35: =IF('Gårdens info'!$D$13>0,J35/'Gårdens info'!$D$13,0) -> 79.47096 | G35: €/ha | H35: =IF('Gårdens info'!$G$13>0,F35/'Gårdens info'!$G$13,0) -> 0.0015894192 | I35: €/kg | J35: =Egendom!CI25 -> 794.7096 | K35: €/kålareal | AB35: Hyrestkostnader åker | AC35: =F28 -> 187.23404
C36: Försäkringar | F36: =IF('Gårdens info'!$D$13>0,J36/'Gårdens info'!$D$13,0) -> 15.894192 | G36: €/ha | H36: =IF('Gårdens info'!$G$13>0,F36/'Gårdens info'!$G$13,0) -> 0.00031788384 | I36: €/kg | J36: =Egendom!DG25 -> 158.94192 | K36: €/kålareal | AB36: Byggnader | AC36: =F37 -> 611.92639
C37: SUMMA | F37: =SUM(F33:F36) -> 611.92639 | G37: €/ha | H37: =SUM(H33:H36) -> 0.012238528 | I37: €/kg | J37: =SUM(J33:J36) -> 6119.2639 | K37: €/kålareal | AB37: Maskiner och utrustning | AC37: =F44 -> 700.42695
AB38: Långvariga produktionsmedel | AC38: =F51 -> 96.109189
B39: MASKINER OCH UTRUSTNING | AB39: Täckdik | AC39: =F57 -> 12.765957
C40: Avskrivning | F40: =IF('Gårdens info'!$D$13>0,J40/'Gårdens info'!$D$13,0) -> 377.58865 | G40: €/ha | H40: =IF('Gårdens info'!$G$13>0,F40/'Gårdens info'!$G$13,0) -> 0.007551773 | I40: €/kg | J40: =Egendom!AM61 -> 3775.8865 | K40: €/kålareal | AB40: Lönekrav för eget arbete | AC40: =F63 -> 2842
...

Sheet Förkultivering av kål
B1: FÖRKULTIVERING AV KÅL
B2: TILL FRAMSIDAN
B4: Kalkylen för förkultivering av kålplantor har gjorts som en produktionskostnadskalkyl, där man fastställer ett "pris" för den egenproducerade plantan. Utgångspunkten för kalkylen är att plantor odlas för ett område på 10 hektar. För detta krävs ett förkultiveringsområde på 700 m². I kalkylen har man dock, för att göra den mer användbar, använt kostnad per 100 m² och per planta som enhet. Förkultiveringstiden är cirka 4 veckor. Kalkylen innehåller inga försäljningsintäkter, eftersom utgångsläget är att plantorna används i egen produktion och inte säljs vidare. Kalkylen innehåller mycket bakgrundsinformation och underliggande beräkningar, som du kan komma åt genom att klicka på de understräckade delarna.
B6: PRODUKTIONSKOSTNAD AV KÅLPLANTOR | T6: =C10 -> Frö | U6: =F10 -> #DIV/0!
T7: =C11 -> Substrat | U7: =F11 -> #DIV/0!
B8: Rörliga kostnader | T8: =C12 -> Gödsel och kalk | U8: =F12 -> #DIV/0!
T9: =C13 -> IPM växtskydd | U9: =F13 -> #DIV/0!
C10: Frö | F10: =J10/'Gårdens info'!$D$23*100 -> #DIV/0! | G10: €/100 m2 | H10: =J10/'Gårdens info'!$G$23 -> 0 | I10: €/planta | J10: =J41 -> 0 | K10: €/odlingsareal | T10: =C14 -> Energikostnader | U10: =F14 -> #DIV/0!
C11: Substrat | F11: =J11/'Gårdens info'!$D$23*100 -> #DIV/0! | G11: €/100 m2 | H11: =J11/'Gårdens info'!$G$23 -> 0 | I11: €/planta | J11: =J48 -> 0 | K11: €/odlingsareal | T11: =C15 -> Anställd arbetskraft | U11: =F15 -> #DIV/0!
C12: Gödsel och kalk | F12: =J12/'Gårdens info'!$D$23*100 -> #DIV/0! | G12: €/100 m2 | H12: =J12/'Gårdens info'!$G$23 -> 0.014869565 | I12: €/planta | J12: =J56 -> 684 | K12: €/odlingsareal | T12: =B27 -> Fasta kostnader sammanlagt | U12: =F27 -> #DIV/0!
C13: IPM växtskydd | F13: =J13/'Gårdens info'!$D$23*100 -> #DIV/0! | G13: €/100 m2 | H13: =J13/'Gårdens info'!$G$23 -> 0 | I13: €/planta | J13: =J71 -> 0 | K13: €/odlingsareal | T13: =B29 -> Lönekrav för eget arbete | U13: =F30 -> #DIV/0!
C14: Energikostnader | F14: =J14/'Gårdens info'!$D$23*100 -> #DIV/0! | G14: €/100 m2 | H14: =J14/'Gårdens info'!$G$23 -> 0.019622609 | I14: €/planta | J14: =J81 -> 902.64 | K14: €/odlingsareal
C15: Anställd arbetskraft | F15: =J15/'Gårdens info'!$D$23*100 -> #DIV/0! | G15: €/100 m2 | H15: =J15/'Gårdens info'!$G$23 -> 0 | I15: €/planta | J15: =J98*L98 -> 0 | K15: €/odlingsareal
B17: Rörliga kostnader sammanlagt | F17: =SUM(F10:F15) -> #DIV/0! | G17: €/ha | H17: =SUM(H10:H15) -> 0.034492174 | I17: €/kg | J17: =SUM(J10:J15) -> 1586.64 | K17: €/odlingsareal
B19: Fasta kostnader, kålens andel
B20: BYGGNADER, MASKINER OCH LÅNGVARIGA FÖRNÖDENHET
C21: Avskrivning | F21: =J21/'Gårdens info'!$D$23*100 -> #DIV/0! | G21: €/100 m2 | H21: =J21/'Gårdens info'!$G$23 -> 0.082515652 | I21: €/planta | J21: =N124 -> 3795.72 | K21: €/odlingsareal
C22: Ränta | F22: =J22/'Gårdens info'!$D$23*100 -> #DIV/0! | G22: €/100 m2 | H22: =J22/'Gårdens info'!$G$23 -> 0.026423152 | I22: €/planta | J22: =O124 -> 1215.465 | K22: €/odlingsareal
C23: Reparation och underhåll | F23: =J23/'Gårdens info'!$D$23*100 -> #DIV/0! | G23: €/100 m2 | H23: =J23/'Gårdens info'!$G$23 -> 0.010569261 | I23: €/planta | J23: =P124 -> 486.186 | K23: €/odlingsareal
C24: Försäkringar | F24: =J24/'Gårdens info'!$D$23*100 -> #DIV/0! | G24: €/100 m2 | H24: =J24/'Gårdens info'!$G$23 -> 0.0021138522 | I24: €/planta | J24: =Q124 -> 97.2372 | K24: €/odlingsareal
C25: SUMMA | F25: =SUM(F21:F24) -> #DIV/0! | G25: €/100 m2 | H25: =SUM(H21:H24) -> 0.12162192 | I25: €/planta | J25: =SUM(J21:J24) -> 5594.6082 | K25: €/odlingsareal
B27: Fasta kostnader sammanlagt | F27: =F25 -> #DIV/0! | G27: €/100m2 | H27: =H25 -> 0.12162192 | I27: €/planta | J27: =J25 -> 5594.6082 | K27: €/odlingsareal
B29: Lönekrav för eget arbete
C30: Lönekrav för eget arbete | F30: =J30/'Gårdens info'!$D$23*100 -> #DIV/0! | G30: €/100 m2 | H30: =J30/'Gårdens info'!$G$23 -> 0.02773913 | I30: €/planta | J30: =H98 -> 1276 | K30: €/odlingsareal
B32: Lönekrav för eget arbete sammanlagt | F32: =F30 -> #DIV/0! | G32: €/100m2 | H32: =H30 -> 0.02773913 | I32: €/planta | J32: =J30 -> 1276 | K32: €/odlingsareal
B34: PRODUKTIONSKOSTNADER | F34: =F17+F27+F32 -> #DIV/0! | G34: €/100m2 | H34: =H17+H27+H32 -> 0.18385322 | I34: €/planta | J34: =J17+J27+J32 -> 8457.2482 | K34: €/odlingsareal
B37: PLANTPRODUKTIONSKOSTNADER | L37: TILL SIDANS BÖRJAN
B39: FRÖ | F39: ANTAL | H39: ENHETSPRIS | J39: KOSTNAD PER FÖRKULTIVERINGSOMRÅDE
C41: Frö, betat | F41: 7600 | G41: kpl/100 m2 | H41: 0.029 | I41: €/kpl | J41: =F41*H41*'Gårdens info'!D23/100 -> 0 | K41: €/odlingareal
B44: SUBSTRAT | F44: ANTAL | H44: ENHETSPRIS | J44: KOSTNAD PER FÖRKULTIVERINGSOMRÅDE
C46: Odlingstorv | F46: 2.1 | G46: m3/100 m2 | H46: 115 | I46: €/m3 | J46: =F46*H46*'Gårdens info'!D23/100 -> 0 | K46: €/odlingareal
C47: Substrat X | G47: m3/100 m2 | I47: €/m3 | J47: =F47*H47*'Gårdens info'!D23/100/5 -> 0 | K47: €/odlingareal
C48: SUMMA | J48: =SUM(J46:J47) -> 0 | K48: €/odlingareal
B51: GÖDSEL | F51: ANTAL | H51: ENHETSPRIS | J51: KOSTNAD PER FÖRKULTIVERINGSOMRÅDE
C53: Ferticare 10-52-17, 30 g/planta under hela odlingstiden | F53: =30*F41/1000 -> 228 | G53: kg/100 m2 | H53: 3 | I53: €/kg | J53: =F53*H53 -> 684 | K53: €/odlingareal
C54: Gödsel X | G54: kg/100 m2 | I54: €/kg | J54: =F54*H54 -> 0 | K54: €/odlingareal
C55: Gödsel X | G55: kg/100 m2 | I55: €/kg | J55: =F55*H55 -> 0 | K55: €/odlingareal
C56: SUMMA | J56: =SUM(J53:J55) -> 684 | K56: €/odlingareal
B59: IPM VÄXTSKYDD | F59: ANTAL | H59: ENHETSPRIS | J59: KOSTNAD PER FÖRKULTIVERINGSOMRÅDE
D61: Växtskyddsprogrammet är vägledande, kontrollera godkända ämnen och arter från KemiDigi innan användning.
...

Sheet Insektsnät
B1: ANVÄNDNING AV INSÄKTSNÄT
B2: TILL FRAMSIDAN | AE2: MÅNATLIGA ARBETAANVÄNDNING, H/HA
AE3: I tabellen nedan listas den månatliga arbetsanvändningen, uppdelad i början och slutet av varje månad. Du kan fritt redigera siffrorna i de blåmarkerade cellerna. De årliga totalsummorna från tabellen nedan överförs automatiskt till kalkylens ARBETSANVÄNDNING-tabell.
B4: Ekonomin för användning av insektsnät har granskats med hjälp av kål. I beräkningen jämförs produktionslönsamheten mellan traditionell kemisk bekämpning och användning av insektsnät. Beräkningen hämtar siffrorna för traditionell kålproduktion från fliken 'Kål', som beskriver den traditionella odlingsmetoden med kemisk bekämpning. Under jämförelseberäkningen på denna sida finns en kalkyl för Kålsodling där insektsnät används.
AF5: januari | AH5: februari | AJ5: mars | AL5: april | AN5: maj | AP5: juni | AR5: juli | AT5: augusti | AV5: semptember | AX5: oktober | AZ5: november | BB5: december | BD5: Arbetet sammanlagt
B6: JÄMFÖRELSEBERÄKNING TRADITIONELL KEMISK BEKÄMPNING VS ANVÄNDNING AV INSEKTSNÄT | AE6: Odlingsplanering, dokumentation och kvalitetssystem | AH6: 1 | AJ6: 1 | AL6: 1 | AN6: 1 | AP6: 1 | AR6: 1 | AT6: 1 | AV6: 1 | AX6: 1 | AZ6: 1 | BB6: 1 | BD6: =SUM(AF6:BB6) -> 11 | BE6: timmar/ha
AE7: Produktionsavtal | BD7: =SUM(AF7:BB7) -> 0
F8: Kål, kemisk bekämpning | J8: Kål, användning av insektsnät | AE8: Jordbearbetning | AN8: 3 | BD8: =SUM(AF8:BB8) -> 3
B9: Inkomster | AE9: Mottagning och skötsel av plantor | AN9: 1 | BD9: =SUM(AF9:BB9) -> 1
AE10: Plantering | AO10: 10 | BD10: =SUM(AF10:BB10) -> 10
C11: Försäljningsinkomster | F11: =Kål!F10 -> 37000 | G11: €/ha | J11: =F76 -> 37000 | K11: €/ha | AE11: Gödsel | AN11: 2 | AQ11: 2 | AR11: 2 | BD11: =SUM(AF11:BB11) -> 6
C12: Stöd | F12: =Kål!F11 -> 1027.1 | G12: €/ha | J12: =F77 -> 1027.1 | K12: €/ha | AE12: Installation av bevattningsutrustning | AN12: 4 | BD12: =SUM(AF12:BB12) -> 4
B13: Summa inkomster = omsättning | F13: =SUM(F11:F12) -> 38027.1 | G13: €/ha | J13: =F78 -> 38027.1 | K13: €/ha | AE13: Bevattning | AN13: 3 | AO13: 3 | AP13: 3 | AQ13: 3 | AR13: 3 | AS13: 3 | BD13: =SUM(AF13:BB13) -> 18
AE14: Höstunderhåll av bevattningsutrustning | AT14: 4 | BD14: =SUM(AF14:BB14) -> 4
AE15: Växtskydd, ogräs | AO15: 2 | AP15: 2 | AW15: 2 | BD15: =SUM(AF15:BB15) -> 6
B16: Rörliga kostnader | AE16: Växtskydd, sjukdomar | AP16: 1 | AQ16: 1 | BD16: =SUM(AF16:BB16) -> 2
AE17: Montering och borttagning av insektsnät | AO17: 5 | AP17: 5 | AR17: 5 | AS17: 5 | AT17: 5 | AU17: 5 | BD17: =SUM(AF17:BB17) -> 30
C18: Plantor | F18: =Kål!F17 -> 1350 | G18: €/ha | J18: =F83 -> 1350 | K18: €/ha | AE18: Radrensning | AR18: 20 | AS18: 20 | BD18: =SUM(AF18:BB18) -> 40
C19: Gödsel och kalk | F19: =Kål!F18 -> 1720 | G19: €/ha | J19: =F84 -> 1720 | K19: €/ha | AE19: Rengöring av lager och andra utrymmen | AG19: 3 | AI19: 3 | AK19: 3 | BD19: =SUM(AF19:BB19) -> 9
C20: IPM Växtskydd | F20: =Kål!F19 -> 800.1 | G20: €/ha | J20: =F85 -> 722.1 | K20: €/ha | AE20: Skörd | AW20: 10 | AX20: 10 | BD20: =SUM(AF20:BB20) -> 20
C21: Packningsmaterial | F21: =Kål!F20 -> 833.33333 | G21: €/ha | J21: =F86 -> 833.33333 | K21: €/ha | AE21: Hantering och transport av skörd från åker til lager | AW21: 5 | AX21: 5 | BD21: =SUM(AF21:BB21) -> 10
C22: Fraktkostnader | F22: =Kål!F21 -> 900 | G22: €/ha | J22: =F87 -> 900 | K22: €/ha | AE22: Iordningställande och förpackning för försäljning | AW22: 6 | AX22: 6 | AY22: 6 | AZ22: 6 | BA22: 6 | BB22: 6 | BC22: 6 | BD22: =SUM(AF22:BC22) -> 42
C23: Maskinkostnader och entreprenad | F23: =Kål!F22 -> 0 | G23: €/ha | J23: =F88 -> 0 | K23: €/ha | AE23: Avslutning | AY23: 2 | AZ23: 2 | BD23: =SUM(AF23:BC23) -> 4
C24: Energikostnader | F24: =Kål!F23 -> 1304.24 | G24: €/ha | J24: =F89 -> 1334.12 | K24: €/ha | AE24: Utbildning, skatter, stöd, odling | AF24: 6 | AG24: 6 | BD24: =SUM(AF24:BB24) -> 12
C25: Anställd arbetskraft | F25: =Kål!F24 -> 1102 | G25: €/ha | J25: =F90 -> 1319.5 | K25: €/ha | AE25: Bokslut | AH25: 6 | BD25: =SUM(AF25:BB25) -> 6
C26: SUMMA | F26: =Kål!F25 -> 8009.6733 | G26: €/ha | J26: =F91 -> 8179.0533 | K26: €/ha | AE26: Företagshälsovård | AF26: 2 | BD26: =SUM(AF26:BB26) -> 2
AE27: Strategisk planering | AF27: 4 | BD27: =SUM(AF27:BB27) -> 4
B28: ALLMÄNNA KOSTNADER, kålens andel | F28: =Kål!F27 -> 238.29787 | G28: €/ha | J28: =F93 -> 238.29787 | K28: €/ha | AE28: Inköp av produktionsinsatser | AF28: 1 | AH28: 1 | AJ28: 1 | AL28: 1 | AN28: 1 | AP28: 1 | AR28: 1 | AT28: 1 | AV28: 1 | AX28: 1 | AZ28: 1 | BB28: 1 | BD28: =SUM(AF28:BB28) -> 12
B29: HYRESKOSTNADER ÅKER, kålens andel | F29: =Kål!F28 -> 187.23404 | G29: €/ha | J29: =F94 -> 187.23404 | K29: €/ha | AE29: Personalledning | AH29: 2 | AJ29: 2 | AL29: 2 | AN29: 4 | AP29: 4 | AR29: 4 | AT29: 4 | AV29: 4 | AX29: 2 | AZ29: 2 | BD29: =SUM(AF29:BB29) -> 30
B30: Rörliga kostnader sammanlagt | F30: =Kål!F29 -> 8435.2052 | G30: €/ha | J30: =F95 -> 8604.5852 | K30: €/ha | AE30: Marknadsföring | AH30: 1 | AJ30: 1 | AL30: 1 | AN30: 1 | AP30: 1 | AR30: 1 | AT30: 1 | AV30: 1 | AX30: 1 | AZ30: 1 | BD30: =SUM(AF30:BB30) -> 10
AE31: Arbetsmoment X | BD31: =SUM(AF31:BB31) -> 0
B32: Fasta kostnader, kålens andel | AE32: Arbetsmoment X | BD32: =SUM(AF32:BB32) -> 0
B33: BYGGNADER | AE33: Arbetsmoment X | BD33: =SUM(AF33:BB33) -> 0
C34: Avskrivning | F34: =Kål!F33 -> 317.88384 | G34: €/ha | J34: =F99 -> 317.88384 | K34: €/ha | AE34: SUMMA, H/HA | AF34: =SUM(AF6:AF33) -> 13 | AG34: =SUM(AG6:AG33) -> 9 | AH34: =SUM(AH6:AH33) -> 11 | AI34: =SUM(AI6:AI33) -> 3 | AJ34: =SUM(AJ6:AJ33) -> 5 | AK34: =SUM(AK6:AK33) -> 3 | AL34: =SUM(AL6:AL33) -> 5 | AM34: =SUM(AM6:AM33) -> 0 | ... BD34: =SUM(BD6:BD33) -> 296
C35: Ränta | F35: =Kål!F34 -> 198.6774 | G35: €/ha | J35: =F100 -> 198.6774 | K35: €/ha
C36: Reparation och underhåll | F36: =Kål!F35 -> 79.47096 | G36: €/ha | J36: =F101 -> 79.47096 | K36: €/ha
C37: Försäkringar | F37: =Kål!F36 -> 15.894192 | G37: €/ha | J37: =F102 -> 15.894192 | K37: €/ha
C38: SUMMA | F38: =Kål!F37 -> 611.92639 | G38: €/ha | J38: =F103 -> 611.92639 | K38: €/ha
B40: MASKIN OCH UTRUSTNING
C41: Avskrivning | F41: =Kål!F40 -> 377.58865 | G41: €/ha | J41: =F106 -> 377.58865 | K41: €/ha
...

Sheet Lök
B1: LÖK
B2: TILL FRAMSIDAN | AE2: MÅNATLIGA ARBETAANVÄNDNING, H/HA
AE3: I tabellen nedan listas den månatliga arbetsanvändningen, uppdelad i början och slutet av varje månad. Du kan fritt redigera siffrorna i de blåmarkerade cellerna. De årliga totalsummorna från tabellen nedan överförs automatiskt till kalkylens ARBETSANVÄNDNING-tabell.
B4: Lönsamhetskalkylerna består först av inkomsterna. Därefter kommer utgifterna. Kalkylerna innehåller mycket bakgrundsinformation och bakgrundsuträkningar, dit du kommer genom att klicka på de understräckade delarna.
AF5: januari | AH5: februari | AJ5: mars | AL5: april | AN5: maj | AP5: juni | AR5: juli | AT5: augusti | AV5: semptember | AX5: oktober | AZ5: november | BB5: december | BD5: Arbetet sammanlagt
B6: LÖNSAMHET FÖR KONVENTIONELLT ODLAD LÖK | AE6: Odlingsplanering, dokumentation och kvalitetssystem | AH6: 1 | AJ6: 1 | AL6: 1 | AN6: 1 | AP6: 1 | AR6: 1 | AT6: 1 | AV6: 1 | AX6: 1 | AZ6: 1 | BB6: 1 | BD6: =SUM(AF6:BB6) -> 11 | BE6: timmar/ha
AE7: Produktionsavtal | AZ7: 1 | BD7: =SUM(AF7:BB7) -> 1
B8: Inkomster | N8: Försäljningsinkomster | AE8: Jordbearbetning | AM8: 3 | BD8: =SUM(AF8:BB8) -> 3
C9: Försäljningsinkomster | F9: =H9*'Gårdens info'!G14 -> 29200 | G9: €/ha | H9: =IF('Gårdens info'!G14>0,(('Gårdens info'!D14*'Gårdens info'!G14*S10*T10)+('Gårdens info'!D14*'Gårdens info'!G14*S11*T11)+('Gårdens info'!D14*'Gårdens info'!G14*S12*T12)+('Gårdens info'!D14*'Gårdens info'!G14*S13*T13)+('Gårdens info'!D14*'Gårdens info'!G14*S14*T14)+('Gårdens info'!D14*'Gårdens info'!G14*S15*T15)+('Gårdens info'!D14*'Gårdens info'!G14*S16*T16)+('Gårdens info'!D14*'Gårdens info'!G14*S17*T17))/(('Gårdens info'!D14*'Gårdens info'!G14)),0) -> 0.73 | I9: €/kg | J9: =F9*'Gårdens info'!D14 -> 58400 | K9: €/lökareal | O9: Försäljningsstorlek | S9: ANDEL AV FÖRSÄLJNING | T9: PRIS | AE9: Plantering av sättlöken | AM9: 4 | BD9: =SUM(AF9:BB9) -> 4
C10: Stöd | F10: =IF('Gårdens info'!D14>0,Stöd!L15,0) -> 1027.1 | G10: €/ha | H10: =IF('Gårdens info'!G14>0,F10/'Gårdens info'!G14,0) -> 0.0256775 | I10: €/kg | J10: =F10*'Gårdens info'!D14 -> 2054.2 | K10: €/lökareal | O10: 1 | P10: kg | Q10: påse | S10: 0 | U10: €/kg | AE10: Gödsel | AN10: 2 | BD10: =SUM(AF10:BB10) -> 2
B11: Summa inkomster = omsättning | F11: =F9+F10 -> 30227.1 | G11: €/ha | H11: =H9+H10 -> 0.7556775 | I11: €/kg | J11: =J9+J10 -> 60454.2 | K11: €/lökareal | O11: 0.25 | P11: kg | Q11: knippe | S11: 0 | U11: €/kg | AE11: Installation av bevattningsutrustning | AN11: 4 | BD11: =SUM(AF11:BB11) -> 4
O12: 0.5 | P12: kg | Q12: påse | S12: 0.5 | T12: 0.74 | U12: €/kg | AE12: Bevattning | AN12: 3 | AO12: 3 | AP12: 3 | AQ12: 3 | AR12: 3 | AS12: 3 | BD12: =SUM(AF12:BB12) -> 18
O13: 10 | P13: kg | Q13: säck | S13: 0.5 | T13: 0.72 | U13: €/kg | AE13: Höstunderhåll av bevattningsutrustning | AT13: 4 | BD13: =SUM(AF13:BB13) -> 4
B14: Rörliga kostnader | O14: =D113 -> 0 | P14: kg | Q14: =C113 -> förpackning X | S14: 0 | U14: €/kg | AE14: Växtskydd, ogräs | AP14: 2 | AQ14: 2 | AW14: 2 | BD14: =SUM(AF14:BB14) -> 6
O15: =D114 -> 0 | P15: kg | Q15: =C114 -> förpackning X | S15: 0 | U15: €/kg | AE15: Växtskydd, sjukdomar | AR15: 2 | AS15: 2 | BD15: =SUM(AF15:BB15) -> 4
C16: Sättlök | F16: =IF('Gårdens info'!D14>0,J73,0) -> 1430 | G16: €/ha | H16: =IF('Gårdens info'!$G$14>0,F16/'Gårdens info'!$G$14,0) -> 0.03575 | I16: €/kg | J16: =F16*'Gårdens info'!$D$14 -> 2860 | K16: €/lökareal | O16: =D115 -> 0 | P16: kg | Q16: =C115 -> förpackning X | S16: 0 | U16: €/kg | AE16: Växtskydd, skadedjur | AT16: 2 | AU16: 2 | BD16: =SUM(AF16:BB16) -> 4
C17: Gödsel och kalk | F17: =IF('Gårdens info'!D14>0,J83,0) -> 1288 | G17: €/ha | H17: =IF('Gårdens info'!$G$14>0,F17/'Gårdens info'!$G$14,0) -> 0.0322 | I17: €/kg | J17: =F17*'Gårdens info'!$D$14 -> 2576 | K17: €/lökareal | O17: =D116 -> 0 | P17: kg | Q17: förpackning X | S17: 0 | U17: €/kg | AE17: Radrensning | AR17: 20 | AS17: 20 | BD17: =SUM(AF17:BB17) -> 40
C18: IPM Växtskydd | F18: =IF('Gårdens info'!D14>0,J104,0) -> 238.3935 | G18: €/ha | H18: =IF('Gårdens info'!$G$14>0,F18/'Gårdens info'!$G$14,0) -> 0.0059598375 | I18: €/kg | J18: =F18*'Gårdens info'!$D$14 -> 476.787 | K18: €/lökareal | O18: SUMMA | S18: =SUM(S10:S17) -> 1 | AE18: Rengöring av lager och andra utrymmen | AG18: 3 | AI18: 3 | AK18: 3 | BD18: =SUM(AF18:BB18) -> 9
C19: Packningsmaterial | F19: =IF('Gårdens info'!D14>0,J117,0) -> 1200 | G19: €/ha | H19: =IF('Gårdens info'!$G$14>0,F19/'Gårdens info'!$G$14,0) -> 0.03 | I19: €/kg | J19: =F19*'Gårdens info'!$D$14 -> 2400 | K19: €/lökareal | O19: =IF(S18=100%," ","HUOM! Osuus myyynneistä pitää summautua 100 prosenttiin") | AE19: Skörd | AV19: 10 | AW19: 10 | BD19: =SUM(AF19:BB19) -> 20
C20: Fraktkostnader | F20: =IF('Gårdens info'!D14>0,J125,0) -> 1280 | G20: €/ha | H20: =IF('Gårdens info'!$G$14>0,F20/'Gårdens info'!$G$14,0) -> 0.032 | I20: €/kg | J20: =F20*'Gårdens info'!$D$14 -> 2560 | K20: €/lökareal | AE20: Hantering och transport av skörd från åker til lager | AV20: 5 | AW20: 5 | BD20: =SUM(AF20:BB20) -> 10
C21: Maskinkostnader och entreprenad | F21: =IF('Gårdens info'!D14>0,J133,0) -> 0 | G21: €/ha | H21: =IF('Gårdens info'!$G$14>0,F21/'Gårdens info'!$G$14,0) -> 0 | I21: €/kg | J21: =F21*'Gårdens info'!$D$14 -> 0 | K21: €/lökareal | AE21: Iordningställande och förpackning för försäljning | AW21: 4 | AX21: 4 | AY21: 4 | AZ21: 4 | BA21: 4 | BB21: 4 | BC21: 4 | BD21: =SUM(AF21:BC21) -> 28
C22: Energikostnader | F22: =IF('Gårdens info'!D14>0,J145,0) -> 2639 | G22: €/ha | H22: =IF('Gårdens info'!$G$14>0,F22/'Gårdens info'!$G$14,0) -> 0.065975 | I22: €/kg | J22: =F22*'Gårdens info'!$D$14 -> 5278 | K22: €/lökareal | AE22: Utbildning, skatter, stöd, odling | AF22: 6 | AG22: 6 | BD22: =SUM(AF22:BB22) -> 12
